BEGIN:VCALENDAR
VERSION:2.0
PRODID:-//BeNourished - ECPv6.14.0//NONSGML v1.0//EN
CALSCALE:GREGORIAN
METHOD:PUBLISH
X-WR-CALNAME:BeNourished
X-ORIGINAL-URL:https://jenniferkurdyla.com
X-WR-CALDESC:Events for BeNourished
REFRESH-INTERVAL;VALUE=DURATION:PT1H
X-Robots-Tag:noindex
X-PUBLISHED-TTL:PT1H
BEGIN:VTIMEZONE
TZID:America/New_York
BEGIN:DAYLIGHT
TZOFFSETFROM:-0500
TZOFFSETTO:-0400
TZNAME:EDT
DTSTART:20270314T070000
END:DAYLIGHT
BEGIN:STANDARD
TZOFFSETFROM:-0400
TZOFFSETTO:-0500
TZNAME:EST
DTSTART:20271107T060000
END:STANDARD
END:VTIMEZONE
BEGIN:VEVENT
DTSTART;TZID=America/New_York:20270329T090000
DTEND;TZID=America/New_York:20270329T100000
DTSTAMP:20260419T131130
CREATED:20240917T234220Z
LAST-MODIFIED:20240917T234220Z
UID:10002597-1806310800-1806314400@jenniferkurdyla.com
SUMMARY:Strength: Flow Yoga
DESCRIPTION:
URL:https://jenniferkurdyla.com/event/strength-flow-yoga/2027-03-29/
LOCATION:YogaSole\, 254 Windsor Place\, Brooklyn\, NY\, 11215\, United States
CATEGORIES:in-person yoga
END:VEVENT
BEGIN:VEVENT
DTSTART;TZID=America/New_York:20270330T090000
DTEND;TZID=America/New_York:20270330T101500
DTSTAMP:20260419T131130
CREATED:20250930T183416Z
LAST-MODIFIED:20250930T183416Z
UID:10004681-1806397200-1806401700@jenniferkurdyla.com
SUMMARY:Every Body Yoga
DESCRIPTION:
URL:https://jenniferkurdyla.com/event/every-body-yoga/2027-03-30/
LOCATION:Brooklyn Artery\, Cortelyou Road 1004\, Brooklyn\, NY\, 11218\, United States
CATEGORIES:in-person yoga
GEO:40.6391752;-73.9684262
X-APPLE-STRUCTURED-LOCATION;VALUE=URI;X-ADDRESS=Brooklyn Artery Cortelyou Road 1004 Brooklyn NY 11218 United States;X-APPLE-RADIUS=500;X-TITLE=Cortelyou Road 1004:geo:-73.9684262,40.6391752
END:VEVENT
BEGIN:VEVENT
DTSTART;TZID=America/New_York:20270330T183000
DTEND;TZID=America/New_York:20270330T193000
DTSTAMP:20260419T131130
CREATED:20260226T014012Z
LAST-MODIFIED:20260226T014012Z
UID:10005045-1806431400-1806435000@jenniferkurdyla.com
SUMMARY:Yoga Flow
DESCRIPTION:
URL:https://jenniferkurdyla.com/event/yoga-flow-3/2027-03-30/
LOCATION:YogaSole\, 254 Windsor Place\, Brooklyn\, NY\, 11215\, United States
CATEGORIES:in-person yoga
END:VEVENT
BEGIN:VEVENT
DTSTART;TZID=America/New_York:20270401T073000
DTEND;TZID=America/New_York:20270401T083000
DTSTAMP:20260419T131130
CREATED:20260226T014120Z
LAST-MODIFIED:20260226T014120Z
UID:10005103-1806564600-1806568200@jenniferkurdyla.com
SUMMARY:Yoga Flow
DESCRIPTION:
URL:https://jenniferkurdyla.com/event/yoga-flow-4/2027-04-01/
LOCATION:YogaSole\, 254 Windsor Place\, Brooklyn\, NY\, 11215\, United States
CATEGORIES:in-person yoga
END:VEVENT
BEGIN:VEVENT
DTSTART;TZID=America/New_York:20270404T171500
DTEND;TZID=America/New_York:20270404T181500
DTSTAMP:20260419T131130
CREATED:20240205T204129Z
LAST-MODIFIED:20240205T204130Z
UID:10001745-1806858900-1806862500@jenniferkurdyla.com
SUMMARY:Foundations of Yoga
DESCRIPTION:Register at Arise Yoga Brooklyn: https://www.arise.yoga/brooklyn-schedule
URL:https://jenniferkurdyla.com/event/foundations-of-yoga-2/2027-04-04/
LOCATION:Arise Yoga Brooklyn\, 730 Franklin Ave.\, Brooklyn\, NY
CATEGORIES:in-person yoga
GEO:40.6737017;-73.9571291
X-APPLE-STRUCTURED-LOCATION;VALUE=URI;X-ADDRESS=Arise Yoga Brooklyn 730 Franklin Ave. Brooklyn NY;X-APPLE-RADIUS=500;X-TITLE=730 Franklin Ave.:geo:-73.9571291,40.6737017
END:VEVENT
BEGIN:VEVENT
DTSTART;TZID=America/New_York:20270405T090000
DTEND;TZID=America/New_York:20270405T100000
DTSTAMP:20260419T131130
CREATED:20240917T234220Z
LAST-MODIFIED:20240917T234220Z
UID:10002598-1806915600-1806919200@jenniferkurdyla.com
SUMMARY:Strength: Flow Yoga
DESCRIPTION:
URL:https://jenniferkurdyla.com/event/strength-flow-yoga/2027-04-05/
LOCATION:YogaSole\, 254 Windsor Place\, Brooklyn\, NY\, 11215\, United States
CATEGORIES:in-person yoga
END:VEVENT
BEGIN:VEVENT
DTSTART;TZID=America/New_York:20270406T090000
DTEND;TZID=America/New_York:20270406T101500
DTSTAMP:20260419T131130
CREATED:20250930T183416Z
LAST-MODIFIED:20250930T183416Z
UID:10004682-1807002000-1807006500@jenniferkurdyla.com
SUMMARY:Every Body Yoga
DESCRIPTION:
URL:https://jenniferkurdyla.com/event/every-body-yoga/2027-04-06/
LOCATION:Brooklyn Artery\, Cortelyou Road 1004\, Brooklyn\, NY\, 11218\, United States
CATEGORIES:in-person yoga
GEO:40.6391752;-73.9684262
X-APPLE-STRUCTURED-LOCATION;VALUE=URI;X-ADDRESS=Brooklyn Artery Cortelyou Road 1004 Brooklyn NY 11218 United States;X-APPLE-RADIUS=500;X-TITLE=Cortelyou Road 1004:geo:-73.9684262,40.6391752
END:VEVENT
BEGIN:VEVENT
DTSTART;TZID=America/New_York:20270408T073000
DTEND;TZID=America/New_York:20270408T083000
DTSTAMP:20260419T131130
CREATED:20260226T014120Z
LAST-MODIFIED:20260226T014120Z
UID:10005104-1807169400-1807173000@jenniferkurdyla.com
SUMMARY:Yoga Flow
DESCRIPTION:
URL:https://jenniferkurdyla.com/event/yoga-flow-4/2027-04-08/
LOCATION:YogaSole\, 254 Windsor Place\, Brooklyn\, NY\, 11215\, United States
CATEGORIES:in-person yoga
END:VEVENT
BEGIN:VEVENT
DTSTART;TZID=America/New_York:20270411T171500
DTEND;TZID=America/New_York:20270411T181500
DTSTAMP:20260419T131130
CREATED:20240205T204129Z
LAST-MODIFIED:20240205T204130Z
UID:10001746-1807463700-1807467300@jenniferkurdyla.com
SUMMARY:Foundations of Yoga
DESCRIPTION:Register at Arise Yoga Brooklyn: https://www.arise.yoga/brooklyn-schedule
URL:https://jenniferkurdyla.com/event/foundations-of-yoga-2/2027-04-11/
LOCATION:Arise Yoga Brooklyn\, 730 Franklin Ave.\, Brooklyn\, NY
CATEGORIES:in-person yoga
GEO:40.6737017;-73.9571291
X-APPLE-STRUCTURED-LOCATION;VALUE=URI;X-ADDRESS=Arise Yoga Brooklyn 730 Franklin Ave. Brooklyn NY;X-APPLE-RADIUS=500;X-TITLE=730 Franklin Ave.:geo:-73.9571291,40.6737017
END:VEVENT
BEGIN:VEVENT
DTSTART;TZID=America/New_York:20270412T090000
DTEND;TZID=America/New_York:20270412T100000
DTSTAMP:20260419T131130
CREATED:20240917T234220Z
LAST-MODIFIED:20240917T234220Z
UID:10002599-1807520400-1807524000@jenniferkurdyla.com
SUMMARY:Strength: Flow Yoga
DESCRIPTION:
URL:https://jenniferkurdyla.com/event/strength-flow-yoga/2027-04-12/
LOCATION:YogaSole\, 254 Windsor Place\, Brooklyn\, NY\, 11215\, United States
CATEGORIES:in-person yoga
END:VEVENT
BEGIN:VEVENT
DTSTART;TZID=America/New_York:20270413T090000
DTEND;TZID=America/New_York:20270413T101500
DTSTAMP:20260419T131130
CREATED:20250930T183416Z
LAST-MODIFIED:20250930T183416Z
UID:10004683-1807606800-1807611300@jenniferkurdyla.com
SUMMARY:Every Body Yoga
DESCRIPTION:
URL:https://jenniferkurdyla.com/event/every-body-yoga/2027-04-13/
LOCATION:Brooklyn Artery\, Cortelyou Road 1004\, Brooklyn\, NY\, 11218\, United States
CATEGORIES:in-person yoga
GEO:40.6391752;-73.9684262
X-APPLE-STRUCTURED-LOCATION;VALUE=URI;X-ADDRESS=Brooklyn Artery Cortelyou Road 1004 Brooklyn NY 11218 United States;X-APPLE-RADIUS=500;X-TITLE=Cortelyou Road 1004:geo:-73.9684262,40.6391752
END:VEVENT
BEGIN:VEVENT
DTSTART;TZID=America/New_York:20270415T073000
DTEND;TZID=America/New_York:20270415T083000
DTSTAMP:20260419T131130
CREATED:20260226T014120Z
LAST-MODIFIED:20260226T014120Z
UID:10005105-1807774200-1807777800@jenniferkurdyla.com
SUMMARY:Yoga Flow
DESCRIPTION:
URL:https://jenniferkurdyla.com/event/yoga-flow-4/2027-04-15/
LOCATION:YogaSole\, 254 Windsor Place\, Brooklyn\, NY\, 11215\, United States
CATEGORIES:in-person yoga
END:VEVENT
BEGIN:VEVENT
DTSTART;TZID=America/New_York:20270418T171500
DTEND;TZID=America/New_York:20270418T181500
DTSTAMP:20260419T131130
CREATED:20240205T204129Z
LAST-MODIFIED:20240205T204130Z
UID:10001747-1808068500-1808072100@jenniferkurdyla.com
SUMMARY:Foundations of Yoga
DESCRIPTION:Register at Arise Yoga Brooklyn: https://www.arise.yoga/brooklyn-schedule
URL:https://jenniferkurdyla.com/event/foundations-of-yoga-2/2027-04-18/
LOCATION:Arise Yoga Brooklyn\, 730 Franklin Ave.\, Brooklyn\, NY
CATEGORIES:in-person yoga
GEO:40.6737017;-73.9571291
X-APPLE-STRUCTURED-LOCATION;VALUE=URI;X-ADDRESS=Arise Yoga Brooklyn 730 Franklin Ave. Brooklyn NY;X-APPLE-RADIUS=500;X-TITLE=730 Franklin Ave.:geo:-73.9571291,40.6737017
END:VEVENT
BEGIN:VEVENT
DTSTART;TZID=America/New_York:20270419T090000
DTEND;TZID=America/New_York:20270419T100000
DTSTAMP:20260419T131130
CREATED:20240917T234220Z
LAST-MODIFIED:20240917T234220Z
UID:10002600-1808125200-1808128800@jenniferkurdyla.com
SUMMARY:Strength: Flow Yoga
DESCRIPTION:
URL:https://jenniferkurdyla.com/event/strength-flow-yoga/2027-04-19/
LOCATION:YogaSole\, 254 Windsor Place\, Brooklyn\, NY\, 11215\, United States
CATEGORIES:in-person yoga
END:VEVENT
BEGIN:VEVENT
DTSTART;TZID=America/New_York:20270420T090000
DTEND;TZID=America/New_York:20270420T101500
DTSTAMP:20260419T131130
CREATED:20250930T183416Z
LAST-MODIFIED:20250930T183416Z
UID:10004684-1808211600-1808216100@jenniferkurdyla.com
SUMMARY:Every Body Yoga
DESCRIPTION:
URL:https://jenniferkurdyla.com/event/every-body-yoga/2027-04-20/
LOCATION:Brooklyn Artery\, Cortelyou Road 1004\, Brooklyn\, NY\, 11218\, United States
CATEGORIES:in-person yoga
GEO:40.6391752;-73.9684262
X-APPLE-STRUCTURED-LOCATION;VALUE=URI;X-ADDRESS=Brooklyn Artery Cortelyou Road 1004 Brooklyn NY 11218 United States;X-APPLE-RADIUS=500;X-TITLE=Cortelyou Road 1004:geo:-73.9684262,40.6391752
END:VEVENT
BEGIN:VEVENT
DTSTART;TZID=America/New_York:20270422T073000
DTEND;TZID=America/New_York:20270422T083000
DTSTAMP:20260419T131130
CREATED:20260226T014120Z
LAST-MODIFIED:20260226T014120Z
UID:10005106-1808379000-1808382600@jenniferkurdyla.com
SUMMARY:Yoga Flow
DESCRIPTION:
URL:https://jenniferkurdyla.com/event/yoga-flow-4/2027-04-22/
LOCATION:YogaSole\, 254 Windsor Place\, Brooklyn\, NY\, 11215\, United States
CATEGORIES:in-person yoga
END:VEVENT
BEGIN:VEVENT
DTSTART;TZID=America/New_York:20270425T171500
DTEND;TZID=America/New_York:20270425T181500
DTSTAMP:20260419T131130
CREATED:20240205T204129Z
LAST-MODIFIED:20240205T204130Z
UID:10001748-1808673300-1808676900@jenniferkurdyla.com
SUMMARY:Foundations of Yoga
DESCRIPTION:Register at Arise Yoga Brooklyn: https://www.arise.yoga/brooklyn-schedule
URL:https://jenniferkurdyla.com/event/foundations-of-yoga-2/2027-04-25/
LOCATION:Arise Yoga Brooklyn\, 730 Franklin Ave.\, Brooklyn\, NY
CATEGORIES:in-person yoga
GEO:40.6737017;-73.9571291
X-APPLE-STRUCTURED-LOCATION;VALUE=URI;X-ADDRESS=Arise Yoga Brooklyn 730 Franklin Ave. Brooklyn NY;X-APPLE-RADIUS=500;X-TITLE=730 Franklin Ave.:geo:-73.9571291,40.6737017
END:VEVENT
BEGIN:VEVENT
DTSTART;TZID=America/New_York:20270426T090000
DTEND;TZID=America/New_York:20270426T100000
DTSTAMP:20260419T131130
CREATED:20240917T234220Z
LAST-MODIFIED:20240917T234220Z
UID:10002601-1808730000-1808733600@jenniferkurdyla.com
SUMMARY:Strength: Flow Yoga
DESCRIPTION:
URL:https://jenniferkurdyla.com/event/strength-flow-yoga/2027-04-26/
LOCATION:YogaSole\, 254 Windsor Place\, Brooklyn\, NY\, 11215\, United States
CATEGORIES:in-person yoga
END:VEVENT
BEGIN:VEVENT
DTSTART;TZID=America/New_York:20270427T090000
DTEND;TZID=America/New_York:20270427T101500
DTSTAMP:20260419T131130
CREATED:20250930T183416Z
LAST-MODIFIED:20250930T183416Z
UID:10004685-1808816400-1808820900@jenniferkurdyla.com
SUMMARY:Every Body Yoga
DESCRIPTION:
URL:https://jenniferkurdyla.com/event/every-body-yoga/2027-04-27/
LOCATION:Brooklyn Artery\, Cortelyou Road 1004\, Brooklyn\, NY\, 11218\, United States
CATEGORIES:in-person yoga
GEO:40.6391752;-73.9684262
X-APPLE-STRUCTURED-LOCATION;VALUE=URI;X-ADDRESS=Brooklyn Artery Cortelyou Road 1004 Brooklyn NY 11218 United States;X-APPLE-RADIUS=500;X-TITLE=Cortelyou Road 1004:geo:-73.9684262,40.6391752
END:VEVENT
BEGIN:VEVENT
DTSTART;TZID=America/New_York:20270429T073000
DTEND;TZID=America/New_York:20270429T083000
DTSTAMP:20260419T131130
CREATED:20260226T014120Z
LAST-MODIFIED:20260226T014120Z
UID:10005107-1808983800-1808987400@jenniferkurdyla.com
SUMMARY:Yoga Flow
DESCRIPTION:
URL:https://jenniferkurdyla.com/event/yoga-flow-4/2027-04-29/
LOCATION:YogaSole\, 254 Windsor Place\, Brooklyn\, NY\, 11215\, United States
CATEGORIES:in-person yoga
END:VEVENT
BEGIN:VEVENT
DTSTART;TZID=America/New_York:20270502T171500
DTEND;TZID=America/New_York:20270502T181500
DTSTAMP:20260419T131130
CREATED:20240205T204129Z
LAST-MODIFIED:20240205T204130Z
UID:10001749-1809278100-1809281700@jenniferkurdyla.com
SUMMARY:Foundations of Yoga
DESCRIPTION:Register at Arise Yoga Brooklyn: https://www.arise.yoga/brooklyn-schedule
URL:https://jenniferkurdyla.com/event/foundations-of-yoga-2/2027-05-02/
LOCATION:Arise Yoga Brooklyn\, 730 Franklin Ave.\, Brooklyn\, NY
CATEGORIES:in-person yoga
GEO:40.6737017;-73.9571291
X-APPLE-STRUCTURED-LOCATION;VALUE=URI;X-ADDRESS=Arise Yoga Brooklyn 730 Franklin Ave. Brooklyn NY;X-APPLE-RADIUS=500;X-TITLE=730 Franklin Ave.:geo:-73.9571291,40.6737017
END:VEVENT
BEGIN:VEVENT
DTSTART;TZID=America/New_York:20270503T090000
DTEND;TZID=America/New_York:20270503T100000
DTSTAMP:20260419T131130
CREATED:20240917T234220Z
LAST-MODIFIED:20240917T234220Z
UID:10002602-1809334800-1809338400@jenniferkurdyla.com
SUMMARY:Strength: Flow Yoga
DESCRIPTION:
URL:https://jenniferkurdyla.com/event/strength-flow-yoga/2027-05-03/
LOCATION:YogaSole\, 254 Windsor Place\, Brooklyn\, NY\, 11215\, United States
CATEGORIES:in-person yoga
END:VEVENT
BEGIN:VEVENT
DTSTART;TZID=America/New_York:20270504T090000
DTEND;TZID=America/New_York:20270504T101500
DTSTAMP:20260419T131130
CREATED:20250930T183416Z
LAST-MODIFIED:20250930T183416Z
UID:10004686-1809421200-1809425700@jenniferkurdyla.com
SUMMARY:Every Body Yoga
DESCRIPTION:
URL:https://jenniferkurdyla.com/event/every-body-yoga/2027-05-04/
LOCATION:Brooklyn Artery\, Cortelyou Road 1004\, Brooklyn\, NY\, 11218\, United States
CATEGORIES:in-person yoga
GEO:40.6391752;-73.9684262
X-APPLE-STRUCTURED-LOCATION;VALUE=URI;X-ADDRESS=Brooklyn Artery Cortelyou Road 1004 Brooklyn NY 11218 United States;X-APPLE-RADIUS=500;X-TITLE=Cortelyou Road 1004:geo:-73.9684262,40.6391752
END:VEVENT
BEGIN:VEVENT
DTSTART;TZID=America/New_York:20270506T073000
DTEND;TZID=America/New_York:20270506T083000
DTSTAMP:20260419T131130
CREATED:20260226T014120Z
LAST-MODIFIED:20260226T014120Z
UID:10005108-1809588600-1809592200@jenniferkurdyla.com
SUMMARY:Yoga Flow
DESCRIPTION:
URL:https://jenniferkurdyla.com/event/yoga-flow-4/2027-05-06/
LOCATION:YogaSole\, 254 Windsor Place\, Brooklyn\, NY\, 11215\, United States
CATEGORIES:in-person yoga
END:VEVENT
BEGIN:VEVENT
DTSTART;TZID=America/New_York:20270509T171500
DTEND;TZID=America/New_York:20270509T181500
DTSTAMP:20260419T131130
CREATED:20240205T204129Z
LAST-MODIFIED:20240205T204130Z
UID:10001750-1809882900-1809886500@jenniferkurdyla.com
SUMMARY:Foundations of Yoga
DESCRIPTION:Register at Arise Yoga Brooklyn: https://www.arise.yoga/brooklyn-schedule
URL:https://jenniferkurdyla.com/event/foundations-of-yoga-2/2027-05-09/
LOCATION:Arise Yoga Brooklyn\, 730 Franklin Ave.\, Brooklyn\, NY
CATEGORIES:in-person yoga
GEO:40.6737017;-73.9571291
X-APPLE-STRUCTURED-LOCATION;VALUE=URI;X-ADDRESS=Arise Yoga Brooklyn 730 Franklin Ave. Brooklyn NY;X-APPLE-RADIUS=500;X-TITLE=730 Franklin Ave.:geo:-73.9571291,40.6737017
END:VEVENT
BEGIN:VEVENT
DTSTART;TZID=America/New_York:20270510T090000
DTEND;TZID=America/New_York:20270510T100000
DTSTAMP:20260419T131130
CREATED:20240917T234220Z
LAST-MODIFIED:20240917T234220Z
UID:10002603-1809939600-1809943200@jenniferkurdyla.com
SUMMARY:Strength: Flow Yoga
DESCRIPTION:
URL:https://jenniferkurdyla.com/event/strength-flow-yoga/2027-05-10/
LOCATION:YogaSole\, 254 Windsor Place\, Brooklyn\, NY\, 11215\, United States
CATEGORIES:in-person yoga
END:VEVENT
BEGIN:VEVENT
DTSTART;TZID=America/New_York:20270511T090000
DTEND;TZID=America/New_York:20270511T101500
DTSTAMP:20260419T131130
CREATED:20250930T183416Z
LAST-MODIFIED:20250930T183416Z
UID:10004687-1810026000-1810030500@jenniferkurdyla.com
SUMMARY:Every Body Yoga
DESCRIPTION:
URL:https://jenniferkurdyla.com/event/every-body-yoga/2027-05-11/
LOCATION:Brooklyn Artery\, Cortelyou Road 1004\, Brooklyn\, NY\, 11218\, United States
CATEGORIES:in-person yoga
GEO:40.6391752;-73.9684262
X-APPLE-STRUCTURED-LOCATION;VALUE=URI;X-ADDRESS=Brooklyn Artery Cortelyou Road 1004 Brooklyn NY 11218 United States;X-APPLE-RADIUS=500;X-TITLE=Cortelyou Road 1004:geo:-73.9684262,40.6391752
END:VEVENT
BEGIN:VEVENT
DTSTART;TZID=America/New_York:20270513T073000
DTEND;TZID=America/New_York:20270513T083000
DTSTAMP:20260419T131130
CREATED:20260226T014120Z
LAST-MODIFIED:20260226T014120Z
UID:10005109-1810193400-1810197000@jenniferkurdyla.com
SUMMARY:Yoga Flow
DESCRIPTION:
URL:https://jenniferkurdyla.com/event/yoga-flow-4/2027-05-13/
LOCATION:YogaSole\, 254 Windsor Place\, Brooklyn\, NY\, 11215\, United States
CATEGORIES:in-person yoga
END:VEVENT
BEGIN:VEVENT
DTSTART;TZID=America/New_York:20270516T171500
DTEND;TZID=America/New_York:20270516T181500
DTSTAMP:20260419T131130
CREATED:20240205T204129Z
LAST-MODIFIED:20240205T204130Z
UID:10001751-1810487700-1810491300@jenniferkurdyla.com
SUMMARY:Foundations of Yoga
DESCRIPTION:Register at Arise Yoga Brooklyn: https://www.arise.yoga/brooklyn-schedule
URL:https://jenniferkurdyla.com/event/foundations-of-yoga-2/2027-05-16/
LOCATION:Arise Yoga Brooklyn\, 730 Franklin Ave.\, Brooklyn\, NY
CATEGORIES:in-person yoga
GEO:40.6737017;-73.9571291
X-APPLE-STRUCTURED-LOCATION;VALUE=URI;X-ADDRESS=Arise Yoga Brooklyn 730 Franklin Ave. Brooklyn NY;X-APPLE-RADIUS=500;X-TITLE=730 Franklin Ave.:geo:-73.9571291,40.6737017
END:VEVENT
BEGIN:VEVENT
DTSTART;TZID=America/New_York:20270517T090000
DTEND;TZID=America/New_York:20270517T100000
DTSTAMP:20260419T131130
CREATED:20240917T234220Z
LAST-MODIFIED:20240917T234220Z
UID:10002604-1810544400-1810548000@jenniferkurdyla.com
SUMMARY:Strength: Flow Yoga
DESCRIPTION:
URL:https://jenniferkurdyla.com/event/strength-flow-yoga/2027-05-17/
LOCATION:YogaSole\, 254 Windsor Place\, Brooklyn\, NY\, 11215\, United States
CATEGORIES:in-person yoga
END:VEVENT
END:VCALENDAR