BEGIN:VCALENDAR
VERSION:2.0
PRODID:-//BeNourished - ECPv6.14.0//NONSGML v1.0//EN
CALSCALE:GREGORIAN
METHOD:PUBLISH
X-WR-CALNAME:BeNourished
X-ORIGINAL-URL:https://jenniferkurdyla.com
X-WR-CALDESC:Events for BeNourished
REFRESH-INTERVAL;VALUE=DURATION:PT1H
X-Robots-Tag:noindex
X-PUBLISHED-TTL:PT1H
BEGIN:VTIMEZONE
TZID:America/New_York
BEGIN:DAYLIGHT
TZOFFSETFROM:-0500
TZOFFSETTO:-0400
TZNAME:EDT
DTSTART:20250309T070000
END:DAYLIGHT
BEGIN:STANDARD
TZOFFSETFROM:-0400
TZOFFSETTO:-0500
TZNAME:EST
DTSTART:20251102T060000
END:STANDARD
END:VTIMEZONE
BEGIN:VEVENT
DTSTART;TZID=America/New_York:20250730T073000
DTEND;TZID=America/New_York:20250730T082000
DTSTAMP:20260423T164311
CREATED:20241210T191521Z
LAST-MODIFIED:20241210T191521Z
UID:10003530-1753860600-1753863600@jenniferkurdyla.com
SUMMARY:Mat Pilates
DESCRIPTION:
URL:https://jenniferkurdyla.com/event/mat-pilates-4/2025-07-30/
LOCATION:YogaSole\, 254 Windsor Place\, Brooklyn\, NY\, 11215\, United States
CATEGORIES:in-person Pilates
END:VEVENT
BEGIN:VEVENT
DTSTART;TZID=America/New_York:20250728T090000
DTEND;TZID=America/New_York:20250728T100000
DTSTAMP:20260423T164311
CREATED:20240917T234220Z
LAST-MODIFIED:20240917T234220Z
UID:10002510-1753693200-1753696800@jenniferkurdyla.com
SUMMARY:Strength: Flow Yoga
DESCRIPTION:
URL:https://jenniferkurdyla.com/event/strength-flow-yoga/2025-07-28/
LOCATION:YogaSole\, 254 Windsor Place\, Brooklyn\, NY\, 11215\, United States
CATEGORIES:in-person yoga
END:VEVENT
BEGIN:VEVENT
DTSTART;TZID=America/New_York:20250728T073000
DTEND;TZID=America/New_York:20250728T082000
DTSTAMP:20260423T164311
CREATED:20240917T234134Z
LAST-MODIFIED:20240917T234134Z
UID:10002249-1753687800-1753690800@jenniferkurdyla.com
SUMMARY:Mat Pilates
DESCRIPTION:
URL:https://jenniferkurdyla.com/event/mat-pilates/2025-07-28/
LOCATION:YogaSole\, 254 Windsor Place\, Brooklyn\, NY\, 11215\, United States
CATEGORIES:in-person yoga
END:VEVENT
BEGIN:VEVENT
DTSTART;TZID=America/New_York:20250727T171500
DTEND;TZID=America/New_York:20250727T181500
DTSTAMP:20260423T164311
CREATED:20240205T204129Z
LAST-MODIFIED:20240205T204130Z
UID:10001657-1753636500-1753640100@jenniferkurdyla.com
SUMMARY:Foundations of Yoga
DESCRIPTION:Register at Arise Yoga Brooklyn: https://www.arise.yoga/brooklyn-schedule
URL:https://jenniferkurdyla.com/event/foundations-of-yoga-2/2025-07-27/
LOCATION:Arise Yoga Brooklyn\, 730 Franklin Ave.\, Brooklyn\, NY
CATEGORIES:in-person yoga
GEO:40.6737017;-73.9571291
X-APPLE-STRUCTURED-LOCATION;VALUE=URI;X-ADDRESS=Arise Yoga Brooklyn 730 Franklin Ave. Brooklyn NY;X-APPLE-RADIUS=500;X-TITLE=730 Franklin Ave.:geo:-73.9571291,40.6737017
END:VEVENT
BEGIN:VEVENT
DTSTART;TZID=America/New_York:20250726T110000
DTEND;TZID=America/New_York:20250726T120000
DTSTAMP:20260423T164311
CREATED:20250624T133254Z
LAST-MODIFIED:20250624T133254Z
UID:10004085-1753527600-1753531200@jenniferkurdyla.com
SUMMARY:Mindful Strength
DESCRIPTION:
URL:https://jenniferkurdyla.com/event/mindful-strength/2025-07-26/
LOCATION:Brooklyn Flow\, 198 5th Ave.\, Brooklyn\, NY
CATEGORIES:in-person Pilates
GEO:40.6767893;-73.9805007
X-APPLE-STRUCTURED-LOCATION;VALUE=URI;X-ADDRESS=Brooklyn Flow 198 5th Ave. Brooklyn NY;X-APPLE-RADIUS=500;X-TITLE=198 5th Ave.:geo:-73.9805007,40.6767893
END:VEVENT
BEGIN:VEVENT
DTSTART;TZID=America/New_York:20250726T090000
DTEND;TZID=America/New_York:20250726T100000
DTSTAMP:20260423T164311
CREATED:20240917T234353Z
LAST-MODIFIED:20240917T234353Z
UID:10002767-1753520400-1753524000@jenniferkurdyla.com
SUMMARY:Mat Pilates
DESCRIPTION:
URL:https://jenniferkurdyla.com/event/mat-pilates-2/2025-07-26/
LOCATION:The Floor\, Atlantic Avenue\, Brooklyn\, NY\, 11201\, United States
CATEGORIES:in-person yoga
GEO:40.68808;-73.9886765
X-APPLE-STRUCTURED-LOCATION;VALUE=URI;X-ADDRESS=The Floor Atlantic Avenue Brooklyn NY 11201 United States;X-APPLE-RADIUS=500;X-TITLE=Atlantic Avenue:geo:-73.9886765,40.68808
END:VEVENT
BEGIN:VEVENT
DTSTART;TZID=America/New_York:20250724T120000
DTEND;TZID=America/New_York:20250724T125000
DTSTAMP:20260423T164311
CREATED:20250624T133454Z
LAST-MODIFIED:20250624T133455Z
UID:10004346-1753358400-1753361400@jenniferkurdyla.com
SUMMARY:Mat Pilates
DESCRIPTION:
URL:https://jenniferkurdyla.com/event/mat-pilates-5/2025-07-24/
LOCATION:YogaSole\, 254 Windsor Place\, Brooklyn\, NY\, 11215\, United States
CATEGORIES:in-person Pilates
END:VEVENT
BEGIN:VEVENT
DTSTART;TZID=America/New_York:20250723T073000
DTEND;TZID=America/New_York:20250723T082000
DTSTAMP:20260423T164311
CREATED:20241210T191521Z
LAST-MODIFIED:20241210T191521Z
UID:10003529-1753255800-1753258800@jenniferkurdyla.com
SUMMARY:Mat Pilates
DESCRIPTION:
URL:https://jenniferkurdyla.com/event/mat-pilates-4/2025-07-23/
LOCATION:YogaSole\, 254 Windsor Place\, Brooklyn\, NY\, 11215\, United States
CATEGORIES:in-person Pilates
END:VEVENT
BEGIN:VEVENT
DTSTART;TZID=America/New_York:20250721T090000
DTEND;TZID=America/New_York:20250721T100000
DTSTAMP:20260423T164311
CREATED:20240917T234220Z
LAST-MODIFIED:20240917T234220Z
UID:10002509-1753088400-1753092000@jenniferkurdyla.com
SUMMARY:Strength: Flow Yoga
DESCRIPTION:
URL:https://jenniferkurdyla.com/event/strength-flow-yoga/2025-07-21/
LOCATION:YogaSole\, 254 Windsor Place\, Brooklyn\, NY\, 11215\, United States
CATEGORIES:in-person yoga
END:VEVENT
BEGIN:VEVENT
DTSTART;TZID=America/New_York:20250721T073000
DTEND;TZID=America/New_York:20250721T082000
DTSTAMP:20260423T164311
CREATED:20240917T234134Z
LAST-MODIFIED:20240917T234134Z
UID:10002248-1753083000-1753086000@jenniferkurdyla.com
SUMMARY:Mat Pilates
DESCRIPTION:
URL:https://jenniferkurdyla.com/event/mat-pilates/2025-07-21/
LOCATION:YogaSole\, 254 Windsor Place\, Brooklyn\, NY\, 11215\, United States
CATEGORIES:in-person yoga
END:VEVENT
BEGIN:VEVENT
DTSTART;TZID=America/New_York:20250720T171500
DTEND;TZID=America/New_York:20250720T181500
DTSTAMP:20260423T164311
CREATED:20240205T204129Z
LAST-MODIFIED:20240205T204130Z
UID:10001656-1753031700-1753035300@jenniferkurdyla.com
SUMMARY:Foundations of Yoga
DESCRIPTION:Register at Arise Yoga Brooklyn: https://www.arise.yoga/brooklyn-schedule
URL:https://jenniferkurdyla.com/event/foundations-of-yoga-2/2025-07-20/
LOCATION:Arise Yoga Brooklyn\, 730 Franklin Ave.\, Brooklyn\, NY
CATEGORIES:in-person yoga
GEO:40.6737017;-73.9571291
X-APPLE-STRUCTURED-LOCATION;VALUE=URI;X-ADDRESS=Arise Yoga Brooklyn 730 Franklin Ave. Brooklyn NY;X-APPLE-RADIUS=500;X-TITLE=730 Franklin Ave.:geo:-73.9571291,40.6737017
END:VEVENT
BEGIN:VEVENT
DTSTART;TZID=America/New_York:20250719T110000
DTEND;TZID=America/New_York:20250719T120000
DTSTAMP:20260423T164311
CREATED:20250624T133254Z
LAST-MODIFIED:20250624T133254Z
UID:10004084-1752922800-1752926400@jenniferkurdyla.com
SUMMARY:Mindful Strength
DESCRIPTION:
URL:https://jenniferkurdyla.com/event/mindful-strength/2025-07-19/
LOCATION:Brooklyn Flow\, 198 5th Ave.\, Brooklyn\, NY
CATEGORIES:in-person Pilates
GEO:40.6767893;-73.9805007
X-APPLE-STRUCTURED-LOCATION;VALUE=URI;X-ADDRESS=Brooklyn Flow 198 5th Ave. Brooklyn NY;X-APPLE-RADIUS=500;X-TITLE=198 5th Ave.:geo:-73.9805007,40.6767893
END:VEVENT
BEGIN:VEVENT
DTSTART;TZID=America/New_York:20250719T090000
DTEND;TZID=America/New_York:20250719T100000
DTSTAMP:20260423T164311
CREATED:20240917T234353Z
LAST-MODIFIED:20240917T234353Z
UID:10002766-1752915600-1752919200@jenniferkurdyla.com
SUMMARY:Mat Pilates
DESCRIPTION:
URL:https://jenniferkurdyla.com/event/mat-pilates-2/2025-07-19/
LOCATION:The Floor\, Atlantic Avenue\, Brooklyn\, NY\, 11201\, United States
CATEGORIES:in-person yoga
GEO:40.68808;-73.9886765
X-APPLE-STRUCTURED-LOCATION;VALUE=URI;X-ADDRESS=The Floor Atlantic Avenue Brooklyn NY 11201 United States;X-APPLE-RADIUS=500;X-TITLE=Atlantic Avenue:geo:-73.9886765,40.68808
END:VEVENT
BEGIN:VEVENT
DTSTART;TZID=America/New_York:20250717T120000
DTEND;TZID=America/New_York:20250717T125000
DTSTAMP:20260423T164311
CREATED:20250624T133454Z
LAST-MODIFIED:20250624T133455Z
UID:10004345-1752753600-1752756600@jenniferkurdyla.com
SUMMARY:Mat Pilates
DESCRIPTION:
URL:https://jenniferkurdyla.com/event/mat-pilates-5/2025-07-17/
LOCATION:YogaSole\, 254 Windsor Place\, Brooklyn\, NY\, 11215\, United States
CATEGORIES:in-person Pilates
END:VEVENT
BEGIN:VEVENT
DTSTART;TZID=America/New_York:20250716T073000
DTEND;TZID=America/New_York:20250716T082000
DTSTAMP:20260423T164311
CREATED:20241210T191521Z
LAST-MODIFIED:20241210T191521Z
UID:10003528-1752651000-1752654000@jenniferkurdyla.com
SUMMARY:Mat Pilates
DESCRIPTION:
URL:https://jenniferkurdyla.com/event/mat-pilates-4/2025-07-16/
LOCATION:YogaSole\, 254 Windsor Place\, Brooklyn\, NY\, 11215\, United States
CATEGORIES:in-person Pilates
END:VEVENT
BEGIN:VEVENT
DTSTART;TZID=America/New_York:20250714T090000
DTEND;TZID=America/New_York:20250714T100000
DTSTAMP:20260423T164311
CREATED:20240917T234220Z
LAST-MODIFIED:20240917T234220Z
UID:10002508-1752483600-1752487200@jenniferkurdyla.com
SUMMARY:Strength: Flow Yoga
DESCRIPTION:
URL:https://jenniferkurdyla.com/event/strength-flow-yoga/2025-07-14/
LOCATION:YogaSole\, 254 Windsor Place\, Brooklyn\, NY\, 11215\, United States
CATEGORIES:in-person yoga
END:VEVENT
BEGIN:VEVENT
DTSTART;TZID=America/New_York:20250714T073000
DTEND;TZID=America/New_York:20250714T082000
DTSTAMP:20260423T164311
CREATED:20240917T234134Z
LAST-MODIFIED:20240917T234134Z
UID:10002247-1752478200-1752481200@jenniferkurdyla.com
SUMMARY:Mat Pilates
DESCRIPTION:
URL:https://jenniferkurdyla.com/event/mat-pilates/2025-07-14/
LOCATION:YogaSole\, 254 Windsor Place\, Brooklyn\, NY\, 11215\, United States
CATEGORIES:in-person yoga
END:VEVENT
BEGIN:VEVENT
DTSTART;TZID=America/New_York:20250713T171500
DTEND;TZID=America/New_York:20250713T181500
DTSTAMP:20260423T164311
CREATED:20240205T204129Z
LAST-MODIFIED:20240205T204130Z
UID:10001655-1752426900-1752430500@jenniferkurdyla.com
SUMMARY:Foundations of Yoga
DESCRIPTION:Register at Arise Yoga Brooklyn: https://www.arise.yoga/brooklyn-schedule
URL:https://jenniferkurdyla.com/event/foundations-of-yoga-2/2025-07-13/
LOCATION:Arise Yoga Brooklyn\, 730 Franklin Ave.\, Brooklyn\, NY
CATEGORIES:in-person yoga
GEO:40.6737017;-73.9571291
X-APPLE-STRUCTURED-LOCATION;VALUE=URI;X-ADDRESS=Arise Yoga Brooklyn 730 Franklin Ave. Brooklyn NY;X-APPLE-RADIUS=500;X-TITLE=730 Franklin Ave.:geo:-73.9571291,40.6737017
END:VEVENT
BEGIN:VEVENT
DTSTART;TZID=America/New_York:20250712T110000
DTEND;TZID=America/New_York:20250712T120000
DTSTAMP:20260423T164311
CREATED:20250624T133254Z
LAST-MODIFIED:20250624T133254Z
UID:10004083-1752318000-1752321600@jenniferkurdyla.com
SUMMARY:Mindful Strength
DESCRIPTION:
URL:https://jenniferkurdyla.com/event/mindful-strength/2025-07-12/
LOCATION:Brooklyn Flow\, 198 5th Ave.\, Brooklyn\, NY
CATEGORIES:in-person Pilates
GEO:40.6767893;-73.9805007
X-APPLE-STRUCTURED-LOCATION;VALUE=URI;X-ADDRESS=Brooklyn Flow 198 5th Ave. Brooklyn NY;X-APPLE-RADIUS=500;X-TITLE=198 5th Ave.:geo:-73.9805007,40.6767893
END:VEVENT
BEGIN:VEVENT
DTSTART;TZID=America/New_York:20250712T090000
DTEND;TZID=America/New_York:20250712T100000
DTSTAMP:20260423T164311
CREATED:20240917T234353Z
LAST-MODIFIED:20240917T234353Z
UID:10002765-1752310800-1752314400@jenniferkurdyla.com
SUMMARY:Mat Pilates
DESCRIPTION:
URL:https://jenniferkurdyla.com/event/mat-pilates-2/2025-07-12/
LOCATION:The Floor\, Atlantic Avenue\, Brooklyn\, NY\, 11201\, United States
CATEGORIES:in-person yoga
GEO:40.68808;-73.9886765
X-APPLE-STRUCTURED-LOCATION;VALUE=URI;X-ADDRESS=The Floor Atlantic Avenue Brooklyn NY 11201 United States;X-APPLE-RADIUS=500;X-TITLE=Atlantic Avenue:geo:-73.9886765,40.68808
END:VEVENT
BEGIN:VEVENT
DTSTART;TZID=America/New_York:20250710T120000
DTEND;TZID=America/New_York:20250710T125000
DTSTAMP:20260423T164311
CREATED:20250624T133454Z
LAST-MODIFIED:20250624T133455Z
UID:10004344-1752148800-1752151800@jenniferkurdyla.com
SUMMARY:Mat Pilates
DESCRIPTION:
URL:https://jenniferkurdyla.com/event/mat-pilates-5/2025-07-10/
LOCATION:YogaSole\, 254 Windsor Place\, Brooklyn\, NY\, 11215\, United States
CATEGORIES:in-person Pilates
END:VEVENT
BEGIN:VEVENT
DTSTART;TZID=America/New_York:20250709T073000
DTEND;TZID=America/New_York:20250709T082000
DTSTAMP:20260423T164311
CREATED:20241210T191521Z
LAST-MODIFIED:20241210T191521Z
UID:10003527-1752046200-1752049200@jenniferkurdyla.com
SUMMARY:Mat Pilates
DESCRIPTION:
URL:https://jenniferkurdyla.com/event/mat-pilates-4/2025-07-09/
LOCATION:YogaSole\, 254 Windsor Place\, Brooklyn\, NY\, 11215\, United States
CATEGORIES:in-person Pilates
END:VEVENT
BEGIN:VEVENT
DTSTART;TZID=America/New_York:20250707T090000
DTEND;TZID=America/New_York:20250707T100000
DTSTAMP:20260423T164311
CREATED:20240917T234220Z
LAST-MODIFIED:20240917T234220Z
UID:10002507-1751878800-1751882400@jenniferkurdyla.com
SUMMARY:Strength: Flow Yoga
DESCRIPTION:
URL:https://jenniferkurdyla.com/event/strength-flow-yoga/2025-07-07/
LOCATION:YogaSole\, 254 Windsor Place\, Brooklyn\, NY\, 11215\, United States
CATEGORIES:in-person yoga
END:VEVENT
BEGIN:VEVENT
DTSTART;TZID=America/New_York:20250707T073000
DTEND;TZID=America/New_York:20250707T082000
DTSTAMP:20260423T164311
CREATED:20240917T234134Z
LAST-MODIFIED:20240917T234134Z
UID:10002246-1751873400-1751876400@jenniferkurdyla.com
SUMMARY:Mat Pilates
DESCRIPTION:
URL:https://jenniferkurdyla.com/event/mat-pilates/2025-07-07/
LOCATION:YogaSole\, 254 Windsor Place\, Brooklyn\, NY\, 11215\, United States
CATEGORIES:in-person yoga
END:VEVENT
BEGIN:VEVENT
DTSTART;TZID=America/New_York:20250706T171500
DTEND;TZID=America/New_York:20250706T181500
DTSTAMP:20260423T164311
CREATED:20240205T204129Z
LAST-MODIFIED:20240205T204130Z
UID:10001654-1751822100-1751825700@jenniferkurdyla.com
SUMMARY:Foundations of Yoga
DESCRIPTION:Register at Arise Yoga Brooklyn: https://www.arise.yoga/brooklyn-schedule
URL:https://jenniferkurdyla.com/event/foundations-of-yoga-2/2025-07-06/
LOCATION:Arise Yoga Brooklyn\, 730 Franklin Ave.\, Brooklyn\, NY
CATEGORIES:in-person yoga
GEO:40.6737017;-73.9571291
X-APPLE-STRUCTURED-LOCATION;VALUE=URI;X-ADDRESS=Arise Yoga Brooklyn 730 Franklin Ave. Brooklyn NY;X-APPLE-RADIUS=500;X-TITLE=730 Franklin Ave.:geo:-73.9571291,40.6737017
END:VEVENT
BEGIN:VEVENT
DTSTART;TZID=America/New_York:20250705T110000
DTEND;TZID=America/New_York:20250705T120000
DTSTAMP:20260423T164311
CREATED:20250624T133254Z
LAST-MODIFIED:20250624T133254Z
UID:10004082-1751713200-1751716800@jenniferkurdyla.com
SUMMARY:Mindful Strength
DESCRIPTION:
URL:https://jenniferkurdyla.com/event/mindful-strength/2025-07-05/
LOCATION:Brooklyn Flow\, 198 5th Ave.\, Brooklyn\, NY
CATEGORIES:in-person Pilates
GEO:40.6767893;-73.9805007
X-APPLE-STRUCTURED-LOCATION;VALUE=URI;X-ADDRESS=Brooklyn Flow 198 5th Ave. Brooklyn NY;X-APPLE-RADIUS=500;X-TITLE=198 5th Ave.:geo:-73.9805007,40.6767893
END:VEVENT
BEGIN:VEVENT
DTSTART;TZID=America/New_York:20250705T090000
DTEND;TZID=America/New_York:20250705T100000
DTSTAMP:20260423T164311
CREATED:20240917T234353Z
LAST-MODIFIED:20240917T234353Z
UID:10002764-1751706000-1751709600@jenniferkurdyla.com
SUMMARY:Mat Pilates
DESCRIPTION:
URL:https://jenniferkurdyla.com/event/mat-pilates-2/2025-07-05/
LOCATION:The Floor\, Atlantic Avenue\, Brooklyn\, NY\, 11201\, United States
CATEGORIES:in-person yoga
GEO:40.68808;-73.9886765
X-APPLE-STRUCTURED-LOCATION;VALUE=URI;X-ADDRESS=The Floor Atlantic Avenue Brooklyn NY 11201 United States;X-APPLE-RADIUS=500;X-TITLE=Atlantic Avenue:geo:-73.9886765,40.68808
END:VEVENT
BEGIN:VEVENT
DTSTART;TZID=America/New_York:20250703T120000
DTEND;TZID=America/New_York:20250703T125000
DTSTAMP:20260423T164311
CREATED:20250624T133454Z
LAST-MODIFIED:20250624T133455Z
UID:10004343-1751544000-1751547000@jenniferkurdyla.com
SUMMARY:Mat Pilates
DESCRIPTION:
URL:https://jenniferkurdyla.com/event/mat-pilates-5/2025-07-03/
LOCATION:YogaSole\, 254 Windsor Place\, Brooklyn\, NY\, 11215\, United States
CATEGORIES:in-person Pilates
END:VEVENT
BEGIN:VEVENT
DTSTART;TZID=America/New_York:20250702T073000
DTEND;TZID=America/New_York:20250702T082000
DTSTAMP:20260423T164311
CREATED:20241210T191521Z
LAST-MODIFIED:20241210T191521Z
UID:10003526-1751441400-1751444400@jenniferkurdyla.com
SUMMARY:Mat Pilates
DESCRIPTION:
URL:https://jenniferkurdyla.com/event/mat-pilates-4/2025-07-02/
LOCATION:YogaSole\, 254 Windsor Place\, Brooklyn\, NY\, 11215\, United States
CATEGORIES:in-person Pilates
END:VEVENT
BEGIN:VEVENT
DTSTART;TZID=America/New_York:20250630T090000
DTEND;TZID=America/New_York:20250630T100000
DTSTAMP:20260423T164311
CREATED:20240917T234220Z
LAST-MODIFIED:20240917T234220Z
UID:10002506-1751274000-1751277600@jenniferkurdyla.com
SUMMARY:Strength: Flow Yoga
DESCRIPTION:
URL:https://jenniferkurdyla.com/event/strength-flow-yoga/2025-06-30/
LOCATION:YogaSole\, 254 Windsor Place\, Brooklyn\, NY\, 11215\, United States
CATEGORIES:in-person yoga
END:VEVENT
END:VCALENDAR