BEGIN:VCALENDAR
VERSION:2.0
PRODID:-//BeNourished - ECPv6.14.0//NONSGML v1.0//EN
CALSCALE:GREGORIAN
METHOD:PUBLISH
X-ORIGINAL-URL:https://jenniferkurdyla.com
X-WR-CALDESC:Events for BeNourished
REFRESH-INTERVAL;VALUE=DURATION:PT1H
X-Robots-Tag:noindex
X-PUBLISHED-TTL:PT1H
BEGIN:VTIMEZONE
TZID:America/New_York
BEGIN:DAYLIGHT
TZOFFSETFROM:-0500
TZOFFSETTO:-0400
TZNAME:EDT
DTSTART:20270314T070000
END:DAYLIGHT
BEGIN:STANDARD
TZOFFSETFROM:-0400
TZOFFSETTO:-0500
TZNAME:EST
DTSTART:20271107T060000
END:STANDARD
END:VTIMEZONE
BEGIN:VEVENT
DTSTART;TZID=America/New_York:20270211T073000
DTEND;TZID=America/New_York:20270211T083000
DTSTAMP:20260419T143832
CREATED:20260226T014120Z
LAST-MODIFIED:20260226T014120Z
UID:10005096-1802331000-1802334600@jenniferkurdyla.com
SUMMARY:Yoga Flow
DESCRIPTION:
URL:https://jenniferkurdyla.com/event/yoga-flow-4/2027-02-11/
LOCATION:YogaSole\, 254 Windsor Place\, Brooklyn\, NY\, 11215\, United States
CATEGORIES:in-person yoga
END:VEVENT
BEGIN:VEVENT
DTSTART;TZID=America/New_York:20270213T101500
DTEND;TZID=America/New_York:20270213T110000
DTSTAMP:20260419T143832
CREATED:20260226T014344Z
LAST-MODIFIED:20260226T014344Z
UID:10005175-1802513700-1802516400@jenniferkurdyla.com
SUMMARY:Mindful Strength
DESCRIPTION:
URL:https://jenniferkurdyla.com/event/mindful-strength-2-2/2027-02-13/
LOCATION:Brooklyn Flow\, 198 5th Ave.\, Brooklyn\, NY
CATEGORIES:in-person Pilates
GEO:40.6767893;-73.9805007
X-APPLE-STRUCTURED-LOCATION;VALUE=URI;X-ADDRESS=Brooklyn Flow 198 5th Ave. Brooklyn NY;X-APPLE-RADIUS=500;X-TITLE=198 5th Ave.:geo:-73.9805007,40.6767893
END:VEVENT
BEGIN:VEVENT
DTSTART;TZID=America/New_York:20270214T171500
DTEND;TZID=America/New_York:20270214T181500
DTSTAMP:20260419T143832
CREATED:20240205T204129Z
LAST-MODIFIED:20240205T204130Z
UID:10001738-1802625300-1802628900@jenniferkurdyla.com
SUMMARY:Foundations of Yoga
DESCRIPTION:Register at Arise Yoga Brooklyn: https://www.arise.yoga/brooklyn-schedule
URL:https://jenniferkurdyla.com/event/foundations-of-yoga-2/2027-02-14/
LOCATION:Arise Yoga Brooklyn\, 730 Franklin Ave.\, Brooklyn\, NY
CATEGORIES:in-person yoga
GEO:40.6737017;-73.9571291
X-APPLE-STRUCTURED-LOCATION;VALUE=URI;X-ADDRESS=Arise Yoga Brooklyn 730 Franklin Ave. Brooklyn NY;X-APPLE-RADIUS=500;X-TITLE=730 Franklin Ave.:geo:-73.9571291,40.6737017
END:VEVENT
BEGIN:VEVENT
DTSTART;TZID=America/New_York:20270215T073000
DTEND;TZID=America/New_York:20270215T082000
DTSTAMP:20260419T143832
CREATED:20251007T200701Z
LAST-MODIFIED:20251007T200701Z
UID:10002330-1802676600-1802679600@jenniferkurdyla.com
SUMMARY:Mat Pilates
DESCRIPTION:
URL:https://jenniferkurdyla.com/event/mat-pilates-6/2027-02-15/
LOCATION:YogaSole\, 254 Windsor Place\, Brooklyn\, NY\, 11215\, United States
CATEGORIES:in-person Pilates
END:VEVENT
BEGIN:VEVENT
DTSTART;TZID=America/New_York:20270215T090000
DTEND;TZID=America/New_York:20270215T100000
DTSTAMP:20260419T143832
CREATED:20240917T234220Z
LAST-MODIFIED:20240917T234220Z
UID:10002591-1802682000-1802685600@jenniferkurdyla.com
SUMMARY:Strength: Flow Yoga
DESCRIPTION:
URL:https://jenniferkurdyla.com/event/strength-flow-yoga/2027-02-15/
LOCATION:YogaSole\, 254 Windsor Place\, Brooklyn\, NY\, 11215\, United States
CATEGORIES:in-person yoga
END:VEVENT
BEGIN:VEVENT
DTSTART;TZID=America/New_York:20270216T090000
DTEND;TZID=America/New_York:20270216T101500
DTSTAMP:20260419T143832
CREATED:20250930T183416Z
LAST-MODIFIED:20250930T183416Z
UID:10004675-1802768400-1802772900@jenniferkurdyla.com
SUMMARY:Every Body Yoga
DESCRIPTION:
URL:https://jenniferkurdyla.com/event/every-body-yoga/2027-02-16/
LOCATION:Brooklyn Artery\, Cortelyou Road 1004\, Brooklyn\, NY\, 11218\, United States
CATEGORIES:in-person yoga
GEO:40.6391752;-73.9684262
X-APPLE-STRUCTURED-LOCATION;VALUE=URI;X-ADDRESS=Brooklyn Artery Cortelyou Road 1004 Brooklyn NY 11218 United States;X-APPLE-RADIUS=500;X-TITLE=Cortelyou Road 1004:geo:-73.9684262,40.6391752
END:VEVENT
BEGIN:VEVENT
DTSTART;TZID=America/New_York:20270216T183000
DTEND;TZID=America/New_York:20270216T193000
DTSTAMP:20260419T143832
CREATED:20260226T014012Z
LAST-MODIFIED:20260226T014012Z
UID:10005039-1802802600-1802806200@jenniferkurdyla.com
SUMMARY:Yoga Flow
DESCRIPTION:
URL:https://jenniferkurdyla.com/event/yoga-flow-3/2027-02-16/
LOCATION:YogaSole\, 254 Windsor Place\, Brooklyn\, NY\, 11215\, United States
CATEGORIES:in-person yoga
END:VEVENT
BEGIN:VEVENT
DTSTART;TZID=America/New_York:20270217T073000
DTEND;TZID=America/New_York:20270217T082000
DTSTAMP:20260419T143832
CREATED:20241210T191521Z
LAST-MODIFIED:20241210T191521Z
UID:10003611-1802849400-1802852400@jenniferkurdyla.com
SUMMARY:Mat Pilates
DESCRIPTION:
URL:https://jenniferkurdyla.com/event/mat-pilates-4/2027-02-17/
LOCATION:YogaSole\, 254 Windsor Place\, Brooklyn\, NY\, 11215\, United States
CATEGORIES:in-person Pilates
END:VEVENT
BEGIN:VEVENT
DTSTART;TZID=America/New_York:20270218T073000
DTEND;TZID=America/New_York:20270218T083000
DTSTAMP:20260419T143832
CREATED:20260226T014120Z
LAST-MODIFIED:20260226T014120Z
UID:10005097-1802935800-1802939400@jenniferkurdyla.com
SUMMARY:Yoga Flow
DESCRIPTION:
URL:https://jenniferkurdyla.com/event/yoga-flow-4/2027-02-18/
LOCATION:YogaSole\, 254 Windsor Place\, Brooklyn\, NY\, 11215\, United States
CATEGORIES:in-person yoga
END:VEVENT
BEGIN:VEVENT
DTSTART;TZID=America/New_York:20270220T101500
DTEND;TZID=America/New_York:20270220T110000
DTSTAMP:20260419T143832
CREATED:20260226T014344Z
LAST-MODIFIED:20260226T014344Z
UID:10005176-1803118500-1803121200@jenniferkurdyla.com
SUMMARY:Mindful Strength
DESCRIPTION:
URL:https://jenniferkurdyla.com/event/mindful-strength-2-2/2027-02-20/
LOCATION:Brooklyn Flow\, 198 5th Ave.\, Brooklyn\, NY
CATEGORIES:in-person Pilates
GEO:40.6767893;-73.9805007
X-APPLE-STRUCTURED-LOCATION;VALUE=URI;X-ADDRESS=Brooklyn Flow 198 5th Ave. Brooklyn NY;X-APPLE-RADIUS=500;X-TITLE=198 5th Ave.:geo:-73.9805007,40.6767893
END:VEVENT
BEGIN:VEVENT
DTSTART;TZID=America/New_York:20270221T171500
DTEND;TZID=America/New_York:20270221T181500
DTSTAMP:20260419T143832
CREATED:20240205T204129Z
LAST-MODIFIED:20240205T204130Z
UID:10001739-1803230100-1803233700@jenniferkurdyla.com
SUMMARY:Foundations of Yoga
DESCRIPTION:Register at Arise Yoga Brooklyn: https://www.arise.yoga/brooklyn-schedule
URL:https://jenniferkurdyla.com/event/foundations-of-yoga-2/2027-02-21/
LOCATION:Arise Yoga Brooklyn\, 730 Franklin Ave.\, Brooklyn\, NY
CATEGORIES:in-person yoga
GEO:40.6737017;-73.9571291
X-APPLE-STRUCTURED-LOCATION;VALUE=URI;X-ADDRESS=Arise Yoga Brooklyn 730 Franklin Ave. Brooklyn NY;X-APPLE-RADIUS=500;X-TITLE=730 Franklin Ave.:geo:-73.9571291,40.6737017
END:VEVENT
BEGIN:VEVENT
DTSTART;TZID=America/New_York:20270222T073000
DTEND;TZID=America/New_York:20270222T082000
DTSTAMP:20260419T143832
CREATED:20251007T200701Z
LAST-MODIFIED:20251007T200701Z
UID:10002331-1803281400-1803284400@jenniferkurdyla.com
SUMMARY:Mat Pilates
DESCRIPTION:
URL:https://jenniferkurdyla.com/event/mat-pilates-6/2027-02-22/
LOCATION:YogaSole\, 254 Windsor Place\, Brooklyn\, NY\, 11215\, United States
CATEGORIES:in-person Pilates
END:VEVENT
BEGIN:VEVENT
DTSTART;TZID=America/New_York:20270222T090000
DTEND;TZID=America/New_York:20270222T100000
DTSTAMP:20260419T143832
CREATED:20240917T234220Z
LAST-MODIFIED:20240917T234220Z
UID:10002592-1803286800-1803290400@jenniferkurdyla.com
SUMMARY:Strength: Flow Yoga
DESCRIPTION:
URL:https://jenniferkurdyla.com/event/strength-flow-yoga/2027-02-22/
LOCATION:YogaSole\, 254 Windsor Place\, Brooklyn\, NY\, 11215\, United States
CATEGORIES:in-person yoga
END:VEVENT
BEGIN:VEVENT
DTSTART;TZID=America/New_York:20270223T090000
DTEND;TZID=America/New_York:20270223T101500
DTSTAMP:20260419T143832
CREATED:20250930T183416Z
LAST-MODIFIED:20250930T183416Z
UID:10004676-1803373200-1803377700@jenniferkurdyla.com
SUMMARY:Every Body Yoga
DESCRIPTION:
URL:https://jenniferkurdyla.com/event/every-body-yoga/2027-02-23/
LOCATION:Brooklyn Artery\, Cortelyou Road 1004\, Brooklyn\, NY\, 11218\, United States
CATEGORIES:in-person yoga
GEO:40.6391752;-73.9684262
X-APPLE-STRUCTURED-LOCATION;VALUE=URI;X-ADDRESS=Brooklyn Artery Cortelyou Road 1004 Brooklyn NY 11218 United States;X-APPLE-RADIUS=500;X-TITLE=Cortelyou Road 1004:geo:-73.9684262,40.6391752
END:VEVENT
BEGIN:VEVENT
DTSTART;TZID=America/New_York:20270223T183000
DTEND;TZID=America/New_York:20270223T193000
DTSTAMP:20260419T143832
CREATED:20260226T014012Z
LAST-MODIFIED:20260226T014012Z
UID:10005040-1803407400-1803411000@jenniferkurdyla.com
SUMMARY:Yoga Flow
DESCRIPTION:
URL:https://jenniferkurdyla.com/event/yoga-flow-3/2027-02-23/
LOCATION:YogaSole\, 254 Windsor Place\, Brooklyn\, NY\, 11215\, United States
CATEGORIES:in-person yoga
END:VEVENT
BEGIN:VEVENT
DTSTART;TZID=America/New_York:20270224T073000
DTEND;TZID=America/New_York:20270224T082000
DTSTAMP:20260419T143832
CREATED:20241210T191521Z
LAST-MODIFIED:20241210T191521Z
UID:10003612-1803454200-1803457200@jenniferkurdyla.com
SUMMARY:Mat Pilates
DESCRIPTION:
URL:https://jenniferkurdyla.com/event/mat-pilates-4/2027-02-24/
LOCATION:YogaSole\, 254 Windsor Place\, Brooklyn\, NY\, 11215\, United States
CATEGORIES:in-person Pilates
END:VEVENT
BEGIN:VEVENT
DTSTART;TZID=America/New_York:20270225T073000
DTEND;TZID=America/New_York:20270225T083000
DTSTAMP:20260419T143832
CREATED:20260226T014120Z
LAST-MODIFIED:20260226T014120Z
UID:10005098-1803540600-1803544200@jenniferkurdyla.com
SUMMARY:Yoga Flow
DESCRIPTION:
URL:https://jenniferkurdyla.com/event/yoga-flow-4/2027-02-25/
LOCATION:YogaSole\, 254 Windsor Place\, Brooklyn\, NY\, 11215\, United States
CATEGORIES:in-person yoga
END:VEVENT
BEGIN:VEVENT
DTSTART;TZID=America/New_York:20270227T101500
DTEND;TZID=America/New_York:20270227T110000
DTSTAMP:20260419T143832
CREATED:20260226T014344Z
LAST-MODIFIED:20260226T014344Z
UID:10005177-1803723300-1803726000@jenniferkurdyla.com
SUMMARY:Mindful Strength
DESCRIPTION:
URL:https://jenniferkurdyla.com/event/mindful-strength-2-2/2027-02-27/
LOCATION:Brooklyn Flow\, 198 5th Ave.\, Brooklyn\, NY
CATEGORIES:in-person Pilates
GEO:40.6767893;-73.9805007
X-APPLE-STRUCTURED-LOCATION;VALUE=URI;X-ADDRESS=Brooklyn Flow 198 5th Ave. Brooklyn NY;X-APPLE-RADIUS=500;X-TITLE=198 5th Ave.:geo:-73.9805007,40.6767893
END:VEVENT
BEGIN:VEVENT
DTSTART;TZID=America/New_York:20270228T171500
DTEND;TZID=America/New_York:20270228T181500
DTSTAMP:20260419T143832
CREATED:20240205T204129Z
LAST-MODIFIED:20240205T204130Z
UID:10001740-1803834900-1803838500@jenniferkurdyla.com
SUMMARY:Foundations of Yoga
DESCRIPTION:Register at Arise Yoga Brooklyn: https://www.arise.yoga/brooklyn-schedule
URL:https://jenniferkurdyla.com/event/foundations-of-yoga-2/2027-02-28/
LOCATION:Arise Yoga Brooklyn\, 730 Franklin Ave.\, Brooklyn\, NY
CATEGORIES:in-person yoga
GEO:40.6737017;-73.9571291
X-APPLE-STRUCTURED-LOCATION;VALUE=URI;X-ADDRESS=Arise Yoga Brooklyn 730 Franklin Ave. Brooklyn NY;X-APPLE-RADIUS=500;X-TITLE=730 Franklin Ave.:geo:-73.9571291,40.6737017
END:VEVENT
BEGIN:VEVENT
DTSTART;TZID=America/New_York:20270301T073000
DTEND;TZID=America/New_York:20270301T082000
DTSTAMP:20260419T143832
CREATED:20251007T200701Z
LAST-MODIFIED:20251007T200701Z
UID:10002332-1803886200-1803889200@jenniferkurdyla.com
SUMMARY:Mat Pilates
DESCRIPTION:
URL:https://jenniferkurdyla.com/event/mat-pilates-6/2027-03-01/
LOCATION:YogaSole\, 254 Windsor Place\, Brooklyn\, NY\, 11215\, United States
CATEGORIES:in-person Pilates
END:VEVENT
BEGIN:VEVENT
DTSTART;TZID=America/New_York:20270301T090000
DTEND;TZID=America/New_York:20270301T100000
DTSTAMP:20260419T143832
CREATED:20240917T234220Z
LAST-MODIFIED:20240917T234220Z
UID:10002593-1803891600-1803895200@jenniferkurdyla.com
SUMMARY:Strength: Flow Yoga
DESCRIPTION:
URL:https://jenniferkurdyla.com/event/strength-flow-yoga/2027-03-01/
LOCATION:YogaSole\, 254 Windsor Place\, Brooklyn\, NY\, 11215\, United States
CATEGORIES:in-person yoga
END:VEVENT
BEGIN:VEVENT
DTSTART;TZID=America/New_York:20270302T090000
DTEND;TZID=America/New_York:20270302T101500
DTSTAMP:20260419T143832
CREATED:20250930T183416Z
LAST-MODIFIED:20250930T183416Z
UID:10004677-1803978000-1803982500@jenniferkurdyla.com
SUMMARY:Every Body Yoga
DESCRIPTION:
URL:https://jenniferkurdyla.com/event/every-body-yoga/2027-03-02/
LOCATION:Brooklyn Artery\, Cortelyou Road 1004\, Brooklyn\, NY\, 11218\, United States
CATEGORIES:in-person yoga
GEO:40.6391752;-73.9684262
X-APPLE-STRUCTURED-LOCATION;VALUE=URI;X-ADDRESS=Brooklyn Artery Cortelyou Road 1004 Brooklyn NY 11218 United States;X-APPLE-RADIUS=500;X-TITLE=Cortelyou Road 1004:geo:-73.9684262,40.6391752
END:VEVENT
BEGIN:VEVENT
DTSTART;TZID=America/New_York:20270302T183000
DTEND;TZID=America/New_York:20270302T193000
DTSTAMP:20260419T143832
CREATED:20260226T014012Z
LAST-MODIFIED:20260226T014012Z
UID:10005041-1804012200-1804015800@jenniferkurdyla.com
SUMMARY:Yoga Flow
DESCRIPTION:
URL:https://jenniferkurdyla.com/event/yoga-flow-3/2027-03-02/
LOCATION:YogaSole\, 254 Windsor Place\, Brooklyn\, NY\, 11215\, United States
CATEGORIES:in-person yoga
END:VEVENT
BEGIN:VEVENT
DTSTART;TZID=America/New_York:20270303T073000
DTEND;TZID=America/New_York:20270303T082000
DTSTAMP:20260419T143832
CREATED:20241210T191521Z
LAST-MODIFIED:20241210T191521Z
UID:10003613-1804059000-1804062000@jenniferkurdyla.com
SUMMARY:Mat Pilates
DESCRIPTION:
URL:https://jenniferkurdyla.com/event/mat-pilates-4/2027-03-03/
LOCATION:YogaSole\, 254 Windsor Place\, Brooklyn\, NY\, 11215\, United States
CATEGORIES:in-person Pilates
END:VEVENT
BEGIN:VEVENT
DTSTART;TZID=America/New_York:20270304T073000
DTEND;TZID=America/New_York:20270304T083000
DTSTAMP:20260419T143832
CREATED:20260226T014120Z
LAST-MODIFIED:20260226T014120Z
UID:10005099-1804145400-1804149000@jenniferkurdyla.com
SUMMARY:Yoga Flow
DESCRIPTION:
URL:https://jenniferkurdyla.com/event/yoga-flow-4/2027-03-04/
LOCATION:YogaSole\, 254 Windsor Place\, Brooklyn\, NY\, 11215\, United States
CATEGORIES:in-person yoga
END:VEVENT
BEGIN:VEVENT
DTSTART;TZID=America/New_York:20270306T101500
DTEND;TZID=America/New_York:20270306T110000
DTSTAMP:20260419T143832
CREATED:20260226T014344Z
LAST-MODIFIED:20260226T014344Z
UID:10005178-1804328100-1804330800@jenniferkurdyla.com
SUMMARY:Mindful Strength
DESCRIPTION:
URL:https://jenniferkurdyla.com/event/mindful-strength-2-2/2027-03-06/
LOCATION:Brooklyn Flow\, 198 5th Ave.\, Brooklyn\, NY
CATEGORIES:in-person Pilates
GEO:40.6767893;-73.9805007
X-APPLE-STRUCTURED-LOCATION;VALUE=URI;X-ADDRESS=Brooklyn Flow 198 5th Ave. Brooklyn NY;X-APPLE-RADIUS=500;X-TITLE=198 5th Ave.:geo:-73.9805007,40.6767893
END:VEVENT
BEGIN:VEVENT
DTSTART;TZID=America/New_York:20270307T171500
DTEND;TZID=America/New_York:20270307T181500
DTSTAMP:20260419T143832
CREATED:20240205T204129Z
LAST-MODIFIED:20240205T204130Z
UID:10001741-1804439700-1804443300@jenniferkurdyla.com
SUMMARY:Foundations of Yoga
DESCRIPTION:Register at Arise Yoga Brooklyn: https://www.arise.yoga/brooklyn-schedule
URL:https://jenniferkurdyla.com/event/foundations-of-yoga-2/2027-03-07/
LOCATION:Arise Yoga Brooklyn\, 730 Franklin Ave.\, Brooklyn\, NY
CATEGORIES:in-person yoga
GEO:40.6737017;-73.9571291
X-APPLE-STRUCTURED-LOCATION;VALUE=URI;X-ADDRESS=Arise Yoga Brooklyn 730 Franklin Ave. Brooklyn NY;X-APPLE-RADIUS=500;X-TITLE=730 Franklin Ave.:geo:-73.9571291,40.6737017
END:VEVENT
BEGIN:VEVENT
DTSTART;TZID=America/New_York:20270308T073000
DTEND;TZID=America/New_York:20270308T082000
DTSTAMP:20260419T143832
CREATED:20251007T200701Z
LAST-MODIFIED:20251007T200701Z
UID:10002333-1804491000-1804494000@jenniferkurdyla.com
SUMMARY:Mat Pilates
DESCRIPTION:
URL:https://jenniferkurdyla.com/event/mat-pilates-6/2027-03-08/
LOCATION:YogaSole\, 254 Windsor Place\, Brooklyn\, NY\, 11215\, United States
CATEGORIES:in-person Pilates
END:VEVENT
BEGIN:VEVENT
DTSTART;TZID=America/New_York:20270308T090000
DTEND;TZID=America/New_York:20270308T100000
DTSTAMP:20260419T143832
CREATED:20240917T234220Z
LAST-MODIFIED:20240917T234220Z
UID:10002594-1804496400-1804500000@jenniferkurdyla.com
SUMMARY:Strength: Flow Yoga
DESCRIPTION:
URL:https://jenniferkurdyla.com/event/strength-flow-yoga/2027-03-08/
LOCATION:YogaSole\, 254 Windsor Place\, Brooklyn\, NY\, 11215\, United States
CATEGORIES:in-person yoga
END:VEVENT
BEGIN:VEVENT
DTSTART;TZID=America/New_York:20270309T090000
DTEND;TZID=America/New_York:20270309T101500
DTSTAMP:20260419T143832
CREATED:20250930T183416Z
LAST-MODIFIED:20250930T183416Z
UID:10004678-1804582800-1804587300@jenniferkurdyla.com
SUMMARY:Every Body Yoga
DESCRIPTION:
URL:https://jenniferkurdyla.com/event/every-body-yoga/2027-03-09/
LOCATION:Brooklyn Artery\, Cortelyou Road 1004\, Brooklyn\, NY\, 11218\, United States
CATEGORIES:in-person yoga
GEO:40.6391752;-73.9684262
X-APPLE-STRUCTURED-LOCATION;VALUE=URI;X-ADDRESS=Brooklyn Artery Cortelyou Road 1004 Brooklyn NY 11218 United States;X-APPLE-RADIUS=500;X-TITLE=Cortelyou Road 1004:geo:-73.9684262,40.6391752
END:VEVENT
END:VCALENDAR