BEGIN:VCALENDAR
VERSION:2.0
PRODID:-//BeNourished - ECPv6.14.0//NONSGML v1.0//EN
CALSCALE:GREGORIAN
METHOD:PUBLISH
X-WR-CALNAME:BeNourished
X-ORIGINAL-URL:https://jenniferkurdyla.com
X-WR-CALDESC:Events for BeNourished
REFRESH-INTERVAL;VALUE=DURATION:PT1H
X-Robots-Tag:noindex
X-PUBLISHED-TTL:PT1H
BEGIN:VTIMEZONE
TZID:America/New_York
BEGIN:DAYLIGHT
TZOFFSETFROM:-0500
TZOFFSETTO:-0400
TZNAME:EDT
DTSTART:20270314T070000
END:DAYLIGHT
BEGIN:STANDARD
TZOFFSETFROM:-0400
TZOFFSETTO:-0500
TZNAME:EST
DTSTART:20271107T060000
END:STANDARD
BEGIN:DAYLIGHT
TZOFFSETFROM:-0500
TZOFFSETTO:-0400
TZNAME:EDT
DTSTART:20280312T070000
END:DAYLIGHT
BEGIN:STANDARD
TZOFFSETFROM:-0400
TZOFFSETTO:-0500
TZNAME:EST
DTSTART:20281105T060000
END:STANDARD
END:VTIMEZONE
BEGIN:VEVENT
DTSTART;TZID=America/New_York:20271128T171500
DTEND;TZID=America/New_York:20271128T181500
DTSTAMP:20260422T184442
CREATED:20240205T204129Z
LAST-MODIFIED:20240205T204130Z
UID:10001779-1827422100-1827425700@jenniferkurdyla.com
SUMMARY:Foundations of Yoga
DESCRIPTION:Register at Arise Yoga Brooklyn: https://www.arise.yoga/brooklyn-schedule
URL:https://jenniferkurdyla.com/event/foundations-of-yoga-2/2027-11-28/
LOCATION:Arise Yoga Brooklyn\, 730 Franklin Ave.\, Brooklyn\, NY
CATEGORIES:in-person yoga
GEO:40.6737017;-73.9571291
X-APPLE-STRUCTURED-LOCATION;VALUE=URI;X-ADDRESS=Arise Yoga Brooklyn 730 Franklin Ave. Brooklyn NY;X-APPLE-RADIUS=500;X-TITLE=730 Franklin Ave.:geo:-73.9571291,40.6737017
END:VEVENT
BEGIN:VEVENT
DTSTART;TZID=America/New_York:20271129T073000
DTEND;TZID=America/New_York:20271129T082000
DTSTAMP:20260422T184442
CREATED:20251007T200701Z
LAST-MODIFIED:20251007T200701Z
UID:10002371-1827473400-1827476400@jenniferkurdyla.com
SUMMARY:Mat Pilates
DESCRIPTION:
URL:https://jenniferkurdyla.com/event/mat-pilates-6/2027-11-29/
LOCATION:YogaSole\, 254 Windsor Place\, Brooklyn\, NY\, 11215\, United States
CATEGORIES:in-person Pilates
END:VEVENT
BEGIN:VEVENT
DTSTART;TZID=America/New_York:20271129T090000
DTEND;TZID=America/New_York:20271129T100000
DTSTAMP:20260422T184442
CREATED:20240917T234220Z
LAST-MODIFIED:20240917T234220Z
UID:10002632-1827478800-1827482400@jenniferkurdyla.com
SUMMARY:Strength: Flow Yoga
DESCRIPTION:
URL:https://jenniferkurdyla.com/event/strength-flow-yoga/2027-11-29/
LOCATION:YogaSole\, 254 Windsor Place\, Brooklyn\, NY\, 11215\, United States
CATEGORIES:in-person yoga
END:VEVENT
BEGIN:VEVENT
DTSTART;TZID=America/New_York:20271130T090000
DTEND;TZID=America/New_York:20271130T101500
DTSTAMP:20260422T184442
CREATED:20250930T183416Z
LAST-MODIFIED:20250930T183416Z
UID:10004716-1827565200-1827569700@jenniferkurdyla.com
SUMMARY:Every Body Yoga
DESCRIPTION:
URL:https://jenniferkurdyla.com/event/every-body-yoga/2027-11-30/
LOCATION:Brooklyn Artery\, Cortelyou Road 1004\, Brooklyn\, NY\, 11218\, United States
CATEGORIES:in-person yoga
GEO:40.6391752;-73.9684262
X-APPLE-STRUCTURED-LOCATION;VALUE=URI;X-ADDRESS=Brooklyn Artery Cortelyou Road 1004 Brooklyn NY 11218 United States;X-APPLE-RADIUS=500;X-TITLE=Cortelyou Road 1004:geo:-73.9684262,40.6391752
END:VEVENT
BEGIN:VEVENT
DTSTART;TZID=America/New_York:20271201T073000
DTEND;TZID=America/New_York:20271201T082000
DTSTAMP:20260422T184442
CREATED:20241210T191521Z
LAST-MODIFIED:20241210T191521Z
UID:10003652-1827646200-1827649200@jenniferkurdyla.com
SUMMARY:Mat Pilates
DESCRIPTION:
URL:https://jenniferkurdyla.com/event/mat-pilates-4/2027-12-01/
LOCATION:YogaSole\, 254 Windsor Place\, Brooklyn\, NY\, 11215\, United States
CATEGORIES:in-person Pilates
END:VEVENT
BEGIN:VEVENT
DTSTART;TZID=America/New_York:20271204T101500
DTEND;TZID=America/New_York:20271204T110000
DTSTAMP:20260422T184442
CREATED:20260226T014344Z
LAST-MODIFIED:20260226T014344Z
UID:10005217-1827915300-1827918000@jenniferkurdyla.com
SUMMARY:Mindful Strength
DESCRIPTION:
URL:https://jenniferkurdyla.com/event/mindful-strength-2-2/2027-12-04/
LOCATION:Brooklyn Flow\, 198 5th Ave.\, Brooklyn\, NY
CATEGORIES:in-person Pilates
GEO:40.6767893;-73.9805007
X-APPLE-STRUCTURED-LOCATION;VALUE=URI;X-ADDRESS=Brooklyn Flow 198 5th Ave. Brooklyn NY;X-APPLE-RADIUS=500;X-TITLE=198 5th Ave.:geo:-73.9805007,40.6767893
END:VEVENT
BEGIN:VEVENT
DTSTART;TZID=America/New_York:20271205T171500
DTEND;TZID=America/New_York:20271205T181500
DTSTAMP:20260422T184442
CREATED:20240205T204129Z
LAST-MODIFIED:20240205T204130Z
UID:10001780-1828026900-1828030500@jenniferkurdyla.com
SUMMARY:Foundations of Yoga
DESCRIPTION:Register at Arise Yoga Brooklyn: https://www.arise.yoga/brooklyn-schedule
URL:https://jenniferkurdyla.com/event/foundations-of-yoga-2/2027-12-05/
LOCATION:Arise Yoga Brooklyn\, 730 Franklin Ave.\, Brooklyn\, NY
CATEGORIES:in-person yoga
GEO:40.6737017;-73.9571291
X-APPLE-STRUCTURED-LOCATION;VALUE=URI;X-ADDRESS=Arise Yoga Brooklyn 730 Franklin Ave. Brooklyn NY;X-APPLE-RADIUS=500;X-TITLE=730 Franklin Ave.:geo:-73.9571291,40.6737017
END:VEVENT
BEGIN:VEVENT
DTSTART;TZID=America/New_York:20271206T073000
DTEND;TZID=America/New_York:20271206T082000
DTSTAMP:20260422T184442
CREATED:20251007T200701Z
LAST-MODIFIED:20251007T200701Z
UID:10002372-1828078200-1828081200@jenniferkurdyla.com
SUMMARY:Mat Pilates
DESCRIPTION:
URL:https://jenniferkurdyla.com/event/mat-pilates-6/2027-12-06/
LOCATION:YogaSole\, 254 Windsor Place\, Brooklyn\, NY\, 11215\, United States
CATEGORIES:in-person Pilates
END:VEVENT
BEGIN:VEVENT
DTSTART;TZID=America/New_York:20271206T090000
DTEND;TZID=America/New_York:20271206T100000
DTSTAMP:20260422T184442
CREATED:20240917T234220Z
LAST-MODIFIED:20240917T234220Z
UID:10002633-1828083600-1828087200@jenniferkurdyla.com
SUMMARY:Strength: Flow Yoga
DESCRIPTION:
URL:https://jenniferkurdyla.com/event/strength-flow-yoga/2027-12-06/
LOCATION:YogaSole\, 254 Windsor Place\, Brooklyn\, NY\, 11215\, United States
CATEGORIES:in-person yoga
END:VEVENT
BEGIN:VEVENT
DTSTART;TZID=America/New_York:20271207T090000
DTEND;TZID=America/New_York:20271207T101500
DTSTAMP:20260422T184442
CREATED:20250930T183416Z
LAST-MODIFIED:20250930T183416Z
UID:10004717-1828170000-1828174500@jenniferkurdyla.com
SUMMARY:Every Body Yoga
DESCRIPTION:
URL:https://jenniferkurdyla.com/event/every-body-yoga/2027-12-07/
LOCATION:Brooklyn Artery\, Cortelyou Road 1004\, Brooklyn\, NY\, 11218\, United States
CATEGORIES:in-person yoga
GEO:40.6391752;-73.9684262
X-APPLE-STRUCTURED-LOCATION;VALUE=URI;X-ADDRESS=Brooklyn Artery Cortelyou Road 1004 Brooklyn NY 11218 United States;X-APPLE-RADIUS=500;X-TITLE=Cortelyou Road 1004:geo:-73.9684262,40.6391752
END:VEVENT
BEGIN:VEVENT
DTSTART;TZID=America/New_York:20271208T073000
DTEND;TZID=America/New_York:20271208T082000
DTSTAMP:20260422T184442
CREATED:20241210T191521Z
LAST-MODIFIED:20241210T191521Z
UID:10003653-1828251000-1828254000@jenniferkurdyla.com
SUMMARY:Mat Pilates
DESCRIPTION:
URL:https://jenniferkurdyla.com/event/mat-pilates-4/2027-12-08/
LOCATION:YogaSole\, 254 Windsor Place\, Brooklyn\, NY\, 11215\, United States
CATEGORIES:in-person Pilates
END:VEVENT
BEGIN:VEVENT
DTSTART;TZID=America/New_York:20271211T101500
DTEND;TZID=America/New_York:20271211T110000
DTSTAMP:20260422T184442
CREATED:20260226T014344Z
LAST-MODIFIED:20260226T014344Z
UID:10005218-1828520100-1828522800@jenniferkurdyla.com
SUMMARY:Mindful Strength
DESCRIPTION:
URL:https://jenniferkurdyla.com/event/mindful-strength-2-2/2027-12-11/
LOCATION:Brooklyn Flow\, 198 5th Ave.\, Brooklyn\, NY
CATEGORIES:in-person Pilates
GEO:40.6767893;-73.9805007
X-APPLE-STRUCTURED-LOCATION;VALUE=URI;X-ADDRESS=Brooklyn Flow 198 5th Ave. Brooklyn NY;X-APPLE-RADIUS=500;X-TITLE=198 5th Ave.:geo:-73.9805007,40.6767893
END:VEVENT
BEGIN:VEVENT
DTSTART;TZID=America/New_York:20271212T171500
DTEND;TZID=America/New_York:20271212T181500
DTSTAMP:20260422T184442
CREATED:20240205T204129Z
LAST-MODIFIED:20240205T204130Z
UID:10001781-1828631700-1828635300@jenniferkurdyla.com
SUMMARY:Foundations of Yoga
DESCRIPTION:Register at Arise Yoga Brooklyn: https://www.arise.yoga/brooklyn-schedule
URL:https://jenniferkurdyla.com/event/foundations-of-yoga-2/2027-12-12/
LOCATION:Arise Yoga Brooklyn\, 730 Franklin Ave.\, Brooklyn\, NY
CATEGORIES:in-person yoga
GEO:40.6737017;-73.9571291
X-APPLE-STRUCTURED-LOCATION;VALUE=URI;X-ADDRESS=Arise Yoga Brooklyn 730 Franklin Ave. Brooklyn NY;X-APPLE-RADIUS=500;X-TITLE=730 Franklin Ave.:geo:-73.9571291,40.6737017
END:VEVENT
BEGIN:VEVENT
DTSTART;TZID=America/New_York:20271213T073000
DTEND;TZID=America/New_York:20271213T082000
DTSTAMP:20260422T184442
CREATED:20251007T200701Z
LAST-MODIFIED:20251007T200701Z
UID:10002373-1828683000-1828686000@jenniferkurdyla.com
SUMMARY:Mat Pilates
DESCRIPTION:
URL:https://jenniferkurdyla.com/event/mat-pilates-6/2027-12-13/
LOCATION:YogaSole\, 254 Windsor Place\, Brooklyn\, NY\, 11215\, United States
CATEGORIES:in-person Pilates
END:VEVENT
BEGIN:VEVENT
DTSTART;TZID=America/New_York:20271213T090000
DTEND;TZID=America/New_York:20271213T100000
DTSTAMP:20260422T184442
CREATED:20240917T234220Z
LAST-MODIFIED:20240917T234220Z
UID:10002634-1828688400-1828692000@jenniferkurdyla.com
SUMMARY:Strength: Flow Yoga
DESCRIPTION:
URL:https://jenniferkurdyla.com/event/strength-flow-yoga/2027-12-13/
LOCATION:YogaSole\, 254 Windsor Place\, Brooklyn\, NY\, 11215\, United States
CATEGORIES:in-person yoga
END:VEVENT
BEGIN:VEVENT
DTSTART;TZID=America/New_York:20271214T090000
DTEND;TZID=America/New_York:20271214T101500
DTSTAMP:20260422T184442
CREATED:20250930T183416Z
LAST-MODIFIED:20250930T183416Z
UID:10004718-1828774800-1828779300@jenniferkurdyla.com
SUMMARY:Every Body Yoga
DESCRIPTION:
URL:https://jenniferkurdyla.com/event/every-body-yoga/2027-12-14/
LOCATION:Brooklyn Artery\, Cortelyou Road 1004\, Brooklyn\, NY\, 11218\, United States
CATEGORIES:in-person yoga
GEO:40.6391752;-73.9684262
X-APPLE-STRUCTURED-LOCATION;VALUE=URI;X-ADDRESS=Brooklyn Artery Cortelyou Road 1004 Brooklyn NY 11218 United States;X-APPLE-RADIUS=500;X-TITLE=Cortelyou Road 1004:geo:-73.9684262,40.6391752
END:VEVENT
BEGIN:VEVENT
DTSTART;TZID=America/New_York:20271215T073000
DTEND;TZID=America/New_York:20271215T082000
DTSTAMP:20260422T184442
CREATED:20241210T191521Z
LAST-MODIFIED:20241210T191521Z
UID:10003654-1828855800-1828858800@jenniferkurdyla.com
SUMMARY:Mat Pilates
DESCRIPTION:
URL:https://jenniferkurdyla.com/event/mat-pilates-4/2027-12-15/
LOCATION:YogaSole\, 254 Windsor Place\, Brooklyn\, NY\, 11215\, United States
CATEGORIES:in-person Pilates
END:VEVENT
BEGIN:VEVENT
DTSTART;TZID=America/New_York:20271218T101500
DTEND;TZID=America/New_York:20271218T110000
DTSTAMP:20260422T184442
CREATED:20260226T014344Z
LAST-MODIFIED:20260226T014344Z
UID:10005219-1829124900-1829127600@jenniferkurdyla.com
SUMMARY:Mindful Strength
DESCRIPTION:
URL:https://jenniferkurdyla.com/event/mindful-strength-2-2/2027-12-18/
LOCATION:Brooklyn Flow\, 198 5th Ave.\, Brooklyn\, NY
CATEGORIES:in-person Pilates
GEO:40.6767893;-73.9805007
X-APPLE-STRUCTURED-LOCATION;VALUE=URI;X-ADDRESS=Brooklyn Flow 198 5th Ave. Brooklyn NY;X-APPLE-RADIUS=500;X-TITLE=198 5th Ave.:geo:-73.9805007,40.6767893
END:VEVENT
BEGIN:VEVENT
DTSTART;TZID=America/New_York:20271219T171500
DTEND;TZID=America/New_York:20271219T181500
DTSTAMP:20260422T184442
CREATED:20240205T204129Z
LAST-MODIFIED:20240205T204130Z
UID:10001782-1829236500-1829240100@jenniferkurdyla.com
SUMMARY:Foundations of Yoga
DESCRIPTION:Register at Arise Yoga Brooklyn: https://www.arise.yoga/brooklyn-schedule
URL:https://jenniferkurdyla.com/event/foundations-of-yoga-2/2027-12-19/
LOCATION:Arise Yoga Brooklyn\, 730 Franklin Ave.\, Brooklyn\, NY
CATEGORIES:in-person yoga
GEO:40.6737017;-73.9571291
X-APPLE-STRUCTURED-LOCATION;VALUE=URI;X-ADDRESS=Arise Yoga Brooklyn 730 Franklin Ave. Brooklyn NY;X-APPLE-RADIUS=500;X-TITLE=730 Franklin Ave.:geo:-73.9571291,40.6737017
END:VEVENT
BEGIN:VEVENT
DTSTART;TZID=America/New_York:20271220T073000
DTEND;TZID=America/New_York:20271220T082000
DTSTAMP:20260422T184442
CREATED:20251007T200701Z
LAST-MODIFIED:20251007T200701Z
UID:10002374-1829287800-1829290800@jenniferkurdyla.com
SUMMARY:Mat Pilates
DESCRIPTION:
URL:https://jenniferkurdyla.com/event/mat-pilates-6/2027-12-20/
LOCATION:YogaSole\, 254 Windsor Place\, Brooklyn\, NY\, 11215\, United States
CATEGORIES:in-person Pilates
END:VEVENT
BEGIN:VEVENT
DTSTART;TZID=America/New_York:20271220T090000
DTEND;TZID=America/New_York:20271220T100000
DTSTAMP:20260422T184442
CREATED:20240917T234220Z
LAST-MODIFIED:20240917T234220Z
UID:10002635-1829293200-1829296800@jenniferkurdyla.com
SUMMARY:Strength: Flow Yoga
DESCRIPTION:
URL:https://jenniferkurdyla.com/event/strength-flow-yoga/2027-12-20/
LOCATION:YogaSole\, 254 Windsor Place\, Brooklyn\, NY\, 11215\, United States
CATEGORIES:in-person yoga
END:VEVENT
BEGIN:VEVENT
DTSTART;TZID=America/New_York:20271221T090000
DTEND;TZID=America/New_York:20271221T101500
DTSTAMP:20260422T184442
CREATED:20250930T183416Z
LAST-MODIFIED:20250930T183416Z
UID:10004719-1829379600-1829384100@jenniferkurdyla.com
SUMMARY:Every Body Yoga
DESCRIPTION:
URL:https://jenniferkurdyla.com/event/every-body-yoga/2027-12-21/
LOCATION:Brooklyn Artery\, Cortelyou Road 1004\, Brooklyn\, NY\, 11218\, United States
CATEGORIES:in-person yoga
GEO:40.6391752;-73.9684262
X-APPLE-STRUCTURED-LOCATION;VALUE=URI;X-ADDRESS=Brooklyn Artery Cortelyou Road 1004 Brooklyn NY 11218 United States;X-APPLE-RADIUS=500;X-TITLE=Cortelyou Road 1004:geo:-73.9684262,40.6391752
END:VEVENT
BEGIN:VEVENT
DTSTART;TZID=America/New_York:20271222T073000
DTEND;TZID=America/New_York:20271222T082000
DTSTAMP:20260422T184442
CREATED:20241210T191521Z
LAST-MODIFIED:20241210T191521Z
UID:10003655-1829460600-1829463600@jenniferkurdyla.com
SUMMARY:Mat Pilates
DESCRIPTION:
URL:https://jenniferkurdyla.com/event/mat-pilates-4/2027-12-22/
LOCATION:YogaSole\, 254 Windsor Place\, Brooklyn\, NY\, 11215\, United States
CATEGORIES:in-person Pilates
END:VEVENT
BEGIN:VEVENT
DTSTART;TZID=America/New_York:20271225T101500
DTEND;TZID=America/New_York:20271225T110000
DTSTAMP:20260422T184442
CREATED:20260226T014344Z
LAST-MODIFIED:20260226T014344Z
UID:10005220-1829729700-1829732400@jenniferkurdyla.com
SUMMARY:Mindful Strength
DESCRIPTION:
URL:https://jenniferkurdyla.com/event/mindful-strength-2-2/2027-12-25/
LOCATION:Brooklyn Flow\, 198 5th Ave.\, Brooklyn\, NY
CATEGORIES:in-person Pilates
GEO:40.6767893;-73.9805007
X-APPLE-STRUCTURED-LOCATION;VALUE=URI;X-ADDRESS=Brooklyn Flow 198 5th Ave. Brooklyn NY;X-APPLE-RADIUS=500;X-TITLE=198 5th Ave.:geo:-73.9805007,40.6767893
END:VEVENT
BEGIN:VEVENT
DTSTART;TZID=America/New_York:20271226T171500
DTEND;TZID=America/New_York:20271226T181500
DTSTAMP:20260422T184442
CREATED:20240205T204129Z
LAST-MODIFIED:20240205T204130Z
UID:10001783-1829841300-1829844900@jenniferkurdyla.com
SUMMARY:Foundations of Yoga
DESCRIPTION:Register at Arise Yoga Brooklyn: https://www.arise.yoga/brooklyn-schedule
URL:https://jenniferkurdyla.com/event/foundations-of-yoga-2/2027-12-26/
LOCATION:Arise Yoga Brooklyn\, 730 Franklin Ave.\, Brooklyn\, NY
CATEGORIES:in-person yoga
GEO:40.6737017;-73.9571291
X-APPLE-STRUCTURED-LOCATION;VALUE=URI;X-ADDRESS=Arise Yoga Brooklyn 730 Franklin Ave. Brooklyn NY;X-APPLE-RADIUS=500;X-TITLE=730 Franklin Ave.:geo:-73.9571291,40.6737017
END:VEVENT
BEGIN:VEVENT
DTSTART;TZID=America/New_York:20271227T073000
DTEND;TZID=America/New_York:20271227T082000
DTSTAMP:20260422T184442
CREATED:20251007T200701Z
LAST-MODIFIED:20251007T200701Z
UID:10002375-1829892600-1829895600@jenniferkurdyla.com
SUMMARY:Mat Pilates
DESCRIPTION:
URL:https://jenniferkurdyla.com/event/mat-pilates-6/2027-12-27/
LOCATION:YogaSole\, 254 Windsor Place\, Brooklyn\, NY\, 11215\, United States
CATEGORIES:in-person Pilates
END:VEVENT
BEGIN:VEVENT
DTSTART;TZID=America/New_York:20271227T090000
DTEND;TZID=America/New_York:20271227T100000
DTSTAMP:20260422T184442
CREATED:20240917T234220Z
LAST-MODIFIED:20240917T234220Z
UID:10002636-1829898000-1829901600@jenniferkurdyla.com
SUMMARY:Strength: Flow Yoga
DESCRIPTION:
URL:https://jenniferkurdyla.com/event/strength-flow-yoga/2027-12-27/
LOCATION:YogaSole\, 254 Windsor Place\, Brooklyn\, NY\, 11215\, United States
CATEGORIES:in-person yoga
END:VEVENT
BEGIN:VEVENT
DTSTART;TZID=America/New_York:20271228T090000
DTEND;TZID=America/New_York:20271228T101500
DTSTAMP:20260422T184442
CREATED:20250930T183416Z
LAST-MODIFIED:20250930T183416Z
UID:10004720-1829984400-1829988900@jenniferkurdyla.com
SUMMARY:Every Body Yoga
DESCRIPTION:
URL:https://jenniferkurdyla.com/event/every-body-yoga/2027-12-28/
LOCATION:Brooklyn Artery\, Cortelyou Road 1004\, Brooklyn\, NY\, 11218\, United States
CATEGORIES:in-person yoga
GEO:40.6391752;-73.9684262
X-APPLE-STRUCTURED-LOCATION;VALUE=URI;X-ADDRESS=Brooklyn Artery Cortelyou Road 1004 Brooklyn NY 11218 United States;X-APPLE-RADIUS=500;X-TITLE=Cortelyou Road 1004:geo:-73.9684262,40.6391752
END:VEVENT
BEGIN:VEVENT
DTSTART;TZID=America/New_York:20271229T073000
DTEND;TZID=America/New_York:20271229T082000
DTSTAMP:20260422T184442
CREATED:20241210T191521Z
LAST-MODIFIED:20241210T191521Z
UID:10003656-1830065400-1830068400@jenniferkurdyla.com
SUMMARY:Mat Pilates
DESCRIPTION:
URL:https://jenniferkurdyla.com/event/mat-pilates-4/2027-12-29/
LOCATION:YogaSole\, 254 Windsor Place\, Brooklyn\, NY\, 11215\, United States
CATEGORIES:in-person Pilates
END:VEVENT
BEGIN:VEVENT
DTSTART;TZID=America/New_York:20280101T101500
DTEND;TZID=America/New_York:20280101T110000
DTSTAMP:20260422T184442
CREATED:20260226T014344Z
LAST-MODIFIED:20260226T014344Z
UID:10005221-1830334500-1830337200@jenniferkurdyla.com
SUMMARY:Mindful Strength
DESCRIPTION:
URL:https://jenniferkurdyla.com/event/mindful-strength-2-2/2028-01-01/
LOCATION:Brooklyn Flow\, 198 5th Ave.\, Brooklyn\, NY
CATEGORIES:in-person Pilates
GEO:40.6767893;-73.9805007
X-APPLE-STRUCTURED-LOCATION;VALUE=URI;X-ADDRESS=Brooklyn Flow 198 5th Ave. Brooklyn NY;X-APPLE-RADIUS=500;X-TITLE=198 5th Ave.:geo:-73.9805007,40.6767893
END:VEVENT
END:VCALENDAR