BEGIN:VCALENDAR
VERSION:2.0
PRODID:-//BeNourished - ECPv6.14.0//NONSGML v1.0//EN
CALSCALE:GREGORIAN
METHOD:PUBLISH
X-WR-CALNAME:BeNourished
X-ORIGINAL-URL:https://jenniferkurdyla.com
X-WR-CALDESC:Events for BeNourished
REFRESH-INTERVAL;VALUE=DURATION:PT1H
X-Robots-Tag:noindex
X-PUBLISHED-TTL:PT1H
BEGIN:VTIMEZONE
TZID:America/New_York
BEGIN:DAYLIGHT
TZOFFSETFROM:-0500
TZOFFSETTO:-0400
TZNAME:EDT
DTSTART:20280312T070000
END:DAYLIGHT
BEGIN:STANDARD
TZOFFSETFROM:-0400
TZOFFSETTO:-0500
TZNAME:EST
DTSTART:20281105T060000
END:STANDARD
END:VTIMEZONE
BEGIN:VEVENT
DTSTART;TZID=America/New_York:20280402T171500
DTEND;TZID=America/New_York:20280402T181500
DTSTAMP:20260423T065719
CREATED:20240205T204129Z
LAST-MODIFIED:20240205T204130Z
UID:10001797-1838308500-1838312100@jenniferkurdyla.com
SUMMARY:Foundations of Yoga
DESCRIPTION:Register at Arise Yoga Brooklyn: https://www.arise.yoga/brooklyn-schedule
URL:https://jenniferkurdyla.com/event/foundations-of-yoga-2/2028-04-02/
LOCATION:Arise Yoga Brooklyn\, 730 Franklin Ave.\, Brooklyn\, NY
CATEGORIES:in-person yoga
GEO:40.6737017;-73.9571291
X-APPLE-STRUCTURED-LOCATION;VALUE=URI;X-ADDRESS=Arise Yoga Brooklyn 730 Franklin Ave. Brooklyn NY;X-APPLE-RADIUS=500;X-TITLE=730 Franklin Ave.:geo:-73.9571291,40.6737017
END:VEVENT
BEGIN:VEVENT
DTSTART;TZID=America/New_York:20280403T073000
DTEND;TZID=America/New_York:20280403T082000
DTSTAMP:20260423T065719
CREATED:20251007T200701Z
LAST-MODIFIED:20251007T200701Z
UID:10002389-1838359800-1838362800@jenniferkurdyla.com
SUMMARY:Mat Pilates
DESCRIPTION:
URL:https://jenniferkurdyla.com/event/mat-pilates-6/2028-04-03/
LOCATION:YogaSole\, 254 Windsor Place\, Brooklyn\, NY\, 11215\, United States
CATEGORIES:in-person Pilates
END:VEVENT
BEGIN:VEVENT
DTSTART;TZID=America/New_York:20280403T090000
DTEND;TZID=America/New_York:20280403T100000
DTSTAMP:20260423T065719
CREATED:20240917T234220Z
LAST-MODIFIED:20240917T234220Z
UID:10002650-1838365200-1838368800@jenniferkurdyla.com
SUMMARY:Strength: Flow Yoga
DESCRIPTION:
URL:https://jenniferkurdyla.com/event/strength-flow-yoga/2028-04-03/
LOCATION:YogaSole\, 254 Windsor Place\, Brooklyn\, NY\, 11215\, United States
CATEGORIES:in-person yoga
END:VEVENT
BEGIN:VEVENT
DTSTART;TZID=America/New_York:20280404T090000
DTEND;TZID=America/New_York:20280404T101500
DTSTAMP:20260423T065719
CREATED:20250930T183416Z
LAST-MODIFIED:20250930T183416Z
UID:10004734-1838451600-1838456100@jenniferkurdyla.com
SUMMARY:Every Body Yoga
DESCRIPTION:
URL:https://jenniferkurdyla.com/event/every-body-yoga/2028-04-04/
LOCATION:Brooklyn Artery\, Cortelyou Road 1004\, Brooklyn\, NY\, 11218\, United States
CATEGORIES:in-person yoga
GEO:40.6391752;-73.9684262
X-APPLE-STRUCTURED-LOCATION;VALUE=URI;X-ADDRESS=Brooklyn Artery Cortelyou Road 1004 Brooklyn NY 11218 United States;X-APPLE-RADIUS=500;X-TITLE=Cortelyou Road 1004:geo:-73.9684262,40.6391752
END:VEVENT
BEGIN:VEVENT
DTSTART;TZID=America/New_York:20280405T073000
DTEND;TZID=America/New_York:20280405T082000
DTSTAMP:20260423T065719
CREATED:20241210T191521Z
LAST-MODIFIED:20241210T191521Z
UID:10003670-1838532600-1838535600@jenniferkurdyla.com
SUMMARY:Mat Pilates
DESCRIPTION:
URL:https://jenniferkurdyla.com/event/mat-pilates-4/2028-04-05/
LOCATION:YogaSole\, 254 Windsor Place\, Brooklyn\, NY\, 11215\, United States
CATEGORIES:in-person Pilates
END:VEVENT
BEGIN:VEVENT
DTSTART;TZID=America/New_York:20280408T101500
DTEND;TZID=America/New_York:20280408T110000
DTSTAMP:20260423T065719
CREATED:20260226T014344Z
LAST-MODIFIED:20260226T014344Z
UID:10005235-1838801700-1838804400@jenniferkurdyla.com
SUMMARY:Mindful Strength
DESCRIPTION:
URL:https://jenniferkurdyla.com/event/mindful-strength-2-2/2028-04-08/
LOCATION:Brooklyn Flow\, 198 5th Ave.\, Brooklyn\, NY
CATEGORIES:in-person Pilates
GEO:40.6767893;-73.9805007
X-APPLE-STRUCTURED-LOCATION;VALUE=URI;X-ADDRESS=Brooklyn Flow 198 5th Ave. Brooklyn NY;X-APPLE-RADIUS=500;X-TITLE=198 5th Ave.:geo:-73.9805007,40.6767893
END:VEVENT
BEGIN:VEVENT
DTSTART;TZID=America/New_York:20280409T171500
DTEND;TZID=America/New_York:20280409T181500
DTSTAMP:20260423T065719
CREATED:20240205T204129Z
LAST-MODIFIED:20240205T204130Z
UID:10001798-1838913300-1838916900@jenniferkurdyla.com
SUMMARY:Foundations of Yoga
DESCRIPTION:Register at Arise Yoga Brooklyn: https://www.arise.yoga/brooklyn-schedule
URL:https://jenniferkurdyla.com/event/foundations-of-yoga-2/2028-04-09/
LOCATION:Arise Yoga Brooklyn\, 730 Franklin Ave.\, Brooklyn\, NY
CATEGORIES:in-person yoga
GEO:40.6737017;-73.9571291
X-APPLE-STRUCTURED-LOCATION;VALUE=URI;X-ADDRESS=Arise Yoga Brooklyn 730 Franklin Ave. Brooklyn NY;X-APPLE-RADIUS=500;X-TITLE=730 Franklin Ave.:geo:-73.9571291,40.6737017
END:VEVENT
BEGIN:VEVENT
DTSTART;TZID=America/New_York:20280410T073000
DTEND;TZID=America/New_York:20280410T082000
DTSTAMP:20260423T065719
CREATED:20251007T200701Z
LAST-MODIFIED:20251007T200701Z
UID:10002390-1838964600-1838967600@jenniferkurdyla.com
SUMMARY:Mat Pilates
DESCRIPTION:
URL:https://jenniferkurdyla.com/event/mat-pilates-6/2028-04-10/
LOCATION:YogaSole\, 254 Windsor Place\, Brooklyn\, NY\, 11215\, United States
CATEGORIES:in-person Pilates
END:VEVENT
BEGIN:VEVENT
DTSTART;TZID=America/New_York:20280410T090000
DTEND;TZID=America/New_York:20280410T100000
DTSTAMP:20260423T065719
CREATED:20240917T234220Z
LAST-MODIFIED:20240917T234220Z
UID:10002651-1838970000-1838973600@jenniferkurdyla.com
SUMMARY:Strength: Flow Yoga
DESCRIPTION:
URL:https://jenniferkurdyla.com/event/strength-flow-yoga/2028-04-10/
LOCATION:YogaSole\, 254 Windsor Place\, Brooklyn\, NY\, 11215\, United States
CATEGORIES:in-person yoga
END:VEVENT
BEGIN:VEVENT
DTSTART;TZID=America/New_York:20280411T090000
DTEND;TZID=America/New_York:20280411T101500
DTSTAMP:20260423T065719
CREATED:20250930T183416Z
LAST-MODIFIED:20250930T183416Z
UID:10004735-1839056400-1839060900@jenniferkurdyla.com
SUMMARY:Every Body Yoga
DESCRIPTION:
URL:https://jenniferkurdyla.com/event/every-body-yoga/2028-04-11/
LOCATION:Brooklyn Artery\, Cortelyou Road 1004\, Brooklyn\, NY\, 11218\, United States
CATEGORIES:in-person yoga
GEO:40.6391752;-73.9684262
X-APPLE-STRUCTURED-LOCATION;VALUE=URI;X-ADDRESS=Brooklyn Artery Cortelyou Road 1004 Brooklyn NY 11218 United States;X-APPLE-RADIUS=500;X-TITLE=Cortelyou Road 1004:geo:-73.9684262,40.6391752
END:VEVENT
BEGIN:VEVENT
DTSTART;TZID=America/New_York:20280412T073000
DTEND;TZID=America/New_York:20280412T082000
DTSTAMP:20260423T065719
CREATED:20241210T191521Z
LAST-MODIFIED:20241210T191521Z
UID:10003671-1839137400-1839140400@jenniferkurdyla.com
SUMMARY:Mat Pilates
DESCRIPTION:
URL:https://jenniferkurdyla.com/event/mat-pilates-4/2028-04-12/
LOCATION:YogaSole\, 254 Windsor Place\, Brooklyn\, NY\, 11215\, United States
CATEGORIES:in-person Pilates
END:VEVENT
BEGIN:VEVENT
DTSTART;TZID=America/New_York:20280415T101500
DTEND;TZID=America/New_York:20280415T110000
DTSTAMP:20260423T065719
CREATED:20260226T014344Z
LAST-MODIFIED:20260226T014344Z
UID:10005236-1839406500-1839409200@jenniferkurdyla.com
SUMMARY:Mindful Strength
DESCRIPTION:
URL:https://jenniferkurdyla.com/event/mindful-strength-2-2/2028-04-15/
LOCATION:Brooklyn Flow\, 198 5th Ave.\, Brooklyn\, NY
CATEGORIES:in-person Pilates
GEO:40.6767893;-73.9805007
X-APPLE-STRUCTURED-LOCATION;VALUE=URI;X-ADDRESS=Brooklyn Flow 198 5th Ave. Brooklyn NY;X-APPLE-RADIUS=500;X-TITLE=198 5th Ave.:geo:-73.9805007,40.6767893
END:VEVENT
BEGIN:VEVENT
DTSTART;TZID=America/New_York:20280416T171500
DTEND;TZID=America/New_York:20280416T181500
DTSTAMP:20260423T065719
CREATED:20240205T204129Z
LAST-MODIFIED:20240205T204130Z
UID:10001799-1839518100-1839521700@jenniferkurdyla.com
SUMMARY:Foundations of Yoga
DESCRIPTION:Register at Arise Yoga Brooklyn: https://www.arise.yoga/brooklyn-schedule
URL:https://jenniferkurdyla.com/event/foundations-of-yoga-2/2028-04-16/
LOCATION:Arise Yoga Brooklyn\, 730 Franklin Ave.\, Brooklyn\, NY
CATEGORIES:in-person yoga
GEO:40.6737017;-73.9571291
X-APPLE-STRUCTURED-LOCATION;VALUE=URI;X-ADDRESS=Arise Yoga Brooklyn 730 Franklin Ave. Brooklyn NY;X-APPLE-RADIUS=500;X-TITLE=730 Franklin Ave.:geo:-73.9571291,40.6737017
END:VEVENT
BEGIN:VEVENT
DTSTART;TZID=America/New_York:20280417T073000
DTEND;TZID=America/New_York:20280417T082000
DTSTAMP:20260423T065719
CREATED:20251007T200701Z
LAST-MODIFIED:20251007T200701Z
UID:10002391-1839569400-1839572400@jenniferkurdyla.com
SUMMARY:Mat Pilates
DESCRIPTION:
URL:https://jenniferkurdyla.com/event/mat-pilates-6/2028-04-17/
LOCATION:YogaSole\, 254 Windsor Place\, Brooklyn\, NY\, 11215\, United States
CATEGORIES:in-person Pilates
END:VEVENT
BEGIN:VEVENT
DTSTART;TZID=America/New_York:20280417T090000
DTEND;TZID=America/New_York:20280417T100000
DTSTAMP:20260423T065719
CREATED:20240917T234220Z
LAST-MODIFIED:20240917T234220Z
UID:10002652-1839574800-1839578400@jenniferkurdyla.com
SUMMARY:Strength: Flow Yoga
DESCRIPTION:
URL:https://jenniferkurdyla.com/event/strength-flow-yoga/2028-04-17/
LOCATION:YogaSole\, 254 Windsor Place\, Brooklyn\, NY\, 11215\, United States
CATEGORIES:in-person yoga
END:VEVENT
BEGIN:VEVENT
DTSTART;TZID=America/New_York:20280418T090000
DTEND;TZID=America/New_York:20280418T101500
DTSTAMP:20260423T065719
CREATED:20250930T183416Z
LAST-MODIFIED:20250930T183416Z
UID:10004736-1839661200-1839665700@jenniferkurdyla.com
SUMMARY:Every Body Yoga
DESCRIPTION:
URL:https://jenniferkurdyla.com/event/every-body-yoga/2028-04-18/
LOCATION:Brooklyn Artery\, Cortelyou Road 1004\, Brooklyn\, NY\, 11218\, United States
CATEGORIES:in-person yoga
GEO:40.6391752;-73.9684262
X-APPLE-STRUCTURED-LOCATION;VALUE=URI;X-ADDRESS=Brooklyn Artery Cortelyou Road 1004 Brooklyn NY 11218 United States;X-APPLE-RADIUS=500;X-TITLE=Cortelyou Road 1004:geo:-73.9684262,40.6391752
END:VEVENT
BEGIN:VEVENT
DTSTART;TZID=America/New_York:20280419T073000
DTEND;TZID=America/New_York:20280419T082000
DTSTAMP:20260423T065719
CREATED:20241210T191521Z
LAST-MODIFIED:20241210T191521Z
UID:10003672-1839742200-1839745200@jenniferkurdyla.com
SUMMARY:Mat Pilates
DESCRIPTION:
URL:https://jenniferkurdyla.com/event/mat-pilates-4/2028-04-19/
LOCATION:YogaSole\, 254 Windsor Place\, Brooklyn\, NY\, 11215\, United States
CATEGORIES:in-person Pilates
END:VEVENT
BEGIN:VEVENT
DTSTART;TZID=America/New_York:20280422T101500
DTEND;TZID=America/New_York:20280422T110000
DTSTAMP:20260423T065719
CREATED:20260226T014344Z
LAST-MODIFIED:20260226T014344Z
UID:10005237-1840011300-1840014000@jenniferkurdyla.com
SUMMARY:Mindful Strength
DESCRIPTION:
URL:https://jenniferkurdyla.com/event/mindful-strength-2-2/2028-04-22/
LOCATION:Brooklyn Flow\, 198 5th Ave.\, Brooklyn\, NY
CATEGORIES:in-person Pilates
GEO:40.6767893;-73.9805007
X-APPLE-STRUCTURED-LOCATION;VALUE=URI;X-ADDRESS=Brooklyn Flow 198 5th Ave. Brooklyn NY;X-APPLE-RADIUS=500;X-TITLE=198 5th Ave.:geo:-73.9805007,40.6767893
END:VEVENT
BEGIN:VEVENT
DTSTART;TZID=America/New_York:20280423T171500
DTEND;TZID=America/New_York:20280423T181500
DTSTAMP:20260423T065719
CREATED:20240205T204129Z
LAST-MODIFIED:20240205T204130Z
UID:10001800-1840122900-1840126500@jenniferkurdyla.com
SUMMARY:Foundations of Yoga
DESCRIPTION:Register at Arise Yoga Brooklyn: https://www.arise.yoga/brooklyn-schedule
URL:https://jenniferkurdyla.com/event/foundations-of-yoga-2/2028-04-23/
LOCATION:Arise Yoga Brooklyn\, 730 Franklin Ave.\, Brooklyn\, NY
CATEGORIES:in-person yoga
GEO:40.6737017;-73.9571291
X-APPLE-STRUCTURED-LOCATION;VALUE=URI;X-ADDRESS=Arise Yoga Brooklyn 730 Franklin Ave. Brooklyn NY;X-APPLE-RADIUS=500;X-TITLE=730 Franklin Ave.:geo:-73.9571291,40.6737017
END:VEVENT
BEGIN:VEVENT
DTSTART;TZID=America/New_York:20280424T073000
DTEND;TZID=America/New_York:20280424T082000
DTSTAMP:20260423T065719
CREATED:20251007T200701Z
LAST-MODIFIED:20251007T200701Z
UID:10002392-1840174200-1840177200@jenniferkurdyla.com
SUMMARY:Mat Pilates
DESCRIPTION:
URL:https://jenniferkurdyla.com/event/mat-pilates-6/2028-04-24/
LOCATION:YogaSole\, 254 Windsor Place\, Brooklyn\, NY\, 11215\, United States
CATEGORIES:in-person Pilates
END:VEVENT
BEGIN:VEVENT
DTSTART;TZID=America/New_York:20280424T090000
DTEND;TZID=America/New_York:20280424T100000
DTSTAMP:20260423T065719
CREATED:20240917T234220Z
LAST-MODIFIED:20240917T234220Z
UID:10002653-1840179600-1840183200@jenniferkurdyla.com
SUMMARY:Strength: Flow Yoga
DESCRIPTION:
URL:https://jenniferkurdyla.com/event/strength-flow-yoga/2028-04-24/
LOCATION:YogaSole\, 254 Windsor Place\, Brooklyn\, NY\, 11215\, United States
CATEGORIES:in-person yoga
END:VEVENT
BEGIN:VEVENT
DTSTART;TZID=America/New_York:20280425T090000
DTEND;TZID=America/New_York:20280425T101500
DTSTAMP:20260423T065719
CREATED:20250930T183416Z
LAST-MODIFIED:20250930T183416Z
UID:10004737-1840266000-1840270500@jenniferkurdyla.com
SUMMARY:Every Body Yoga
DESCRIPTION:
URL:https://jenniferkurdyla.com/event/every-body-yoga/2028-04-25/
LOCATION:Brooklyn Artery\, Cortelyou Road 1004\, Brooklyn\, NY\, 11218\, United States
CATEGORIES:in-person yoga
GEO:40.6391752;-73.9684262
X-APPLE-STRUCTURED-LOCATION;VALUE=URI;X-ADDRESS=Brooklyn Artery Cortelyou Road 1004 Brooklyn NY 11218 United States;X-APPLE-RADIUS=500;X-TITLE=Cortelyou Road 1004:geo:-73.9684262,40.6391752
END:VEVENT
BEGIN:VEVENT
DTSTART;TZID=America/New_York:20280426T073000
DTEND;TZID=America/New_York:20280426T082000
DTSTAMP:20260423T065719
CREATED:20241210T191521Z
LAST-MODIFIED:20241210T191521Z
UID:10003673-1840347000-1840350000@jenniferkurdyla.com
SUMMARY:Mat Pilates
DESCRIPTION:
URL:https://jenniferkurdyla.com/event/mat-pilates-4/2028-04-26/
LOCATION:YogaSole\, 254 Windsor Place\, Brooklyn\, NY\, 11215\, United States
CATEGORIES:in-person Pilates
END:VEVENT
BEGIN:VEVENT
DTSTART;TZID=America/New_York:20280429T101500
DTEND;TZID=America/New_York:20280429T110000
DTSTAMP:20260423T065719
CREATED:20260226T014344Z
LAST-MODIFIED:20260226T014344Z
UID:10005238-1840616100-1840618800@jenniferkurdyla.com
SUMMARY:Mindful Strength
DESCRIPTION:
URL:https://jenniferkurdyla.com/event/mindful-strength-2-2/2028-04-29/
LOCATION:Brooklyn Flow\, 198 5th Ave.\, Brooklyn\, NY
CATEGORIES:in-person Pilates
GEO:40.6767893;-73.9805007
X-APPLE-STRUCTURED-LOCATION;VALUE=URI;X-ADDRESS=Brooklyn Flow 198 5th Ave. Brooklyn NY;X-APPLE-RADIUS=500;X-TITLE=198 5th Ave.:geo:-73.9805007,40.6767893
END:VEVENT
BEGIN:VEVENT
DTSTART;TZID=America/New_York:20280430T171500
DTEND;TZID=America/New_York:20280430T181500
DTSTAMP:20260423T065719
CREATED:20240205T204129Z
LAST-MODIFIED:20240205T204130Z
UID:10001801-1840727700-1840731300@jenniferkurdyla.com
SUMMARY:Foundations of Yoga
DESCRIPTION:Register at Arise Yoga Brooklyn: https://www.arise.yoga/brooklyn-schedule
URL:https://jenniferkurdyla.com/event/foundations-of-yoga-2/2028-04-30/
LOCATION:Arise Yoga Brooklyn\, 730 Franklin Ave.\, Brooklyn\, NY
CATEGORIES:in-person yoga
GEO:40.6737017;-73.9571291
X-APPLE-STRUCTURED-LOCATION;VALUE=URI;X-ADDRESS=Arise Yoga Brooklyn 730 Franklin Ave. Brooklyn NY;X-APPLE-RADIUS=500;X-TITLE=730 Franklin Ave.:geo:-73.9571291,40.6737017
END:VEVENT
BEGIN:VEVENT
DTSTART;TZID=America/New_York:20280501T073000
DTEND;TZID=America/New_York:20280501T082000
DTSTAMP:20260423T065719
CREATED:20251007T200701Z
LAST-MODIFIED:20251007T200701Z
UID:10002393-1840779000-1840782000@jenniferkurdyla.com
SUMMARY:Mat Pilates
DESCRIPTION:
URL:https://jenniferkurdyla.com/event/mat-pilates-6/2028-05-01/
LOCATION:YogaSole\, 254 Windsor Place\, Brooklyn\, NY\, 11215\, United States
CATEGORIES:in-person Pilates
END:VEVENT
BEGIN:VEVENT
DTSTART;TZID=America/New_York:20280501T090000
DTEND;TZID=America/New_York:20280501T100000
DTSTAMP:20260423T065719
CREATED:20240917T234220Z
LAST-MODIFIED:20240917T234220Z
UID:10002654-1840784400-1840788000@jenniferkurdyla.com
SUMMARY:Strength: Flow Yoga
DESCRIPTION:
URL:https://jenniferkurdyla.com/event/strength-flow-yoga/2028-05-01/
LOCATION:YogaSole\, 254 Windsor Place\, Brooklyn\, NY\, 11215\, United States
CATEGORIES:in-person yoga
END:VEVENT
BEGIN:VEVENT
DTSTART;TZID=America/New_York:20280502T090000
DTEND;TZID=America/New_York:20280502T101500
DTSTAMP:20260423T065719
CREATED:20250930T183416Z
LAST-MODIFIED:20250930T183416Z
UID:10004738-1840870800-1840875300@jenniferkurdyla.com
SUMMARY:Every Body Yoga
DESCRIPTION:
URL:https://jenniferkurdyla.com/event/every-body-yoga/2028-05-02/
LOCATION:Brooklyn Artery\, Cortelyou Road 1004\, Brooklyn\, NY\, 11218\, United States
CATEGORIES:in-person yoga
GEO:40.6391752;-73.9684262
X-APPLE-STRUCTURED-LOCATION;VALUE=URI;X-ADDRESS=Brooklyn Artery Cortelyou Road 1004 Brooklyn NY 11218 United States;X-APPLE-RADIUS=500;X-TITLE=Cortelyou Road 1004:geo:-73.9684262,40.6391752
END:VEVENT
BEGIN:VEVENT
DTSTART;TZID=America/New_York:20280503T073000
DTEND;TZID=America/New_York:20280503T082000
DTSTAMP:20260423T065719
CREATED:20241210T191521Z
LAST-MODIFIED:20241210T191521Z
UID:10003674-1840951800-1840954800@jenniferkurdyla.com
SUMMARY:Mat Pilates
DESCRIPTION:
URL:https://jenniferkurdyla.com/event/mat-pilates-4/2028-05-03/
LOCATION:YogaSole\, 254 Windsor Place\, Brooklyn\, NY\, 11215\, United States
CATEGORIES:in-person Pilates
END:VEVENT
BEGIN:VEVENT
DTSTART;TZID=America/New_York:20280506T101500
DTEND;TZID=America/New_York:20280506T110000
DTSTAMP:20260423T065719
CREATED:20260226T014344Z
LAST-MODIFIED:20260226T014344Z
UID:10005239-1841220900-1841223600@jenniferkurdyla.com
SUMMARY:Mindful Strength
DESCRIPTION:
URL:https://jenniferkurdyla.com/event/mindful-strength-2-2/2028-05-06/
LOCATION:Brooklyn Flow\, 198 5th Ave.\, Brooklyn\, NY
CATEGORIES:in-person Pilates
GEO:40.6767893;-73.9805007
X-APPLE-STRUCTURED-LOCATION;VALUE=URI;X-ADDRESS=Brooklyn Flow 198 5th Ave. Brooklyn NY;X-APPLE-RADIUS=500;X-TITLE=198 5th Ave.:geo:-73.9805007,40.6767893
END:VEVENT
END:VCALENDAR