BEGIN:VCALENDAR
VERSION:2.0
PRODID:-//BeNourished - ECPv6.14.0//NONSGML v1.0//EN
CALSCALE:GREGORIAN
METHOD:PUBLISH
X-WR-CALNAME:BeNourished
X-ORIGINAL-URL:https://jenniferkurdyla.com
X-WR-CALDESC:Events for BeNourished
REFRESH-INTERVAL;VALUE=DURATION:PT1H
X-Robots-Tag:noindex
X-PUBLISHED-TTL:PT1H
BEGIN:VTIMEZONE
TZID:America/New_York
BEGIN:DAYLIGHT
TZOFFSETFROM:-0500
TZOFFSETTO:-0400
TZNAME:EDT
DTSTART:20280312T070000
END:DAYLIGHT
BEGIN:STANDARD
TZOFFSETFROM:-0400
TZOFFSETTO:-0500
TZNAME:EST
DTSTART:20281105T060000
END:STANDARD
END:VTIMEZONE
BEGIN:VEVENT
DTSTART;TZID=America/New_York:20280626T090000
DTEND;TZID=America/New_York:20280626T100000
DTSTAMP:20260423T160901
CREATED:20240917T234220Z
LAST-MODIFIED:20240917T234220Z
UID:10002662-1845622800-1845626400@jenniferkurdyla.com
SUMMARY:Strength: Flow Yoga
DESCRIPTION:
URL:https://jenniferkurdyla.com/event/strength-flow-yoga/2028-06-26/
LOCATION:YogaSole\, 254 Windsor Place\, Brooklyn\, NY\, 11215\, United States
CATEGORIES:in-person yoga
END:VEVENT
BEGIN:VEVENT
DTSTART;TZID=America/New_York:20280627T090000
DTEND;TZID=America/New_York:20280627T101500
DTSTAMP:20260423T160901
CREATED:20250930T183416Z
LAST-MODIFIED:20250930T183416Z
UID:10004746-1845709200-1845713700@jenniferkurdyla.com
SUMMARY:Every Body Yoga
DESCRIPTION:
URL:https://jenniferkurdyla.com/event/every-body-yoga/2028-06-27/
LOCATION:Brooklyn Artery\, Cortelyou Road 1004\, Brooklyn\, NY\, 11218\, United States
CATEGORIES:in-person yoga
GEO:40.6391752;-73.9684262
X-APPLE-STRUCTURED-LOCATION;VALUE=URI;X-ADDRESS=Brooklyn Artery Cortelyou Road 1004 Brooklyn NY 11218 United States;X-APPLE-RADIUS=500;X-TITLE=Cortelyou Road 1004:geo:-73.9684262,40.6391752
END:VEVENT
BEGIN:VEVENT
DTSTART;TZID=America/New_York:20280628T073000
DTEND;TZID=America/New_York:20280628T082000
DTSTAMP:20260423T160901
CREATED:20241210T191521Z
LAST-MODIFIED:20241210T191521Z
UID:10003682-1845790200-1845793200@jenniferkurdyla.com
SUMMARY:Mat Pilates
DESCRIPTION:
URL:https://jenniferkurdyla.com/event/mat-pilates-4/2028-06-28/
LOCATION:YogaSole\, 254 Windsor Place\, Brooklyn\, NY\, 11215\, United States
CATEGORIES:in-person Pilates
END:VEVENT
BEGIN:VEVENT
DTSTART;TZID=America/New_York:20280701T101500
DTEND;TZID=America/New_York:20280701T110000
DTSTAMP:20260423T160901
CREATED:20260226T014344Z
LAST-MODIFIED:20260226T014344Z
UID:10005247-1846059300-1846062000@jenniferkurdyla.com
SUMMARY:Mindful Strength
DESCRIPTION:
URL:https://jenniferkurdyla.com/event/mindful-strength-2-2/2028-07-01/
LOCATION:Brooklyn Flow\, 198 5th Ave.\, Brooklyn\, NY
CATEGORIES:in-person Pilates
GEO:40.6767893;-73.9805007
X-APPLE-STRUCTURED-LOCATION;VALUE=URI;X-ADDRESS=Brooklyn Flow 198 5th Ave. Brooklyn NY;X-APPLE-RADIUS=500;X-TITLE=198 5th Ave.:geo:-73.9805007,40.6767893
END:VEVENT
BEGIN:VEVENT
DTSTART;TZID=America/New_York:20280702T171500
DTEND;TZID=America/New_York:20280702T181500
DTSTAMP:20260423T160901
CREATED:20240205T204129Z
LAST-MODIFIED:20240205T204130Z
UID:10001810-1846170900-1846174500@jenniferkurdyla.com
SUMMARY:Foundations of Yoga
DESCRIPTION:Register at Arise Yoga Brooklyn: https://www.arise.yoga/brooklyn-schedule
URL:https://jenniferkurdyla.com/event/foundations-of-yoga-2/2028-07-02/
LOCATION:Arise Yoga Brooklyn\, 730 Franklin Ave.\, Brooklyn\, NY
CATEGORIES:in-person yoga
GEO:40.6737017;-73.9571291
X-APPLE-STRUCTURED-LOCATION;VALUE=URI;X-ADDRESS=Arise Yoga Brooklyn 730 Franklin Ave. Brooklyn NY;X-APPLE-RADIUS=500;X-TITLE=730 Franklin Ave.:geo:-73.9571291,40.6737017
END:VEVENT
BEGIN:VEVENT
DTSTART;TZID=America/New_York:20280703T073000
DTEND;TZID=America/New_York:20280703T082000
DTSTAMP:20260423T160901
CREATED:20251007T200701Z
LAST-MODIFIED:20251007T200701Z
UID:10002402-1846222200-1846225200@jenniferkurdyla.com
SUMMARY:Mat Pilates
DESCRIPTION:
URL:https://jenniferkurdyla.com/event/mat-pilates-6/2028-07-03/
LOCATION:YogaSole\, 254 Windsor Place\, Brooklyn\, NY\, 11215\, United States
CATEGORIES:in-person Pilates
END:VEVENT
BEGIN:VEVENT
DTSTART;TZID=America/New_York:20280703T090000
DTEND;TZID=America/New_York:20280703T100000
DTSTAMP:20260423T160901
CREATED:20240917T234220Z
LAST-MODIFIED:20240917T234220Z
UID:10002663-1846227600-1846231200@jenniferkurdyla.com
SUMMARY:Strength: Flow Yoga
DESCRIPTION:
URL:https://jenniferkurdyla.com/event/strength-flow-yoga/2028-07-03/
LOCATION:YogaSole\, 254 Windsor Place\, Brooklyn\, NY\, 11215\, United States
CATEGORIES:in-person yoga
END:VEVENT
BEGIN:VEVENT
DTSTART;TZID=America/New_York:20280704T090000
DTEND;TZID=America/New_York:20280704T101500
DTSTAMP:20260423T160901
CREATED:20250930T183416Z
LAST-MODIFIED:20250930T183416Z
UID:10004747-1846314000-1846318500@jenniferkurdyla.com
SUMMARY:Every Body Yoga
DESCRIPTION:
URL:https://jenniferkurdyla.com/event/every-body-yoga/2028-07-04/
LOCATION:Brooklyn Artery\, Cortelyou Road 1004\, Brooklyn\, NY\, 11218\, United States
CATEGORIES:in-person yoga
GEO:40.6391752;-73.9684262
X-APPLE-STRUCTURED-LOCATION;VALUE=URI;X-ADDRESS=Brooklyn Artery Cortelyou Road 1004 Brooklyn NY 11218 United States;X-APPLE-RADIUS=500;X-TITLE=Cortelyou Road 1004:geo:-73.9684262,40.6391752
END:VEVENT
BEGIN:VEVENT
DTSTART;TZID=America/New_York:20280705T073000
DTEND;TZID=America/New_York:20280705T082000
DTSTAMP:20260423T160901
CREATED:20241210T191521Z
LAST-MODIFIED:20241210T191521Z
UID:10003683-1846395000-1846398000@jenniferkurdyla.com
SUMMARY:Mat Pilates
DESCRIPTION:
URL:https://jenniferkurdyla.com/event/mat-pilates-4/2028-07-05/
LOCATION:YogaSole\, 254 Windsor Place\, Brooklyn\, NY\, 11215\, United States
CATEGORIES:in-person Pilates
END:VEVENT
BEGIN:VEVENT
DTSTART;TZID=America/New_York:20280708T101500
DTEND;TZID=America/New_York:20280708T110000
DTSTAMP:20260423T160901
CREATED:20260226T014344Z
LAST-MODIFIED:20260226T014344Z
UID:10005248-1846664100-1846666800@jenniferkurdyla.com
SUMMARY:Mindful Strength
DESCRIPTION:
URL:https://jenniferkurdyla.com/event/mindful-strength-2-2/2028-07-08/
LOCATION:Brooklyn Flow\, 198 5th Ave.\, Brooklyn\, NY
CATEGORIES:in-person Pilates
GEO:40.6767893;-73.9805007
X-APPLE-STRUCTURED-LOCATION;VALUE=URI;X-ADDRESS=Brooklyn Flow 198 5th Ave. Brooklyn NY;X-APPLE-RADIUS=500;X-TITLE=198 5th Ave.:geo:-73.9805007,40.6767893
END:VEVENT
BEGIN:VEVENT
DTSTART;TZID=America/New_York:20280709T171500
DTEND;TZID=America/New_York:20280709T181500
DTSTAMP:20260423T160901
CREATED:20240205T204129Z
LAST-MODIFIED:20240205T204130Z
UID:10001811-1846775700-1846779300@jenniferkurdyla.com
SUMMARY:Foundations of Yoga
DESCRIPTION:Register at Arise Yoga Brooklyn: https://www.arise.yoga/brooklyn-schedule
URL:https://jenniferkurdyla.com/event/foundations-of-yoga-2/2028-07-09/
LOCATION:Arise Yoga Brooklyn\, 730 Franklin Ave.\, Brooklyn\, NY
CATEGORIES:in-person yoga
GEO:40.6737017;-73.9571291
X-APPLE-STRUCTURED-LOCATION;VALUE=URI;X-ADDRESS=Arise Yoga Brooklyn 730 Franklin Ave. Brooklyn NY;X-APPLE-RADIUS=500;X-TITLE=730 Franklin Ave.:geo:-73.9571291,40.6737017
END:VEVENT
BEGIN:VEVENT
DTSTART;TZID=America/New_York:20280710T073000
DTEND;TZID=America/New_York:20280710T082000
DTSTAMP:20260423T160901
CREATED:20251007T200701Z
LAST-MODIFIED:20251007T200701Z
UID:10002403-1846827000-1846830000@jenniferkurdyla.com
SUMMARY:Mat Pilates
DESCRIPTION:
URL:https://jenniferkurdyla.com/event/mat-pilates-6/2028-07-10/
LOCATION:YogaSole\, 254 Windsor Place\, Brooklyn\, NY\, 11215\, United States
CATEGORIES:in-person Pilates
END:VEVENT
BEGIN:VEVENT
DTSTART;TZID=America/New_York:20280710T090000
DTEND;TZID=America/New_York:20280710T100000
DTSTAMP:20260423T160901
CREATED:20240917T234220Z
LAST-MODIFIED:20240917T234220Z
UID:10002664-1846832400-1846836000@jenniferkurdyla.com
SUMMARY:Strength: Flow Yoga
DESCRIPTION:
URL:https://jenniferkurdyla.com/event/strength-flow-yoga/2028-07-10/
LOCATION:YogaSole\, 254 Windsor Place\, Brooklyn\, NY\, 11215\, United States
CATEGORIES:in-person yoga
END:VEVENT
BEGIN:VEVENT
DTSTART;TZID=America/New_York:20280711T090000
DTEND;TZID=America/New_York:20280711T101500
DTSTAMP:20260423T160901
CREATED:20250930T183416Z
LAST-MODIFIED:20250930T183416Z
UID:10004748-1846918800-1846923300@jenniferkurdyla.com
SUMMARY:Every Body Yoga
DESCRIPTION:
URL:https://jenniferkurdyla.com/event/every-body-yoga/2028-07-11/
LOCATION:Brooklyn Artery\, Cortelyou Road 1004\, Brooklyn\, NY\, 11218\, United States
CATEGORIES:in-person yoga
GEO:40.6391752;-73.9684262
X-APPLE-STRUCTURED-LOCATION;VALUE=URI;X-ADDRESS=Brooklyn Artery Cortelyou Road 1004 Brooklyn NY 11218 United States;X-APPLE-RADIUS=500;X-TITLE=Cortelyou Road 1004:geo:-73.9684262,40.6391752
END:VEVENT
BEGIN:VEVENT
DTSTART;TZID=America/New_York:20280712T073000
DTEND;TZID=America/New_York:20280712T082000
DTSTAMP:20260423T160901
CREATED:20241210T191521Z
LAST-MODIFIED:20241210T191521Z
UID:10003684-1846999800-1847002800@jenniferkurdyla.com
SUMMARY:Mat Pilates
DESCRIPTION:
URL:https://jenniferkurdyla.com/event/mat-pilates-4/2028-07-12/
LOCATION:YogaSole\, 254 Windsor Place\, Brooklyn\, NY\, 11215\, United States
CATEGORIES:in-person Pilates
END:VEVENT
BEGIN:VEVENT
DTSTART;TZID=America/New_York:20280715T101500
DTEND;TZID=America/New_York:20280715T110000
DTSTAMP:20260423T160901
CREATED:20260226T014344Z
LAST-MODIFIED:20260226T014344Z
UID:10005249-1847268900-1847271600@jenniferkurdyla.com
SUMMARY:Mindful Strength
DESCRIPTION:
URL:https://jenniferkurdyla.com/event/mindful-strength-2-2/2028-07-15/
LOCATION:Brooklyn Flow\, 198 5th Ave.\, Brooklyn\, NY
CATEGORIES:in-person Pilates
GEO:40.6767893;-73.9805007
X-APPLE-STRUCTURED-LOCATION;VALUE=URI;X-ADDRESS=Brooklyn Flow 198 5th Ave. Brooklyn NY;X-APPLE-RADIUS=500;X-TITLE=198 5th Ave.:geo:-73.9805007,40.6767893
END:VEVENT
BEGIN:VEVENT
DTSTART;TZID=America/New_York:20280716T171500
DTEND;TZID=America/New_York:20280716T181500
DTSTAMP:20260423T160901
CREATED:20240205T204129Z
LAST-MODIFIED:20240205T204130Z
UID:10001812-1847380500-1847384100@jenniferkurdyla.com
SUMMARY:Foundations of Yoga
DESCRIPTION:Register at Arise Yoga Brooklyn: https://www.arise.yoga/brooklyn-schedule
URL:https://jenniferkurdyla.com/event/foundations-of-yoga-2/2028-07-16/
LOCATION:Arise Yoga Brooklyn\, 730 Franklin Ave.\, Brooklyn\, NY
CATEGORIES:in-person yoga
GEO:40.6737017;-73.9571291
X-APPLE-STRUCTURED-LOCATION;VALUE=URI;X-ADDRESS=Arise Yoga Brooklyn 730 Franklin Ave. Brooklyn NY;X-APPLE-RADIUS=500;X-TITLE=730 Franklin Ave.:geo:-73.9571291,40.6737017
END:VEVENT
BEGIN:VEVENT
DTSTART;TZID=America/New_York:20280717T073000
DTEND;TZID=America/New_York:20280717T082000
DTSTAMP:20260423T160901
CREATED:20251007T200701Z
LAST-MODIFIED:20251007T200701Z
UID:10002404-1847431800-1847434800@jenniferkurdyla.com
SUMMARY:Mat Pilates
DESCRIPTION:
URL:https://jenniferkurdyla.com/event/mat-pilates-6/2028-07-17/
LOCATION:YogaSole\, 254 Windsor Place\, Brooklyn\, NY\, 11215\, United States
CATEGORIES:in-person Pilates
END:VEVENT
BEGIN:VEVENT
DTSTART;TZID=America/New_York:20280717T090000
DTEND;TZID=America/New_York:20280717T100000
DTSTAMP:20260423T160901
CREATED:20240917T234220Z
LAST-MODIFIED:20240917T234220Z
UID:10002665-1847437200-1847440800@jenniferkurdyla.com
SUMMARY:Strength: Flow Yoga
DESCRIPTION:
URL:https://jenniferkurdyla.com/event/strength-flow-yoga/2028-07-17/
LOCATION:YogaSole\, 254 Windsor Place\, Brooklyn\, NY\, 11215\, United States
CATEGORIES:in-person yoga
END:VEVENT
BEGIN:VEVENT
DTSTART;TZID=America/New_York:20280718T090000
DTEND;TZID=America/New_York:20280718T101500
DTSTAMP:20260423T160901
CREATED:20250930T183416Z
LAST-MODIFIED:20250930T183416Z
UID:10004749-1847523600-1847528100@jenniferkurdyla.com
SUMMARY:Every Body Yoga
DESCRIPTION:
URL:https://jenniferkurdyla.com/event/every-body-yoga/2028-07-18/
LOCATION:Brooklyn Artery\, Cortelyou Road 1004\, Brooklyn\, NY\, 11218\, United States
CATEGORIES:in-person yoga
GEO:40.6391752;-73.9684262
X-APPLE-STRUCTURED-LOCATION;VALUE=URI;X-ADDRESS=Brooklyn Artery Cortelyou Road 1004 Brooklyn NY 11218 United States;X-APPLE-RADIUS=500;X-TITLE=Cortelyou Road 1004:geo:-73.9684262,40.6391752
END:VEVENT
BEGIN:VEVENT
DTSTART;TZID=America/New_York:20280719T073000
DTEND;TZID=America/New_York:20280719T082000
DTSTAMP:20260423T160901
CREATED:20241210T191521Z
LAST-MODIFIED:20241210T191521Z
UID:10003685-1847604600-1847607600@jenniferkurdyla.com
SUMMARY:Mat Pilates
DESCRIPTION:
URL:https://jenniferkurdyla.com/event/mat-pilates-4/2028-07-19/
LOCATION:YogaSole\, 254 Windsor Place\, Brooklyn\, NY\, 11215\, United States
CATEGORIES:in-person Pilates
END:VEVENT
BEGIN:VEVENT
DTSTART;TZID=America/New_York:20280722T101500
DTEND;TZID=America/New_York:20280722T110000
DTSTAMP:20260423T160901
CREATED:20260226T014344Z
LAST-MODIFIED:20260226T014344Z
UID:10005250-1847873700-1847876400@jenniferkurdyla.com
SUMMARY:Mindful Strength
DESCRIPTION:
URL:https://jenniferkurdyla.com/event/mindful-strength-2-2/2028-07-22/
LOCATION:Brooklyn Flow\, 198 5th Ave.\, Brooklyn\, NY
CATEGORIES:in-person Pilates
GEO:40.6767893;-73.9805007
X-APPLE-STRUCTURED-LOCATION;VALUE=URI;X-ADDRESS=Brooklyn Flow 198 5th Ave. Brooklyn NY;X-APPLE-RADIUS=500;X-TITLE=198 5th Ave.:geo:-73.9805007,40.6767893
END:VEVENT
BEGIN:VEVENT
DTSTART;TZID=America/New_York:20280723T171500
DTEND;TZID=America/New_York:20280723T181500
DTSTAMP:20260423T160901
CREATED:20240205T204129Z
LAST-MODIFIED:20240205T204130Z
UID:10001813-1847985300-1847988900@jenniferkurdyla.com
SUMMARY:Foundations of Yoga
DESCRIPTION:Register at Arise Yoga Brooklyn: https://www.arise.yoga/brooklyn-schedule
URL:https://jenniferkurdyla.com/event/foundations-of-yoga-2/2028-07-23/
LOCATION:Arise Yoga Brooklyn\, 730 Franklin Ave.\, Brooklyn\, NY
CATEGORIES:in-person yoga
GEO:40.6737017;-73.9571291
X-APPLE-STRUCTURED-LOCATION;VALUE=URI;X-ADDRESS=Arise Yoga Brooklyn 730 Franklin Ave. Brooklyn NY;X-APPLE-RADIUS=500;X-TITLE=730 Franklin Ave.:geo:-73.9571291,40.6737017
END:VEVENT
BEGIN:VEVENT
DTSTART;TZID=America/New_York:20280724T073000
DTEND;TZID=America/New_York:20280724T082000
DTSTAMP:20260423T160901
CREATED:20251007T200701Z
LAST-MODIFIED:20251007T200701Z
UID:10002405-1848036600-1848039600@jenniferkurdyla.com
SUMMARY:Mat Pilates
DESCRIPTION:
URL:https://jenniferkurdyla.com/event/mat-pilates-6/2028-07-24/
LOCATION:YogaSole\, 254 Windsor Place\, Brooklyn\, NY\, 11215\, United States
CATEGORIES:in-person Pilates
END:VEVENT
BEGIN:VEVENT
DTSTART;TZID=America/New_York:20280724T090000
DTEND;TZID=America/New_York:20280724T100000
DTSTAMP:20260423T160901
CREATED:20240917T234220Z
LAST-MODIFIED:20240917T234220Z
UID:10002666-1848042000-1848045600@jenniferkurdyla.com
SUMMARY:Strength: Flow Yoga
DESCRIPTION:
URL:https://jenniferkurdyla.com/event/strength-flow-yoga/2028-07-24/
LOCATION:YogaSole\, 254 Windsor Place\, Brooklyn\, NY\, 11215\, United States
CATEGORIES:in-person yoga
END:VEVENT
BEGIN:VEVENT
DTSTART;TZID=America/New_York:20280725T090000
DTEND;TZID=America/New_York:20280725T101500
DTSTAMP:20260423T160901
CREATED:20250930T183416Z
LAST-MODIFIED:20250930T183416Z
UID:10004750-1848128400-1848132900@jenniferkurdyla.com
SUMMARY:Every Body Yoga
DESCRIPTION:
URL:https://jenniferkurdyla.com/event/every-body-yoga/2028-07-25/
LOCATION:Brooklyn Artery\, Cortelyou Road 1004\, Brooklyn\, NY\, 11218\, United States
CATEGORIES:in-person yoga
GEO:40.6391752;-73.9684262
X-APPLE-STRUCTURED-LOCATION;VALUE=URI;X-ADDRESS=Brooklyn Artery Cortelyou Road 1004 Brooklyn NY 11218 United States;X-APPLE-RADIUS=500;X-TITLE=Cortelyou Road 1004:geo:-73.9684262,40.6391752
END:VEVENT
BEGIN:VEVENT
DTSTART;TZID=America/New_York:20280726T073000
DTEND;TZID=America/New_York:20280726T082000
DTSTAMP:20260423T160901
CREATED:20241210T191521Z
LAST-MODIFIED:20241210T191521Z
UID:10003686-1848209400-1848212400@jenniferkurdyla.com
SUMMARY:Mat Pilates
DESCRIPTION:
URL:https://jenniferkurdyla.com/event/mat-pilates-4/2028-07-26/
LOCATION:YogaSole\, 254 Windsor Place\, Brooklyn\, NY\, 11215\, United States
CATEGORIES:in-person Pilates
END:VEVENT
BEGIN:VEVENT
DTSTART;TZID=America/New_York:20280729T101500
DTEND;TZID=America/New_York:20280729T110000
DTSTAMP:20260423T160901
CREATED:20260226T014344Z
LAST-MODIFIED:20260226T014344Z
UID:10005251-1848478500-1848481200@jenniferkurdyla.com
SUMMARY:Mindful Strength
DESCRIPTION:
URL:https://jenniferkurdyla.com/event/mindful-strength-2-2/2028-07-29/
LOCATION:Brooklyn Flow\, 198 5th Ave.\, Brooklyn\, NY
CATEGORIES:in-person Pilates
GEO:40.6767893;-73.9805007
X-APPLE-STRUCTURED-LOCATION;VALUE=URI;X-ADDRESS=Brooklyn Flow 198 5th Ave. Brooklyn NY;X-APPLE-RADIUS=500;X-TITLE=198 5th Ave.:geo:-73.9805007,40.6767893
END:VEVENT
BEGIN:VEVENT
DTSTART;TZID=America/New_York:20280730T171500
DTEND;TZID=America/New_York:20280730T181500
DTSTAMP:20260423T160901
CREATED:20240205T204129Z
LAST-MODIFIED:20240205T204130Z
UID:10001814-1848590100-1848593700@jenniferkurdyla.com
SUMMARY:Foundations of Yoga
DESCRIPTION:Register at Arise Yoga Brooklyn: https://www.arise.yoga/brooklyn-schedule
URL:https://jenniferkurdyla.com/event/foundations-of-yoga-2/2028-07-30/
LOCATION:Arise Yoga Brooklyn\, 730 Franklin Ave.\, Brooklyn\, NY
CATEGORIES:in-person yoga
GEO:40.6737017;-73.9571291
X-APPLE-STRUCTURED-LOCATION;VALUE=URI;X-ADDRESS=Arise Yoga Brooklyn 730 Franklin Ave. Brooklyn NY;X-APPLE-RADIUS=500;X-TITLE=730 Franklin Ave.:geo:-73.9571291,40.6737017
END:VEVENT
BEGIN:VEVENT
DTSTART;TZID=America/New_York:20280731T073000
DTEND;TZID=America/New_York:20280731T082000
DTSTAMP:20260423T160901
CREATED:20251007T200701Z
LAST-MODIFIED:20251007T200701Z
UID:10002406-1848641400-1848644400@jenniferkurdyla.com
SUMMARY:Mat Pilates
DESCRIPTION:
URL:https://jenniferkurdyla.com/event/mat-pilates-6/2028-07-31/
LOCATION:YogaSole\, 254 Windsor Place\, Brooklyn\, NY\, 11215\, United States
CATEGORIES:in-person Pilates
END:VEVENT
END:VCALENDAR