BEGIN:VCALENDAR
VERSION:2.0
PRODID:-//BeNourished - ECPv6.14.0//NONSGML v1.0//EN
CALSCALE:GREGORIAN
METHOD:PUBLISH
X-ORIGINAL-URL:https://jenniferkurdyla.com
X-WR-CALDESC:Events for BeNourished
REFRESH-INTERVAL;VALUE=DURATION:PT1H
X-Robots-Tag:noindex
X-PUBLISHED-TTL:PT1H
BEGIN:VTIMEZONE
TZID:America/New_York
BEGIN:DAYLIGHT
TZOFFSETFROM:-0500
TZOFFSETTO:-0400
TZNAME:EDT
DTSTART:20270314T070000
END:DAYLIGHT
BEGIN:STANDARD
TZOFFSETFROM:-0400
TZOFFSETTO:-0500
TZNAME:EST
DTSTART:20271107T060000
END:STANDARD
END:VTIMEZONE
BEGIN:VEVENT
DTSTART;TZID=America/New_York:20270311T073000
DTEND;TZID=America/New_York:20270311T083000
DTSTAMP:20260419T220142
CREATED:20260226T014120Z
LAST-MODIFIED:20260226T014120Z
UID:10005100-1804750200-1804753800@jenniferkurdyla.com
SUMMARY:Yoga Flow
DESCRIPTION:
URL:https://jenniferkurdyla.com/event/yoga-flow-4/2027-03-11/
LOCATION:YogaSole\, 254 Windsor Place\, Brooklyn\, NY\, 11215\, United States
CATEGORIES:in-person yoga
END:VEVENT
BEGIN:VEVENT
DTSTART;TZID=America/New_York:20270313T101500
DTEND;TZID=America/New_York:20270313T110000
DTSTAMP:20260419T220142
CREATED:20260226T014344Z
LAST-MODIFIED:20260226T014344Z
UID:10005179-1804932900-1804935600@jenniferkurdyla.com
SUMMARY:Mindful Strength
DESCRIPTION:
URL:https://jenniferkurdyla.com/event/mindful-strength-2-2/2027-03-13/
LOCATION:Brooklyn Flow\, 198 5th Ave.\, Brooklyn\, NY
CATEGORIES:in-person Pilates
GEO:40.6767893;-73.9805007
X-APPLE-STRUCTURED-LOCATION;VALUE=URI;X-ADDRESS=Brooklyn Flow 198 5th Ave. Brooklyn NY;X-APPLE-RADIUS=500;X-TITLE=198 5th Ave.:geo:-73.9805007,40.6767893
END:VEVENT
BEGIN:VEVENT
DTSTART;TZID=America/New_York:20270314T171500
DTEND;TZID=America/New_York:20270314T181500
DTSTAMP:20260419T220142
CREATED:20240205T204129Z
LAST-MODIFIED:20240205T204130Z
UID:10001742-1805044500-1805048100@jenniferkurdyla.com
SUMMARY:Foundations of Yoga
DESCRIPTION:Register at Arise Yoga Brooklyn: https://www.arise.yoga/brooklyn-schedule
URL:https://jenniferkurdyla.com/event/foundations-of-yoga-2/2027-03-14/
LOCATION:Arise Yoga Brooklyn\, 730 Franklin Ave.\, Brooklyn\, NY
CATEGORIES:in-person yoga
GEO:40.6737017;-73.9571291
X-APPLE-STRUCTURED-LOCATION;VALUE=URI;X-ADDRESS=Arise Yoga Brooklyn 730 Franklin Ave. Brooklyn NY;X-APPLE-RADIUS=500;X-TITLE=730 Franklin Ave.:geo:-73.9571291,40.6737017
END:VEVENT
BEGIN:VEVENT
DTSTART;TZID=America/New_York:20270315T073000
DTEND;TZID=America/New_York:20270315T082000
DTSTAMP:20260419T220142
CREATED:20251007T200701Z
LAST-MODIFIED:20251007T200701Z
UID:10002334-1805095800-1805098800@jenniferkurdyla.com
SUMMARY:Mat Pilates
DESCRIPTION:
URL:https://jenniferkurdyla.com/event/mat-pilates-6/2027-03-15/
LOCATION:YogaSole\, 254 Windsor Place\, Brooklyn\, NY\, 11215\, United States
CATEGORIES:in-person Pilates
END:VEVENT
BEGIN:VEVENT
DTSTART;TZID=America/New_York:20270315T090000
DTEND;TZID=America/New_York:20270315T100000
DTSTAMP:20260419T220142
CREATED:20240917T234220Z
LAST-MODIFIED:20240917T234220Z
UID:10002595-1805101200-1805104800@jenniferkurdyla.com
SUMMARY:Strength: Flow Yoga
DESCRIPTION:
URL:https://jenniferkurdyla.com/event/strength-flow-yoga/2027-03-15/
LOCATION:YogaSole\, 254 Windsor Place\, Brooklyn\, NY\, 11215\, United States
CATEGORIES:in-person yoga
END:VEVENT
BEGIN:VEVENT
DTSTART;TZID=America/New_York:20270316T090000
DTEND;TZID=America/New_York:20270316T101500
DTSTAMP:20260419T220142
CREATED:20250930T183416Z
LAST-MODIFIED:20250930T183416Z
UID:10004679-1805187600-1805192100@jenniferkurdyla.com
SUMMARY:Every Body Yoga
DESCRIPTION:
URL:https://jenniferkurdyla.com/event/every-body-yoga/2027-03-16/
LOCATION:Brooklyn Artery\, Cortelyou Road 1004\, Brooklyn\, NY\, 11218\, United States
CATEGORIES:in-person yoga
GEO:40.6391752;-73.9684262
X-APPLE-STRUCTURED-LOCATION;VALUE=URI;X-ADDRESS=Brooklyn Artery Cortelyou Road 1004 Brooklyn NY 11218 United States;X-APPLE-RADIUS=500;X-TITLE=Cortelyou Road 1004:geo:-73.9684262,40.6391752
END:VEVENT
BEGIN:VEVENT
DTSTART;TZID=America/New_York:20270316T183000
DTEND;TZID=America/New_York:20270316T193000
DTSTAMP:20260419T220142
CREATED:20260226T014012Z
LAST-MODIFIED:20260226T014012Z
UID:10005043-1805221800-1805225400@jenniferkurdyla.com
SUMMARY:Yoga Flow
DESCRIPTION:
URL:https://jenniferkurdyla.com/event/yoga-flow-3/2027-03-16/
LOCATION:YogaSole\, 254 Windsor Place\, Brooklyn\, NY\, 11215\, United States
CATEGORIES:in-person yoga
END:VEVENT
BEGIN:VEVENT
DTSTART;TZID=America/New_York:20270317T073000
DTEND;TZID=America/New_York:20270317T082000
DTSTAMP:20260419T220142
CREATED:20241210T191521Z
LAST-MODIFIED:20241210T191521Z
UID:10003615-1805268600-1805271600@jenniferkurdyla.com
SUMMARY:Mat Pilates
DESCRIPTION:
URL:https://jenniferkurdyla.com/event/mat-pilates-4/2027-03-17/
LOCATION:YogaSole\, 254 Windsor Place\, Brooklyn\, NY\, 11215\, United States
CATEGORIES:in-person Pilates
END:VEVENT
BEGIN:VEVENT
DTSTART;TZID=America/New_York:20270318T073000
DTEND;TZID=America/New_York:20270318T083000
DTSTAMP:20260419T220142
CREATED:20260226T014120Z
LAST-MODIFIED:20260226T014120Z
UID:10005101-1805355000-1805358600@jenniferkurdyla.com
SUMMARY:Yoga Flow
DESCRIPTION:
URL:https://jenniferkurdyla.com/event/yoga-flow-4/2027-03-18/
LOCATION:YogaSole\, 254 Windsor Place\, Brooklyn\, NY\, 11215\, United States
CATEGORIES:in-person yoga
END:VEVENT
BEGIN:VEVENT
DTSTART;TZID=America/New_York:20270320T101500
DTEND;TZID=America/New_York:20270320T110000
DTSTAMP:20260419T220142
CREATED:20260226T014344Z
LAST-MODIFIED:20260226T014344Z
UID:10005180-1805537700-1805540400@jenniferkurdyla.com
SUMMARY:Mindful Strength
DESCRIPTION:
URL:https://jenniferkurdyla.com/event/mindful-strength-2-2/2027-03-20/
LOCATION:Brooklyn Flow\, 198 5th Ave.\, Brooklyn\, NY
CATEGORIES:in-person Pilates
GEO:40.6767893;-73.9805007
X-APPLE-STRUCTURED-LOCATION;VALUE=URI;X-ADDRESS=Brooklyn Flow 198 5th Ave. Brooklyn NY;X-APPLE-RADIUS=500;X-TITLE=198 5th Ave.:geo:-73.9805007,40.6767893
END:VEVENT
BEGIN:VEVENT
DTSTART;TZID=America/New_York:20270321T171500
DTEND;TZID=America/New_York:20270321T181500
DTSTAMP:20260419T220142
CREATED:20240205T204129Z
LAST-MODIFIED:20240205T204130Z
UID:10001743-1805649300-1805652900@jenniferkurdyla.com
SUMMARY:Foundations of Yoga
DESCRIPTION:Register at Arise Yoga Brooklyn: https://www.arise.yoga/brooklyn-schedule
URL:https://jenniferkurdyla.com/event/foundations-of-yoga-2/2027-03-21/
LOCATION:Arise Yoga Brooklyn\, 730 Franklin Ave.\, Brooklyn\, NY
CATEGORIES:in-person yoga
GEO:40.6737017;-73.9571291
X-APPLE-STRUCTURED-LOCATION;VALUE=URI;X-ADDRESS=Arise Yoga Brooklyn 730 Franklin Ave. Brooklyn NY;X-APPLE-RADIUS=500;X-TITLE=730 Franklin Ave.:geo:-73.9571291,40.6737017
END:VEVENT
BEGIN:VEVENT
DTSTART;TZID=America/New_York:20270322T073000
DTEND;TZID=America/New_York:20270322T082000
DTSTAMP:20260419T220142
CREATED:20251007T200701Z
LAST-MODIFIED:20251007T200701Z
UID:10002335-1805700600-1805703600@jenniferkurdyla.com
SUMMARY:Mat Pilates
DESCRIPTION:
URL:https://jenniferkurdyla.com/event/mat-pilates-6/2027-03-22/
LOCATION:YogaSole\, 254 Windsor Place\, Brooklyn\, NY\, 11215\, United States
CATEGORIES:in-person Pilates
END:VEVENT
BEGIN:VEVENT
DTSTART;TZID=America/New_York:20270322T090000
DTEND;TZID=America/New_York:20270322T100000
DTSTAMP:20260419T220142
CREATED:20240917T234220Z
LAST-MODIFIED:20240917T234220Z
UID:10002596-1805706000-1805709600@jenniferkurdyla.com
SUMMARY:Strength: Flow Yoga
DESCRIPTION:
URL:https://jenniferkurdyla.com/event/strength-flow-yoga/2027-03-22/
LOCATION:YogaSole\, 254 Windsor Place\, Brooklyn\, NY\, 11215\, United States
CATEGORIES:in-person yoga
END:VEVENT
BEGIN:VEVENT
DTSTART;TZID=America/New_York:20270323T090000
DTEND;TZID=America/New_York:20270323T101500
DTSTAMP:20260419T220142
CREATED:20250930T183416Z
LAST-MODIFIED:20250930T183416Z
UID:10004680-1805792400-1805796900@jenniferkurdyla.com
SUMMARY:Every Body Yoga
DESCRIPTION:
URL:https://jenniferkurdyla.com/event/every-body-yoga/2027-03-23/
LOCATION:Brooklyn Artery\, Cortelyou Road 1004\, Brooklyn\, NY\, 11218\, United States
CATEGORIES:in-person yoga
GEO:40.6391752;-73.9684262
X-APPLE-STRUCTURED-LOCATION;VALUE=URI;X-ADDRESS=Brooklyn Artery Cortelyou Road 1004 Brooklyn NY 11218 United States;X-APPLE-RADIUS=500;X-TITLE=Cortelyou Road 1004:geo:-73.9684262,40.6391752
END:VEVENT
BEGIN:VEVENT
DTSTART;TZID=America/New_York:20270323T183000
DTEND;TZID=America/New_York:20270323T193000
DTSTAMP:20260419T220142
CREATED:20260226T014012Z
LAST-MODIFIED:20260226T014012Z
UID:10005044-1805826600-1805830200@jenniferkurdyla.com
SUMMARY:Yoga Flow
DESCRIPTION:
URL:https://jenniferkurdyla.com/event/yoga-flow-3/2027-03-23/
LOCATION:YogaSole\, 254 Windsor Place\, Brooklyn\, NY\, 11215\, United States
CATEGORIES:in-person yoga
END:VEVENT
BEGIN:VEVENT
DTSTART;TZID=America/New_York:20270324T073000
DTEND;TZID=America/New_York:20270324T082000
DTSTAMP:20260419T220142
CREATED:20241210T191521Z
LAST-MODIFIED:20241210T191521Z
UID:10003616-1805873400-1805876400@jenniferkurdyla.com
SUMMARY:Mat Pilates
DESCRIPTION:
URL:https://jenniferkurdyla.com/event/mat-pilates-4/2027-03-24/
LOCATION:YogaSole\, 254 Windsor Place\, Brooklyn\, NY\, 11215\, United States
CATEGORIES:in-person Pilates
END:VEVENT
BEGIN:VEVENT
DTSTART;TZID=America/New_York:20270325T073000
DTEND;TZID=America/New_York:20270325T083000
DTSTAMP:20260419T220142
CREATED:20260226T014120Z
LAST-MODIFIED:20260226T014120Z
UID:10005102-1805959800-1805963400@jenniferkurdyla.com
SUMMARY:Yoga Flow
DESCRIPTION:
URL:https://jenniferkurdyla.com/event/yoga-flow-4/2027-03-25/
LOCATION:YogaSole\, 254 Windsor Place\, Brooklyn\, NY\, 11215\, United States
CATEGORIES:in-person yoga
END:VEVENT
BEGIN:VEVENT
DTSTART;TZID=America/New_York:20270327T101500
DTEND;TZID=America/New_York:20270327T110000
DTSTAMP:20260419T220142
CREATED:20260226T014344Z
LAST-MODIFIED:20260226T014344Z
UID:10005181-1806142500-1806145200@jenniferkurdyla.com
SUMMARY:Mindful Strength
DESCRIPTION:
URL:https://jenniferkurdyla.com/event/mindful-strength-2-2/2027-03-27/
LOCATION:Brooklyn Flow\, 198 5th Ave.\, Brooklyn\, NY
CATEGORIES:in-person Pilates
GEO:40.6767893;-73.9805007
X-APPLE-STRUCTURED-LOCATION;VALUE=URI;X-ADDRESS=Brooklyn Flow 198 5th Ave. Brooklyn NY;X-APPLE-RADIUS=500;X-TITLE=198 5th Ave.:geo:-73.9805007,40.6767893
END:VEVENT
BEGIN:VEVENT
DTSTART;TZID=America/New_York:20270328T171500
DTEND;TZID=America/New_York:20270328T181500
DTSTAMP:20260419T220142
CREATED:20240205T204129Z
LAST-MODIFIED:20240205T204130Z
UID:10001744-1806254100-1806257700@jenniferkurdyla.com
SUMMARY:Foundations of Yoga
DESCRIPTION:Register at Arise Yoga Brooklyn: https://www.arise.yoga/brooklyn-schedule
URL:https://jenniferkurdyla.com/event/foundations-of-yoga-2/2027-03-28/
LOCATION:Arise Yoga Brooklyn\, 730 Franklin Ave.\, Brooklyn\, NY
CATEGORIES:in-person yoga
GEO:40.6737017;-73.9571291
X-APPLE-STRUCTURED-LOCATION;VALUE=URI;X-ADDRESS=Arise Yoga Brooklyn 730 Franklin Ave. Brooklyn NY;X-APPLE-RADIUS=500;X-TITLE=730 Franklin Ave.:geo:-73.9571291,40.6737017
END:VEVENT
BEGIN:VEVENT
DTSTART;TZID=America/New_York:20270329T073000
DTEND;TZID=America/New_York:20270329T082000
DTSTAMP:20260419T220142
CREATED:20251007T200701Z
LAST-MODIFIED:20251007T200701Z
UID:10002336-1806305400-1806308400@jenniferkurdyla.com
SUMMARY:Mat Pilates
DESCRIPTION:
URL:https://jenniferkurdyla.com/event/mat-pilates-6/2027-03-29/
LOCATION:YogaSole\, 254 Windsor Place\, Brooklyn\, NY\, 11215\, United States
CATEGORIES:in-person Pilates
END:VEVENT
BEGIN:VEVENT
DTSTART;TZID=America/New_York:20270329T090000
DTEND;TZID=America/New_York:20270329T100000
DTSTAMP:20260419T220142
CREATED:20240917T234220Z
LAST-MODIFIED:20240917T234220Z
UID:10002597-1806310800-1806314400@jenniferkurdyla.com
SUMMARY:Strength: Flow Yoga
DESCRIPTION:
URL:https://jenniferkurdyla.com/event/strength-flow-yoga/2027-03-29/
LOCATION:YogaSole\, 254 Windsor Place\, Brooklyn\, NY\, 11215\, United States
CATEGORIES:in-person yoga
END:VEVENT
BEGIN:VEVENT
DTSTART;TZID=America/New_York:20270330T090000
DTEND;TZID=America/New_York:20270330T101500
DTSTAMP:20260419T220142
CREATED:20250930T183416Z
LAST-MODIFIED:20250930T183416Z
UID:10004681-1806397200-1806401700@jenniferkurdyla.com
SUMMARY:Every Body Yoga
DESCRIPTION:
URL:https://jenniferkurdyla.com/event/every-body-yoga/2027-03-30/
LOCATION:Brooklyn Artery\, Cortelyou Road 1004\, Brooklyn\, NY\, 11218\, United States
CATEGORIES:in-person yoga
GEO:40.6391752;-73.9684262
X-APPLE-STRUCTURED-LOCATION;VALUE=URI;X-ADDRESS=Brooklyn Artery Cortelyou Road 1004 Brooklyn NY 11218 United States;X-APPLE-RADIUS=500;X-TITLE=Cortelyou Road 1004:geo:-73.9684262,40.6391752
END:VEVENT
BEGIN:VEVENT
DTSTART;TZID=America/New_York:20270330T183000
DTEND;TZID=America/New_York:20270330T193000
DTSTAMP:20260419T220142
CREATED:20260226T014012Z
LAST-MODIFIED:20260226T014012Z
UID:10005045-1806431400-1806435000@jenniferkurdyla.com
SUMMARY:Yoga Flow
DESCRIPTION:
URL:https://jenniferkurdyla.com/event/yoga-flow-3/2027-03-30/
LOCATION:YogaSole\, 254 Windsor Place\, Brooklyn\, NY\, 11215\, United States
CATEGORIES:in-person yoga
END:VEVENT
BEGIN:VEVENT
DTSTART;TZID=America/New_York:20270331T073000
DTEND;TZID=America/New_York:20270331T082000
DTSTAMP:20260419T220142
CREATED:20241210T191521Z
LAST-MODIFIED:20241210T191521Z
UID:10003617-1806478200-1806481200@jenniferkurdyla.com
SUMMARY:Mat Pilates
DESCRIPTION:
URL:https://jenniferkurdyla.com/event/mat-pilates-4/2027-03-31/
LOCATION:YogaSole\, 254 Windsor Place\, Brooklyn\, NY\, 11215\, United States
CATEGORIES:in-person Pilates
END:VEVENT
BEGIN:VEVENT
DTSTART;TZID=America/New_York:20270401T073000
DTEND;TZID=America/New_York:20270401T083000
DTSTAMP:20260419T220142
CREATED:20260226T014120Z
LAST-MODIFIED:20260226T014120Z
UID:10005103-1806564600-1806568200@jenniferkurdyla.com
SUMMARY:Yoga Flow
DESCRIPTION:
URL:https://jenniferkurdyla.com/event/yoga-flow-4/2027-04-01/
LOCATION:YogaSole\, 254 Windsor Place\, Brooklyn\, NY\, 11215\, United States
CATEGORIES:in-person yoga
END:VEVENT
BEGIN:VEVENT
DTSTART;TZID=America/New_York:20270403T101500
DTEND;TZID=America/New_York:20270403T110000
DTSTAMP:20260419T220142
CREATED:20260226T014344Z
LAST-MODIFIED:20260226T014344Z
UID:10005182-1806747300-1806750000@jenniferkurdyla.com
SUMMARY:Mindful Strength
DESCRIPTION:
URL:https://jenniferkurdyla.com/event/mindful-strength-2-2/2027-04-03/
LOCATION:Brooklyn Flow\, 198 5th Ave.\, Brooklyn\, NY
CATEGORIES:in-person Pilates
GEO:40.6767893;-73.9805007
X-APPLE-STRUCTURED-LOCATION;VALUE=URI;X-ADDRESS=Brooklyn Flow 198 5th Ave. Brooklyn NY;X-APPLE-RADIUS=500;X-TITLE=198 5th Ave.:geo:-73.9805007,40.6767893
END:VEVENT
BEGIN:VEVENT
DTSTART;TZID=America/New_York:20270404T171500
DTEND;TZID=America/New_York:20270404T181500
DTSTAMP:20260419T220142
CREATED:20240205T204129Z
LAST-MODIFIED:20240205T204130Z
UID:10001745-1806858900-1806862500@jenniferkurdyla.com
SUMMARY:Foundations of Yoga
DESCRIPTION:Register at Arise Yoga Brooklyn: https://www.arise.yoga/brooklyn-schedule
URL:https://jenniferkurdyla.com/event/foundations-of-yoga-2/2027-04-04/
LOCATION:Arise Yoga Brooklyn\, 730 Franklin Ave.\, Brooklyn\, NY
CATEGORIES:in-person yoga
GEO:40.6737017;-73.9571291
X-APPLE-STRUCTURED-LOCATION;VALUE=URI;X-ADDRESS=Arise Yoga Brooklyn 730 Franklin Ave. Brooklyn NY;X-APPLE-RADIUS=500;X-TITLE=730 Franklin Ave.:geo:-73.9571291,40.6737017
END:VEVENT
BEGIN:VEVENT
DTSTART;TZID=America/New_York:20270405T073000
DTEND;TZID=America/New_York:20270405T082000
DTSTAMP:20260419T220142
CREATED:20251007T200701Z
LAST-MODIFIED:20251007T200701Z
UID:10002337-1806910200-1806913200@jenniferkurdyla.com
SUMMARY:Mat Pilates
DESCRIPTION:
URL:https://jenniferkurdyla.com/event/mat-pilates-6/2027-04-05/
LOCATION:YogaSole\, 254 Windsor Place\, Brooklyn\, NY\, 11215\, United States
CATEGORIES:in-person Pilates
END:VEVENT
BEGIN:VEVENT
DTSTART;TZID=America/New_York:20270405T090000
DTEND;TZID=America/New_York:20270405T100000
DTSTAMP:20260419T220142
CREATED:20240917T234220Z
LAST-MODIFIED:20240917T234220Z
UID:10002598-1806915600-1806919200@jenniferkurdyla.com
SUMMARY:Strength: Flow Yoga
DESCRIPTION:
URL:https://jenniferkurdyla.com/event/strength-flow-yoga/2027-04-05/
LOCATION:YogaSole\, 254 Windsor Place\, Brooklyn\, NY\, 11215\, United States
CATEGORIES:in-person yoga
END:VEVENT
BEGIN:VEVENT
DTSTART;TZID=America/New_York:20270406T090000
DTEND;TZID=America/New_York:20270406T101500
DTSTAMP:20260419T220142
CREATED:20250930T183416Z
LAST-MODIFIED:20250930T183416Z
UID:10004682-1807002000-1807006500@jenniferkurdyla.com
SUMMARY:Every Body Yoga
DESCRIPTION:
URL:https://jenniferkurdyla.com/event/every-body-yoga/2027-04-06/
LOCATION:Brooklyn Artery\, Cortelyou Road 1004\, Brooklyn\, NY\, 11218\, United States
CATEGORIES:in-person yoga
GEO:40.6391752;-73.9684262
X-APPLE-STRUCTURED-LOCATION;VALUE=URI;X-ADDRESS=Brooklyn Artery Cortelyou Road 1004 Brooklyn NY 11218 United States;X-APPLE-RADIUS=500;X-TITLE=Cortelyou Road 1004:geo:-73.9684262,40.6391752
END:VEVENT
END:VCALENDAR