BEGIN:VCALENDAR
VERSION:2.0
PRODID:-//BeNourished - ECPv6.14.0//NONSGML v1.0//EN
CALSCALE:GREGORIAN
METHOD:PUBLISH
X-WR-CALNAME:BeNourished
X-ORIGINAL-URL:https://jenniferkurdyla.com
X-WR-CALDESC:Events for BeNourished
REFRESH-INTERVAL;VALUE=DURATION:PT1H
X-Robots-Tag:noindex
X-PUBLISHED-TTL:PT1H
BEGIN:VTIMEZONE
TZID:America/New_York
BEGIN:DAYLIGHT
TZOFFSETFROM:-0500
TZOFFSETTO:-0400
TZNAME:EDT
DTSTART:20280312T070000
END:DAYLIGHT
BEGIN:STANDARD
TZOFFSETFROM:-0400
TZOFFSETTO:-0500
TZNAME:EST
DTSTART:20281105T060000
END:STANDARD
END:VTIMEZONE
BEGIN:VEVENT
DTSTART;TZID=America/New_York:20280109T171500
DTEND;TZID=America/New_York:20280109T181500
DTSTAMP:20260423T001026
CREATED:20240205T204129Z
LAST-MODIFIED:20240205T204130Z
UID:10001785-1831050900-1831054500@jenniferkurdyla.com
SUMMARY:Foundations of Yoga
DESCRIPTION:Register at Arise Yoga Brooklyn: https://www.arise.yoga/brooklyn-schedule
URL:https://jenniferkurdyla.com/event/foundations-of-yoga-2/2028-01-09/
LOCATION:Arise Yoga Brooklyn\, 730 Franklin Ave.\, Brooklyn\, NY
CATEGORIES:in-person yoga
GEO:40.6737017;-73.9571291
X-APPLE-STRUCTURED-LOCATION;VALUE=URI;X-ADDRESS=Arise Yoga Brooklyn 730 Franklin Ave. Brooklyn NY;X-APPLE-RADIUS=500;X-TITLE=730 Franklin Ave.:geo:-73.9571291,40.6737017
END:VEVENT
BEGIN:VEVENT
DTSTART;TZID=America/New_York:20280110T073000
DTEND;TZID=America/New_York:20280110T082000
DTSTAMP:20260423T001026
CREATED:20251007T200701Z
LAST-MODIFIED:20251007T200701Z
UID:10002377-1831102200-1831105200@jenniferkurdyla.com
SUMMARY:Mat Pilates
DESCRIPTION:
URL:https://jenniferkurdyla.com/event/mat-pilates-6/2028-01-10/
LOCATION:YogaSole\, 254 Windsor Place\, Brooklyn\, NY\, 11215\, United States
CATEGORIES:in-person Pilates
END:VEVENT
BEGIN:VEVENT
DTSTART;TZID=America/New_York:20280110T090000
DTEND;TZID=America/New_York:20280110T100000
DTSTAMP:20260423T001026
CREATED:20240917T234220Z
LAST-MODIFIED:20240917T234220Z
UID:10002638-1831107600-1831111200@jenniferkurdyla.com
SUMMARY:Strength: Flow Yoga
DESCRIPTION:
URL:https://jenniferkurdyla.com/event/strength-flow-yoga/2028-01-10/
LOCATION:YogaSole\, 254 Windsor Place\, Brooklyn\, NY\, 11215\, United States
CATEGORIES:in-person yoga
END:VEVENT
BEGIN:VEVENT
DTSTART;TZID=America/New_York:20280111T090000
DTEND;TZID=America/New_York:20280111T101500
DTSTAMP:20260423T001026
CREATED:20250930T183416Z
LAST-MODIFIED:20250930T183416Z
UID:10004722-1831194000-1831198500@jenniferkurdyla.com
SUMMARY:Every Body Yoga
DESCRIPTION:
URL:https://jenniferkurdyla.com/event/every-body-yoga/2028-01-11/
LOCATION:Brooklyn Artery\, Cortelyou Road 1004\, Brooklyn\, NY\, 11218\, United States
CATEGORIES:in-person yoga
GEO:40.6391752;-73.9684262
X-APPLE-STRUCTURED-LOCATION;VALUE=URI;X-ADDRESS=Brooklyn Artery Cortelyou Road 1004 Brooklyn NY 11218 United States;X-APPLE-RADIUS=500;X-TITLE=Cortelyou Road 1004:geo:-73.9684262,40.6391752
END:VEVENT
BEGIN:VEVENT
DTSTART;TZID=America/New_York:20280112T073000
DTEND;TZID=America/New_York:20280112T082000
DTSTAMP:20260423T001026
CREATED:20241210T191521Z
LAST-MODIFIED:20241210T191521Z
UID:10003658-1831275000-1831278000@jenniferkurdyla.com
SUMMARY:Mat Pilates
DESCRIPTION:
URL:https://jenniferkurdyla.com/event/mat-pilates-4/2028-01-12/
LOCATION:YogaSole\, 254 Windsor Place\, Brooklyn\, NY\, 11215\, United States
CATEGORIES:in-person Pilates
END:VEVENT
BEGIN:VEVENT
DTSTART;TZID=America/New_York:20280115T101500
DTEND;TZID=America/New_York:20280115T110000
DTSTAMP:20260423T001026
CREATED:20260226T014344Z
LAST-MODIFIED:20260226T014344Z
UID:10005223-1831544100-1831546800@jenniferkurdyla.com
SUMMARY:Mindful Strength
DESCRIPTION:
URL:https://jenniferkurdyla.com/event/mindful-strength-2-2/2028-01-15/
LOCATION:Brooklyn Flow\, 198 5th Ave.\, Brooklyn\, NY
CATEGORIES:in-person Pilates
GEO:40.6767893;-73.9805007
X-APPLE-STRUCTURED-LOCATION;VALUE=URI;X-ADDRESS=Brooklyn Flow 198 5th Ave. Brooklyn NY;X-APPLE-RADIUS=500;X-TITLE=198 5th Ave.:geo:-73.9805007,40.6767893
END:VEVENT
BEGIN:VEVENT
DTSTART;TZID=America/New_York:20280116T171500
DTEND;TZID=America/New_York:20280116T181500
DTSTAMP:20260423T001026
CREATED:20240205T204129Z
LAST-MODIFIED:20240205T204130Z
UID:10001786-1831655700-1831659300@jenniferkurdyla.com
SUMMARY:Foundations of Yoga
DESCRIPTION:Register at Arise Yoga Brooklyn: https://www.arise.yoga/brooklyn-schedule
URL:https://jenniferkurdyla.com/event/foundations-of-yoga-2/2028-01-16/
LOCATION:Arise Yoga Brooklyn\, 730 Franklin Ave.\, Brooklyn\, NY
CATEGORIES:in-person yoga
GEO:40.6737017;-73.9571291
X-APPLE-STRUCTURED-LOCATION;VALUE=URI;X-ADDRESS=Arise Yoga Brooklyn 730 Franklin Ave. Brooklyn NY;X-APPLE-RADIUS=500;X-TITLE=730 Franklin Ave.:geo:-73.9571291,40.6737017
END:VEVENT
BEGIN:VEVENT
DTSTART;TZID=America/New_York:20280117T073000
DTEND;TZID=America/New_York:20280117T082000
DTSTAMP:20260423T001026
CREATED:20251007T200701Z
LAST-MODIFIED:20251007T200701Z
UID:10002378-1831707000-1831710000@jenniferkurdyla.com
SUMMARY:Mat Pilates
DESCRIPTION:
URL:https://jenniferkurdyla.com/event/mat-pilates-6/2028-01-17/
LOCATION:YogaSole\, 254 Windsor Place\, Brooklyn\, NY\, 11215\, United States
CATEGORIES:in-person Pilates
END:VEVENT
BEGIN:VEVENT
DTSTART;TZID=America/New_York:20280117T090000
DTEND;TZID=America/New_York:20280117T100000
DTSTAMP:20260423T001026
CREATED:20240917T234220Z
LAST-MODIFIED:20240917T234220Z
UID:10002639-1831712400-1831716000@jenniferkurdyla.com
SUMMARY:Strength: Flow Yoga
DESCRIPTION:
URL:https://jenniferkurdyla.com/event/strength-flow-yoga/2028-01-17/
LOCATION:YogaSole\, 254 Windsor Place\, Brooklyn\, NY\, 11215\, United States
CATEGORIES:in-person yoga
END:VEVENT
BEGIN:VEVENT
DTSTART;TZID=America/New_York:20280118T090000
DTEND;TZID=America/New_York:20280118T101500
DTSTAMP:20260423T001026
CREATED:20250930T183416Z
LAST-MODIFIED:20250930T183416Z
UID:10004723-1831798800-1831803300@jenniferkurdyla.com
SUMMARY:Every Body Yoga
DESCRIPTION:
URL:https://jenniferkurdyla.com/event/every-body-yoga/2028-01-18/
LOCATION:Brooklyn Artery\, Cortelyou Road 1004\, Brooklyn\, NY\, 11218\, United States
CATEGORIES:in-person yoga
GEO:40.6391752;-73.9684262
X-APPLE-STRUCTURED-LOCATION;VALUE=URI;X-ADDRESS=Brooklyn Artery Cortelyou Road 1004 Brooklyn NY 11218 United States;X-APPLE-RADIUS=500;X-TITLE=Cortelyou Road 1004:geo:-73.9684262,40.6391752
END:VEVENT
BEGIN:VEVENT
DTSTART;TZID=America/New_York:20280119T073000
DTEND;TZID=America/New_York:20280119T082000
DTSTAMP:20260423T001026
CREATED:20241210T191521Z
LAST-MODIFIED:20241210T191521Z
UID:10003659-1831879800-1831882800@jenniferkurdyla.com
SUMMARY:Mat Pilates
DESCRIPTION:
URL:https://jenniferkurdyla.com/event/mat-pilates-4/2028-01-19/
LOCATION:YogaSole\, 254 Windsor Place\, Brooklyn\, NY\, 11215\, United States
CATEGORIES:in-person Pilates
END:VEVENT
BEGIN:VEVENT
DTSTART;TZID=America/New_York:20280122T101500
DTEND;TZID=America/New_York:20280122T110000
DTSTAMP:20260423T001026
CREATED:20260226T014344Z
LAST-MODIFIED:20260226T014344Z
UID:10005224-1832148900-1832151600@jenniferkurdyla.com
SUMMARY:Mindful Strength
DESCRIPTION:
URL:https://jenniferkurdyla.com/event/mindful-strength-2-2/2028-01-22/
LOCATION:Brooklyn Flow\, 198 5th Ave.\, Brooklyn\, NY
CATEGORIES:in-person Pilates
GEO:40.6767893;-73.9805007
X-APPLE-STRUCTURED-LOCATION;VALUE=URI;X-ADDRESS=Brooklyn Flow 198 5th Ave. Brooklyn NY;X-APPLE-RADIUS=500;X-TITLE=198 5th Ave.:geo:-73.9805007,40.6767893
END:VEVENT
BEGIN:VEVENT
DTSTART;TZID=America/New_York:20280123T171500
DTEND;TZID=America/New_York:20280123T181500
DTSTAMP:20260423T001026
CREATED:20240205T204129Z
LAST-MODIFIED:20240205T204130Z
UID:10001787-1832260500-1832264100@jenniferkurdyla.com
SUMMARY:Foundations of Yoga
DESCRIPTION:Register at Arise Yoga Brooklyn: https://www.arise.yoga/brooklyn-schedule
URL:https://jenniferkurdyla.com/event/foundations-of-yoga-2/2028-01-23/
LOCATION:Arise Yoga Brooklyn\, 730 Franklin Ave.\, Brooklyn\, NY
CATEGORIES:in-person yoga
GEO:40.6737017;-73.9571291
X-APPLE-STRUCTURED-LOCATION;VALUE=URI;X-ADDRESS=Arise Yoga Brooklyn 730 Franklin Ave. Brooklyn NY;X-APPLE-RADIUS=500;X-TITLE=730 Franklin Ave.:geo:-73.9571291,40.6737017
END:VEVENT
BEGIN:VEVENT
DTSTART;TZID=America/New_York:20280124T073000
DTEND;TZID=America/New_York:20280124T082000
DTSTAMP:20260423T001026
CREATED:20251007T200701Z
LAST-MODIFIED:20251007T200701Z
UID:10002379-1832311800-1832314800@jenniferkurdyla.com
SUMMARY:Mat Pilates
DESCRIPTION:
URL:https://jenniferkurdyla.com/event/mat-pilates-6/2028-01-24/
LOCATION:YogaSole\, 254 Windsor Place\, Brooklyn\, NY\, 11215\, United States
CATEGORIES:in-person Pilates
END:VEVENT
BEGIN:VEVENT
DTSTART;TZID=America/New_York:20280124T090000
DTEND;TZID=America/New_York:20280124T100000
DTSTAMP:20260423T001026
CREATED:20240917T234220Z
LAST-MODIFIED:20240917T234220Z
UID:10002640-1832317200-1832320800@jenniferkurdyla.com
SUMMARY:Strength: Flow Yoga
DESCRIPTION:
URL:https://jenniferkurdyla.com/event/strength-flow-yoga/2028-01-24/
LOCATION:YogaSole\, 254 Windsor Place\, Brooklyn\, NY\, 11215\, United States
CATEGORIES:in-person yoga
END:VEVENT
BEGIN:VEVENT
DTSTART;TZID=America/New_York:20280125T090000
DTEND;TZID=America/New_York:20280125T101500
DTSTAMP:20260423T001026
CREATED:20250930T183416Z
LAST-MODIFIED:20250930T183416Z
UID:10004724-1832403600-1832408100@jenniferkurdyla.com
SUMMARY:Every Body Yoga
DESCRIPTION:
URL:https://jenniferkurdyla.com/event/every-body-yoga/2028-01-25/
LOCATION:Brooklyn Artery\, Cortelyou Road 1004\, Brooklyn\, NY\, 11218\, United States
CATEGORIES:in-person yoga
GEO:40.6391752;-73.9684262
X-APPLE-STRUCTURED-LOCATION;VALUE=URI;X-ADDRESS=Brooklyn Artery Cortelyou Road 1004 Brooklyn NY 11218 United States;X-APPLE-RADIUS=500;X-TITLE=Cortelyou Road 1004:geo:-73.9684262,40.6391752
END:VEVENT
BEGIN:VEVENT
DTSTART;TZID=America/New_York:20280126T073000
DTEND;TZID=America/New_York:20280126T082000
DTSTAMP:20260423T001026
CREATED:20241210T191521Z
LAST-MODIFIED:20241210T191521Z
UID:10003660-1832484600-1832487600@jenniferkurdyla.com
SUMMARY:Mat Pilates
DESCRIPTION:
URL:https://jenniferkurdyla.com/event/mat-pilates-4/2028-01-26/
LOCATION:YogaSole\, 254 Windsor Place\, Brooklyn\, NY\, 11215\, United States
CATEGORIES:in-person Pilates
END:VEVENT
BEGIN:VEVENT
DTSTART;TZID=America/New_York:20280129T101500
DTEND;TZID=America/New_York:20280129T110000
DTSTAMP:20260423T001026
CREATED:20260226T014344Z
LAST-MODIFIED:20260226T014344Z
UID:10005225-1832753700-1832756400@jenniferkurdyla.com
SUMMARY:Mindful Strength
DESCRIPTION:
URL:https://jenniferkurdyla.com/event/mindful-strength-2-2/2028-01-29/
LOCATION:Brooklyn Flow\, 198 5th Ave.\, Brooklyn\, NY
CATEGORIES:in-person Pilates
GEO:40.6767893;-73.9805007
X-APPLE-STRUCTURED-LOCATION;VALUE=URI;X-ADDRESS=Brooklyn Flow 198 5th Ave. Brooklyn NY;X-APPLE-RADIUS=500;X-TITLE=198 5th Ave.:geo:-73.9805007,40.6767893
END:VEVENT
BEGIN:VEVENT
DTSTART;TZID=America/New_York:20280130T171500
DTEND;TZID=America/New_York:20280130T181500
DTSTAMP:20260423T001026
CREATED:20240205T204129Z
LAST-MODIFIED:20240205T204130Z
UID:10001788-1832865300-1832868900@jenniferkurdyla.com
SUMMARY:Foundations of Yoga
DESCRIPTION:Register at Arise Yoga Brooklyn: https://www.arise.yoga/brooklyn-schedule
URL:https://jenniferkurdyla.com/event/foundations-of-yoga-2/2028-01-30/
LOCATION:Arise Yoga Brooklyn\, 730 Franklin Ave.\, Brooklyn\, NY
CATEGORIES:in-person yoga
GEO:40.6737017;-73.9571291
X-APPLE-STRUCTURED-LOCATION;VALUE=URI;X-ADDRESS=Arise Yoga Brooklyn 730 Franklin Ave. Brooklyn NY;X-APPLE-RADIUS=500;X-TITLE=730 Franklin Ave.:geo:-73.9571291,40.6737017
END:VEVENT
BEGIN:VEVENT
DTSTART;TZID=America/New_York:20280131T073000
DTEND;TZID=America/New_York:20280131T082000
DTSTAMP:20260423T001026
CREATED:20251007T200701Z
LAST-MODIFIED:20251007T200701Z
UID:10002380-1832916600-1832919600@jenniferkurdyla.com
SUMMARY:Mat Pilates
DESCRIPTION:
URL:https://jenniferkurdyla.com/event/mat-pilates-6/2028-01-31/
LOCATION:YogaSole\, 254 Windsor Place\, Brooklyn\, NY\, 11215\, United States
CATEGORIES:in-person Pilates
END:VEVENT
BEGIN:VEVENT
DTSTART;TZID=America/New_York:20280131T090000
DTEND;TZID=America/New_York:20280131T100000
DTSTAMP:20260423T001026
CREATED:20240917T234220Z
LAST-MODIFIED:20240917T234220Z
UID:10002641-1832922000-1832925600@jenniferkurdyla.com
SUMMARY:Strength: Flow Yoga
DESCRIPTION:
URL:https://jenniferkurdyla.com/event/strength-flow-yoga/2028-01-31/
LOCATION:YogaSole\, 254 Windsor Place\, Brooklyn\, NY\, 11215\, United States
CATEGORIES:in-person yoga
END:VEVENT
BEGIN:VEVENT
DTSTART;TZID=America/New_York:20280201T090000
DTEND;TZID=America/New_York:20280201T101500
DTSTAMP:20260423T001026
CREATED:20250930T183416Z
LAST-MODIFIED:20250930T183416Z
UID:10004725-1833008400-1833012900@jenniferkurdyla.com
SUMMARY:Every Body Yoga
DESCRIPTION:
URL:https://jenniferkurdyla.com/event/every-body-yoga/2028-02-01/
LOCATION:Brooklyn Artery\, Cortelyou Road 1004\, Brooklyn\, NY\, 11218\, United States
CATEGORIES:in-person yoga
GEO:40.6391752;-73.9684262
X-APPLE-STRUCTURED-LOCATION;VALUE=URI;X-ADDRESS=Brooklyn Artery Cortelyou Road 1004 Brooklyn NY 11218 United States;X-APPLE-RADIUS=500;X-TITLE=Cortelyou Road 1004:geo:-73.9684262,40.6391752
END:VEVENT
BEGIN:VEVENT
DTSTART;TZID=America/New_York:20280202T073000
DTEND;TZID=America/New_York:20280202T082000
DTSTAMP:20260423T001026
CREATED:20241210T191521Z
LAST-MODIFIED:20241210T191521Z
UID:10003661-1833089400-1833092400@jenniferkurdyla.com
SUMMARY:Mat Pilates
DESCRIPTION:
URL:https://jenniferkurdyla.com/event/mat-pilates-4/2028-02-02/
LOCATION:YogaSole\, 254 Windsor Place\, Brooklyn\, NY\, 11215\, United States
CATEGORIES:in-person Pilates
END:VEVENT
BEGIN:VEVENT
DTSTART;TZID=America/New_York:20280205T101500
DTEND;TZID=America/New_York:20280205T110000
DTSTAMP:20260423T001026
CREATED:20260226T014344Z
LAST-MODIFIED:20260226T014344Z
UID:10005226-1833358500-1833361200@jenniferkurdyla.com
SUMMARY:Mindful Strength
DESCRIPTION:
URL:https://jenniferkurdyla.com/event/mindful-strength-2-2/2028-02-05/
LOCATION:Brooklyn Flow\, 198 5th Ave.\, Brooklyn\, NY
CATEGORIES:in-person Pilates
GEO:40.6767893;-73.9805007
X-APPLE-STRUCTURED-LOCATION;VALUE=URI;X-ADDRESS=Brooklyn Flow 198 5th Ave. Brooklyn NY;X-APPLE-RADIUS=500;X-TITLE=198 5th Ave.:geo:-73.9805007,40.6767893
END:VEVENT
BEGIN:VEVENT
DTSTART;TZID=America/New_York:20280206T171500
DTEND;TZID=America/New_York:20280206T181500
DTSTAMP:20260423T001026
CREATED:20240205T204129Z
LAST-MODIFIED:20240205T204130Z
UID:10001789-1833470100-1833473700@jenniferkurdyla.com
SUMMARY:Foundations of Yoga
DESCRIPTION:Register at Arise Yoga Brooklyn: https://www.arise.yoga/brooklyn-schedule
URL:https://jenniferkurdyla.com/event/foundations-of-yoga-2/2028-02-06/
LOCATION:Arise Yoga Brooklyn\, 730 Franklin Ave.\, Brooklyn\, NY
CATEGORIES:in-person yoga
GEO:40.6737017;-73.9571291
X-APPLE-STRUCTURED-LOCATION;VALUE=URI;X-ADDRESS=Arise Yoga Brooklyn 730 Franklin Ave. Brooklyn NY;X-APPLE-RADIUS=500;X-TITLE=730 Franklin Ave.:geo:-73.9571291,40.6737017
END:VEVENT
BEGIN:VEVENT
DTSTART;TZID=America/New_York:20280207T073000
DTEND;TZID=America/New_York:20280207T082000
DTSTAMP:20260423T001026
CREATED:20251007T200701Z
LAST-MODIFIED:20251007T200701Z
UID:10002381-1833521400-1833524400@jenniferkurdyla.com
SUMMARY:Mat Pilates
DESCRIPTION:
URL:https://jenniferkurdyla.com/event/mat-pilates-6/2028-02-07/
LOCATION:YogaSole\, 254 Windsor Place\, Brooklyn\, NY\, 11215\, United States
CATEGORIES:in-person Pilates
END:VEVENT
BEGIN:VEVENT
DTSTART;TZID=America/New_York:20280207T090000
DTEND;TZID=America/New_York:20280207T100000
DTSTAMP:20260423T001026
CREATED:20240917T234220Z
LAST-MODIFIED:20240917T234220Z
UID:10002642-1833526800-1833530400@jenniferkurdyla.com
SUMMARY:Strength: Flow Yoga
DESCRIPTION:
URL:https://jenniferkurdyla.com/event/strength-flow-yoga/2028-02-07/
LOCATION:YogaSole\, 254 Windsor Place\, Brooklyn\, NY\, 11215\, United States
CATEGORIES:in-person yoga
END:VEVENT
BEGIN:VEVENT
DTSTART;TZID=America/New_York:20280208T090000
DTEND;TZID=America/New_York:20280208T101500
DTSTAMP:20260423T001026
CREATED:20250930T183416Z
LAST-MODIFIED:20250930T183416Z
UID:10004726-1833613200-1833617700@jenniferkurdyla.com
SUMMARY:Every Body Yoga
DESCRIPTION:
URL:https://jenniferkurdyla.com/event/every-body-yoga/2028-02-08/
LOCATION:Brooklyn Artery\, Cortelyou Road 1004\, Brooklyn\, NY\, 11218\, United States
CATEGORIES:in-person yoga
GEO:40.6391752;-73.9684262
X-APPLE-STRUCTURED-LOCATION;VALUE=URI;X-ADDRESS=Brooklyn Artery Cortelyou Road 1004 Brooklyn NY 11218 United States;X-APPLE-RADIUS=500;X-TITLE=Cortelyou Road 1004:geo:-73.9684262,40.6391752
END:VEVENT
BEGIN:VEVENT
DTSTART;TZID=America/New_York:20280209T073000
DTEND;TZID=America/New_York:20280209T082000
DTSTAMP:20260423T001026
CREATED:20241210T191521Z
LAST-MODIFIED:20241210T191521Z
UID:10003662-1833694200-1833697200@jenniferkurdyla.com
SUMMARY:Mat Pilates
DESCRIPTION:
URL:https://jenniferkurdyla.com/event/mat-pilates-4/2028-02-09/
LOCATION:YogaSole\, 254 Windsor Place\, Brooklyn\, NY\, 11215\, United States
CATEGORIES:in-person Pilates
END:VEVENT
BEGIN:VEVENT
DTSTART;TZID=America/New_York:20280212T101500
DTEND;TZID=America/New_York:20280212T110000
DTSTAMP:20260423T001026
CREATED:20260226T014344Z
LAST-MODIFIED:20260226T014344Z
UID:10005227-1833963300-1833966000@jenniferkurdyla.com
SUMMARY:Mindful Strength
DESCRIPTION:
URL:https://jenniferkurdyla.com/event/mindful-strength-2-2/2028-02-12/
LOCATION:Brooklyn Flow\, 198 5th Ave.\, Brooklyn\, NY
CATEGORIES:in-person Pilates
GEO:40.6767893;-73.9805007
X-APPLE-STRUCTURED-LOCATION;VALUE=URI;X-ADDRESS=Brooklyn Flow 198 5th Ave. Brooklyn NY;X-APPLE-RADIUS=500;X-TITLE=198 5th Ave.:geo:-73.9805007,40.6767893
END:VEVENT
END:VCALENDAR