BEGIN:VCALENDAR
VERSION:2.0
PRODID:-//BeNourished - ECPv6.14.0//NONSGML v1.0//EN
CALSCALE:GREGORIAN
METHOD:PUBLISH
X-WR-CALNAME:BeNourished
X-ORIGINAL-URL:https://jenniferkurdyla.com
X-WR-CALDESC:Events for BeNourished
REFRESH-INTERVAL;VALUE=DURATION:PT1H
X-Robots-Tag:noindex
X-PUBLISHED-TTL:PT1H
BEGIN:VTIMEZONE
TZID:America/New_York
BEGIN:DAYLIGHT
TZOFFSETFROM:-0500
TZOFFSETTO:-0400
TZNAME:EDT
DTSTART:20270314T070000
END:DAYLIGHT
BEGIN:STANDARD
TZOFFSETFROM:-0400
TZOFFSETTO:-0500
TZNAME:EST
DTSTART:20271107T060000
END:STANDARD
END:VTIMEZONE
BEGIN:VEVENT
DTSTART;TZID=America/New_York:20270823T090000
DTEND;TZID=America/New_York:20270823T100000
DTSTAMP:20260422T150732
CREATED:20240917T234220Z
LAST-MODIFIED:20240917T234220Z
UID:10002618-1819011600-1819015200@jenniferkurdyla.com
SUMMARY:Strength: Flow Yoga
DESCRIPTION:
URL:https://jenniferkurdyla.com/event/strength-flow-yoga/2027-08-23/
LOCATION:YogaSole\, 254 Windsor Place\, Brooklyn\, NY\, 11215\, United States
CATEGORIES:in-person yoga
END:VEVENT
BEGIN:VEVENT
DTSTART;TZID=America/New_York:20270824T090000
DTEND;TZID=America/New_York:20270824T101500
DTSTAMP:20260422T150732
CREATED:20250930T183416Z
LAST-MODIFIED:20250930T183416Z
UID:10004702-1819098000-1819102500@jenniferkurdyla.com
SUMMARY:Every Body Yoga
DESCRIPTION:
URL:https://jenniferkurdyla.com/event/every-body-yoga/2027-08-24/
LOCATION:Brooklyn Artery\, Cortelyou Road 1004\, Brooklyn\, NY\, 11218\, United States
CATEGORIES:in-person yoga
GEO:40.6391752;-73.9684262
X-APPLE-STRUCTURED-LOCATION;VALUE=URI;X-ADDRESS=Brooklyn Artery Cortelyou Road 1004 Brooklyn NY 11218 United States;X-APPLE-RADIUS=500;X-TITLE=Cortelyou Road 1004:geo:-73.9684262,40.6391752
END:VEVENT
BEGIN:VEVENT
DTSTART;TZID=America/New_York:20270825T073000
DTEND;TZID=America/New_York:20270825T082000
DTSTAMP:20260422T150732
CREATED:20241210T191521Z
LAST-MODIFIED:20241210T191521Z
UID:10003638-1819179000-1819182000@jenniferkurdyla.com
SUMMARY:Mat Pilates
DESCRIPTION:
URL:https://jenniferkurdyla.com/event/mat-pilates-4/2027-08-25/
LOCATION:YogaSole\, 254 Windsor Place\, Brooklyn\, NY\, 11215\, United States
CATEGORIES:in-person Pilates
END:VEVENT
BEGIN:VEVENT
DTSTART;TZID=America/New_York:20270828T101500
DTEND;TZID=America/New_York:20270828T110000
DTSTAMP:20260422T150732
CREATED:20260226T014344Z
LAST-MODIFIED:20260226T014344Z
UID:10005203-1819448100-1819450800@jenniferkurdyla.com
SUMMARY:Mindful Strength
DESCRIPTION:
URL:https://jenniferkurdyla.com/event/mindful-strength-2-2/2027-08-28/
LOCATION:Brooklyn Flow\, 198 5th Ave.\, Brooklyn\, NY
CATEGORIES:in-person Pilates
GEO:40.6767893;-73.9805007
X-APPLE-STRUCTURED-LOCATION;VALUE=URI;X-ADDRESS=Brooklyn Flow 198 5th Ave. Brooklyn NY;X-APPLE-RADIUS=500;X-TITLE=198 5th Ave.:geo:-73.9805007,40.6767893
END:VEVENT
BEGIN:VEVENT
DTSTART;TZID=America/New_York:20270829T171500
DTEND;TZID=America/New_York:20270829T181500
DTSTAMP:20260422T150732
CREATED:20240205T204129Z
LAST-MODIFIED:20240205T204130Z
UID:10001766-1819559700-1819563300@jenniferkurdyla.com
SUMMARY:Foundations of Yoga
DESCRIPTION:Register at Arise Yoga Brooklyn: https://www.arise.yoga/brooklyn-schedule
URL:https://jenniferkurdyla.com/event/foundations-of-yoga-2/2027-08-29/
LOCATION:Arise Yoga Brooklyn\, 730 Franklin Ave.\, Brooklyn\, NY
CATEGORIES:in-person yoga
GEO:40.6737017;-73.9571291
X-APPLE-STRUCTURED-LOCATION;VALUE=URI;X-ADDRESS=Arise Yoga Brooklyn 730 Franklin Ave. Brooklyn NY;X-APPLE-RADIUS=500;X-TITLE=730 Franklin Ave.:geo:-73.9571291,40.6737017
END:VEVENT
BEGIN:VEVENT
DTSTART;TZID=America/New_York:20270830T073000
DTEND;TZID=America/New_York:20270830T082000
DTSTAMP:20260422T150732
CREATED:20251007T200701Z
LAST-MODIFIED:20251007T200701Z
UID:10002358-1819611000-1819614000@jenniferkurdyla.com
SUMMARY:Mat Pilates
DESCRIPTION:
URL:https://jenniferkurdyla.com/event/mat-pilates-6/2027-08-30/
LOCATION:YogaSole\, 254 Windsor Place\, Brooklyn\, NY\, 11215\, United States
CATEGORIES:in-person Pilates
END:VEVENT
BEGIN:VEVENT
DTSTART;TZID=America/New_York:20270830T090000
DTEND;TZID=America/New_York:20270830T100000
DTSTAMP:20260422T150732
CREATED:20240917T234220Z
LAST-MODIFIED:20240917T234220Z
UID:10002619-1819616400-1819620000@jenniferkurdyla.com
SUMMARY:Strength: Flow Yoga
DESCRIPTION:
URL:https://jenniferkurdyla.com/event/strength-flow-yoga/2027-08-30/
LOCATION:YogaSole\, 254 Windsor Place\, Brooklyn\, NY\, 11215\, United States
CATEGORIES:in-person yoga
END:VEVENT
BEGIN:VEVENT
DTSTART;TZID=America/New_York:20270831T090000
DTEND;TZID=America/New_York:20270831T101500
DTSTAMP:20260422T150732
CREATED:20250930T183416Z
LAST-MODIFIED:20250930T183416Z
UID:10004703-1819702800-1819707300@jenniferkurdyla.com
SUMMARY:Every Body Yoga
DESCRIPTION:
URL:https://jenniferkurdyla.com/event/every-body-yoga/2027-08-31/
LOCATION:Brooklyn Artery\, Cortelyou Road 1004\, Brooklyn\, NY\, 11218\, United States
CATEGORIES:in-person yoga
GEO:40.6391752;-73.9684262
X-APPLE-STRUCTURED-LOCATION;VALUE=URI;X-ADDRESS=Brooklyn Artery Cortelyou Road 1004 Brooklyn NY 11218 United States;X-APPLE-RADIUS=500;X-TITLE=Cortelyou Road 1004:geo:-73.9684262,40.6391752
END:VEVENT
BEGIN:VEVENT
DTSTART;TZID=America/New_York:20270901T073000
DTEND;TZID=America/New_York:20270901T082000
DTSTAMP:20260422T150732
CREATED:20241210T191521Z
LAST-MODIFIED:20241210T191521Z
UID:10003639-1819783800-1819786800@jenniferkurdyla.com
SUMMARY:Mat Pilates
DESCRIPTION:
URL:https://jenniferkurdyla.com/event/mat-pilates-4/2027-09-01/
LOCATION:YogaSole\, 254 Windsor Place\, Brooklyn\, NY\, 11215\, United States
CATEGORIES:in-person Pilates
END:VEVENT
BEGIN:VEVENT
DTSTART;TZID=America/New_York:20270904T101500
DTEND;TZID=America/New_York:20270904T110000
DTSTAMP:20260422T150732
CREATED:20260226T014344Z
LAST-MODIFIED:20260226T014344Z
UID:10005204-1820052900-1820055600@jenniferkurdyla.com
SUMMARY:Mindful Strength
DESCRIPTION:
URL:https://jenniferkurdyla.com/event/mindful-strength-2-2/2027-09-04/
LOCATION:Brooklyn Flow\, 198 5th Ave.\, Brooklyn\, NY
CATEGORIES:in-person Pilates
GEO:40.6767893;-73.9805007
X-APPLE-STRUCTURED-LOCATION;VALUE=URI;X-ADDRESS=Brooklyn Flow 198 5th Ave. Brooklyn NY;X-APPLE-RADIUS=500;X-TITLE=198 5th Ave.:geo:-73.9805007,40.6767893
END:VEVENT
BEGIN:VEVENT
DTSTART;TZID=America/New_York:20270905T171500
DTEND;TZID=America/New_York:20270905T181500
DTSTAMP:20260422T150732
CREATED:20240205T204129Z
LAST-MODIFIED:20240205T204130Z
UID:10001767-1820164500-1820168100@jenniferkurdyla.com
SUMMARY:Foundations of Yoga
DESCRIPTION:Register at Arise Yoga Brooklyn: https://www.arise.yoga/brooklyn-schedule
URL:https://jenniferkurdyla.com/event/foundations-of-yoga-2/2027-09-05/
LOCATION:Arise Yoga Brooklyn\, 730 Franklin Ave.\, Brooklyn\, NY
CATEGORIES:in-person yoga
GEO:40.6737017;-73.9571291
X-APPLE-STRUCTURED-LOCATION;VALUE=URI;X-ADDRESS=Arise Yoga Brooklyn 730 Franklin Ave. Brooklyn NY;X-APPLE-RADIUS=500;X-TITLE=730 Franklin Ave.:geo:-73.9571291,40.6737017
END:VEVENT
BEGIN:VEVENT
DTSTART;TZID=America/New_York:20270906T073000
DTEND;TZID=America/New_York:20270906T082000
DTSTAMP:20260422T150732
CREATED:20251007T200701Z
LAST-MODIFIED:20251007T200701Z
UID:10002359-1820215800-1820218800@jenniferkurdyla.com
SUMMARY:Mat Pilates
DESCRIPTION:
URL:https://jenniferkurdyla.com/event/mat-pilates-6/2027-09-06/
LOCATION:YogaSole\, 254 Windsor Place\, Brooklyn\, NY\, 11215\, United States
CATEGORIES:in-person Pilates
END:VEVENT
BEGIN:VEVENT
DTSTART;TZID=America/New_York:20270906T090000
DTEND;TZID=America/New_York:20270906T100000
DTSTAMP:20260422T150732
CREATED:20240917T234220Z
LAST-MODIFIED:20240917T234220Z
UID:10002620-1820221200-1820224800@jenniferkurdyla.com
SUMMARY:Strength: Flow Yoga
DESCRIPTION:
URL:https://jenniferkurdyla.com/event/strength-flow-yoga/2027-09-06/
LOCATION:YogaSole\, 254 Windsor Place\, Brooklyn\, NY\, 11215\, United States
CATEGORIES:in-person yoga
END:VEVENT
BEGIN:VEVENT
DTSTART;TZID=America/New_York:20270907T090000
DTEND;TZID=America/New_York:20270907T101500
DTSTAMP:20260422T150732
CREATED:20250930T183416Z
LAST-MODIFIED:20250930T183416Z
UID:10004704-1820307600-1820312100@jenniferkurdyla.com
SUMMARY:Every Body Yoga
DESCRIPTION:
URL:https://jenniferkurdyla.com/event/every-body-yoga/2027-09-07/
LOCATION:Brooklyn Artery\, Cortelyou Road 1004\, Brooklyn\, NY\, 11218\, United States
CATEGORIES:in-person yoga
GEO:40.6391752;-73.9684262
X-APPLE-STRUCTURED-LOCATION;VALUE=URI;X-ADDRESS=Brooklyn Artery Cortelyou Road 1004 Brooklyn NY 11218 United States;X-APPLE-RADIUS=500;X-TITLE=Cortelyou Road 1004:geo:-73.9684262,40.6391752
END:VEVENT
BEGIN:VEVENT
DTSTART;TZID=America/New_York:20270908T073000
DTEND;TZID=America/New_York:20270908T082000
DTSTAMP:20260422T150732
CREATED:20241210T191521Z
LAST-MODIFIED:20241210T191521Z
UID:10003640-1820388600-1820391600@jenniferkurdyla.com
SUMMARY:Mat Pilates
DESCRIPTION:
URL:https://jenniferkurdyla.com/event/mat-pilates-4/2027-09-08/
LOCATION:YogaSole\, 254 Windsor Place\, Brooklyn\, NY\, 11215\, United States
CATEGORIES:in-person Pilates
END:VEVENT
BEGIN:VEVENT
DTSTART;TZID=America/New_York:20270911T101500
DTEND;TZID=America/New_York:20270911T110000
DTSTAMP:20260422T150732
CREATED:20260226T014344Z
LAST-MODIFIED:20260226T014344Z
UID:10005205-1820657700-1820660400@jenniferkurdyla.com
SUMMARY:Mindful Strength
DESCRIPTION:
URL:https://jenniferkurdyla.com/event/mindful-strength-2-2/2027-09-11/
LOCATION:Brooklyn Flow\, 198 5th Ave.\, Brooklyn\, NY
CATEGORIES:in-person Pilates
GEO:40.6767893;-73.9805007
X-APPLE-STRUCTURED-LOCATION;VALUE=URI;X-ADDRESS=Brooklyn Flow 198 5th Ave. Brooklyn NY;X-APPLE-RADIUS=500;X-TITLE=198 5th Ave.:geo:-73.9805007,40.6767893
END:VEVENT
BEGIN:VEVENT
DTSTART;TZID=America/New_York:20270912T171500
DTEND;TZID=America/New_York:20270912T181500
DTSTAMP:20260422T150732
CREATED:20240205T204129Z
LAST-MODIFIED:20240205T204130Z
UID:10001768-1820769300-1820772900@jenniferkurdyla.com
SUMMARY:Foundations of Yoga
DESCRIPTION:Register at Arise Yoga Brooklyn: https://www.arise.yoga/brooklyn-schedule
URL:https://jenniferkurdyla.com/event/foundations-of-yoga-2/2027-09-12/
LOCATION:Arise Yoga Brooklyn\, 730 Franklin Ave.\, Brooklyn\, NY
CATEGORIES:in-person yoga
GEO:40.6737017;-73.9571291
X-APPLE-STRUCTURED-LOCATION;VALUE=URI;X-ADDRESS=Arise Yoga Brooklyn 730 Franklin Ave. Brooklyn NY;X-APPLE-RADIUS=500;X-TITLE=730 Franklin Ave.:geo:-73.9571291,40.6737017
END:VEVENT
BEGIN:VEVENT
DTSTART;TZID=America/New_York:20270913T073000
DTEND;TZID=America/New_York:20270913T082000
DTSTAMP:20260422T150732
CREATED:20251007T200701Z
LAST-MODIFIED:20251007T200701Z
UID:10002360-1820820600-1820823600@jenniferkurdyla.com
SUMMARY:Mat Pilates
DESCRIPTION:
URL:https://jenniferkurdyla.com/event/mat-pilates-6/2027-09-13/
LOCATION:YogaSole\, 254 Windsor Place\, Brooklyn\, NY\, 11215\, United States
CATEGORIES:in-person Pilates
END:VEVENT
BEGIN:VEVENT
DTSTART;TZID=America/New_York:20270913T090000
DTEND;TZID=America/New_York:20270913T100000
DTSTAMP:20260422T150732
CREATED:20240917T234220Z
LAST-MODIFIED:20240917T234220Z
UID:10002621-1820826000-1820829600@jenniferkurdyla.com
SUMMARY:Strength: Flow Yoga
DESCRIPTION:
URL:https://jenniferkurdyla.com/event/strength-flow-yoga/2027-09-13/
LOCATION:YogaSole\, 254 Windsor Place\, Brooklyn\, NY\, 11215\, United States
CATEGORIES:in-person yoga
END:VEVENT
BEGIN:VEVENT
DTSTART;TZID=America/New_York:20270914T090000
DTEND;TZID=America/New_York:20270914T101500
DTSTAMP:20260422T150732
CREATED:20250930T183416Z
LAST-MODIFIED:20250930T183416Z
UID:10004705-1820912400-1820916900@jenniferkurdyla.com
SUMMARY:Every Body Yoga
DESCRIPTION:
URL:https://jenniferkurdyla.com/event/every-body-yoga/2027-09-14/
LOCATION:Brooklyn Artery\, Cortelyou Road 1004\, Brooklyn\, NY\, 11218\, United States
CATEGORIES:in-person yoga
GEO:40.6391752;-73.9684262
X-APPLE-STRUCTURED-LOCATION;VALUE=URI;X-ADDRESS=Brooklyn Artery Cortelyou Road 1004 Brooklyn NY 11218 United States;X-APPLE-RADIUS=500;X-TITLE=Cortelyou Road 1004:geo:-73.9684262,40.6391752
END:VEVENT
BEGIN:VEVENT
DTSTART;TZID=America/New_York:20270915T073000
DTEND;TZID=America/New_York:20270915T082000
DTSTAMP:20260422T150732
CREATED:20241210T191521Z
LAST-MODIFIED:20241210T191521Z
UID:10003641-1820993400-1820996400@jenniferkurdyla.com
SUMMARY:Mat Pilates
DESCRIPTION:
URL:https://jenniferkurdyla.com/event/mat-pilates-4/2027-09-15/
LOCATION:YogaSole\, 254 Windsor Place\, Brooklyn\, NY\, 11215\, United States
CATEGORIES:in-person Pilates
END:VEVENT
BEGIN:VEVENT
DTSTART;TZID=America/New_York:20270918T101500
DTEND;TZID=America/New_York:20270918T110000
DTSTAMP:20260422T150732
CREATED:20260226T014344Z
LAST-MODIFIED:20260226T014344Z
UID:10005206-1821262500-1821265200@jenniferkurdyla.com
SUMMARY:Mindful Strength
DESCRIPTION:
URL:https://jenniferkurdyla.com/event/mindful-strength-2-2/2027-09-18/
LOCATION:Brooklyn Flow\, 198 5th Ave.\, Brooklyn\, NY
CATEGORIES:in-person Pilates
GEO:40.6767893;-73.9805007
X-APPLE-STRUCTURED-LOCATION;VALUE=URI;X-ADDRESS=Brooklyn Flow 198 5th Ave. Brooklyn NY;X-APPLE-RADIUS=500;X-TITLE=198 5th Ave.:geo:-73.9805007,40.6767893
END:VEVENT
BEGIN:VEVENT
DTSTART;TZID=America/New_York:20270919T171500
DTEND;TZID=America/New_York:20270919T181500
DTSTAMP:20260422T150732
CREATED:20240205T204129Z
LAST-MODIFIED:20240205T204130Z
UID:10001769-1821374100-1821377700@jenniferkurdyla.com
SUMMARY:Foundations of Yoga
DESCRIPTION:Register at Arise Yoga Brooklyn: https://www.arise.yoga/brooklyn-schedule
URL:https://jenniferkurdyla.com/event/foundations-of-yoga-2/2027-09-19/
LOCATION:Arise Yoga Brooklyn\, 730 Franklin Ave.\, Brooklyn\, NY
CATEGORIES:in-person yoga
GEO:40.6737017;-73.9571291
X-APPLE-STRUCTURED-LOCATION;VALUE=URI;X-ADDRESS=Arise Yoga Brooklyn 730 Franklin Ave. Brooklyn NY;X-APPLE-RADIUS=500;X-TITLE=730 Franklin Ave.:geo:-73.9571291,40.6737017
END:VEVENT
BEGIN:VEVENT
DTSTART;TZID=America/New_York:20270920T073000
DTEND;TZID=America/New_York:20270920T082000
DTSTAMP:20260422T150732
CREATED:20251007T200701Z
LAST-MODIFIED:20251007T200701Z
UID:10002361-1821425400-1821428400@jenniferkurdyla.com
SUMMARY:Mat Pilates
DESCRIPTION:
URL:https://jenniferkurdyla.com/event/mat-pilates-6/2027-09-20/
LOCATION:YogaSole\, 254 Windsor Place\, Brooklyn\, NY\, 11215\, United States
CATEGORIES:in-person Pilates
END:VEVENT
BEGIN:VEVENT
DTSTART;TZID=America/New_York:20270920T090000
DTEND;TZID=America/New_York:20270920T100000
DTSTAMP:20260422T150732
CREATED:20240917T234220Z
LAST-MODIFIED:20240917T234220Z
UID:10002622-1821430800-1821434400@jenniferkurdyla.com
SUMMARY:Strength: Flow Yoga
DESCRIPTION:
URL:https://jenniferkurdyla.com/event/strength-flow-yoga/2027-09-20/
LOCATION:YogaSole\, 254 Windsor Place\, Brooklyn\, NY\, 11215\, United States
CATEGORIES:in-person yoga
END:VEVENT
BEGIN:VEVENT
DTSTART;TZID=America/New_York:20270921T090000
DTEND;TZID=America/New_York:20270921T101500
DTSTAMP:20260422T150732
CREATED:20250930T183416Z
LAST-MODIFIED:20250930T183416Z
UID:10004706-1821517200-1821521700@jenniferkurdyla.com
SUMMARY:Every Body Yoga
DESCRIPTION:
URL:https://jenniferkurdyla.com/event/every-body-yoga/2027-09-21/
LOCATION:Brooklyn Artery\, Cortelyou Road 1004\, Brooklyn\, NY\, 11218\, United States
CATEGORIES:in-person yoga
GEO:40.6391752;-73.9684262
X-APPLE-STRUCTURED-LOCATION;VALUE=URI;X-ADDRESS=Brooklyn Artery Cortelyou Road 1004 Brooklyn NY 11218 United States;X-APPLE-RADIUS=500;X-TITLE=Cortelyou Road 1004:geo:-73.9684262,40.6391752
END:VEVENT
BEGIN:VEVENT
DTSTART;TZID=America/New_York:20270922T073000
DTEND;TZID=America/New_York:20270922T082000
DTSTAMP:20260422T150732
CREATED:20241210T191521Z
LAST-MODIFIED:20241210T191521Z
UID:10003642-1821598200-1821601200@jenniferkurdyla.com
SUMMARY:Mat Pilates
DESCRIPTION:
URL:https://jenniferkurdyla.com/event/mat-pilates-4/2027-09-22/
LOCATION:YogaSole\, 254 Windsor Place\, Brooklyn\, NY\, 11215\, United States
CATEGORIES:in-person Pilates
END:VEVENT
BEGIN:VEVENT
DTSTART;TZID=America/New_York:20270925T101500
DTEND;TZID=America/New_York:20270925T110000
DTSTAMP:20260422T150732
CREATED:20260226T014344Z
LAST-MODIFIED:20260226T014344Z
UID:10005207-1821867300-1821870000@jenniferkurdyla.com
SUMMARY:Mindful Strength
DESCRIPTION:
URL:https://jenniferkurdyla.com/event/mindful-strength-2-2/2027-09-25/
LOCATION:Brooklyn Flow\, 198 5th Ave.\, Brooklyn\, NY
CATEGORIES:in-person Pilates
GEO:40.6767893;-73.9805007
X-APPLE-STRUCTURED-LOCATION;VALUE=URI;X-ADDRESS=Brooklyn Flow 198 5th Ave. Brooklyn NY;X-APPLE-RADIUS=500;X-TITLE=198 5th Ave.:geo:-73.9805007,40.6767893
END:VEVENT
BEGIN:VEVENT
DTSTART;TZID=America/New_York:20270926T171500
DTEND;TZID=America/New_York:20270926T181500
DTSTAMP:20260422T150732
CREATED:20240205T204129Z
LAST-MODIFIED:20240205T204130Z
UID:10001770-1821978900-1821982500@jenniferkurdyla.com
SUMMARY:Foundations of Yoga
DESCRIPTION:Register at Arise Yoga Brooklyn: https://www.arise.yoga/brooklyn-schedule
URL:https://jenniferkurdyla.com/event/foundations-of-yoga-2/2027-09-26/
LOCATION:Arise Yoga Brooklyn\, 730 Franklin Ave.\, Brooklyn\, NY
CATEGORIES:in-person yoga
GEO:40.6737017;-73.9571291
X-APPLE-STRUCTURED-LOCATION;VALUE=URI;X-ADDRESS=Arise Yoga Brooklyn 730 Franklin Ave. Brooklyn NY;X-APPLE-RADIUS=500;X-TITLE=730 Franklin Ave.:geo:-73.9571291,40.6737017
END:VEVENT
BEGIN:VEVENT
DTSTART;TZID=America/New_York:20270927T073000
DTEND;TZID=America/New_York:20270927T082000
DTSTAMP:20260422T150732
CREATED:20251007T200701Z
LAST-MODIFIED:20251007T200701Z
UID:10002362-1822030200-1822033200@jenniferkurdyla.com
SUMMARY:Mat Pilates
DESCRIPTION:
URL:https://jenniferkurdyla.com/event/mat-pilates-6/2027-09-27/
LOCATION:YogaSole\, 254 Windsor Place\, Brooklyn\, NY\, 11215\, United States
CATEGORIES:in-person Pilates
END:VEVENT
END:VCALENDAR