BEGIN:VCALENDAR
VERSION:2.0
PRODID:-//BeNourished - ECPv6.14.0//NONSGML v1.0//EN
CALSCALE:GREGORIAN
METHOD:PUBLISH
X-ORIGINAL-URL:https://jenniferkurdyla.com
X-WR-CALDESC:Events for BeNourished
REFRESH-INTERVAL;VALUE=DURATION:PT1H
X-Robots-Tag:noindex
X-PUBLISHED-TTL:PT1H
BEGIN:VTIMEZONE
TZID:America/New_York
BEGIN:DAYLIGHT
TZOFFSETFROM:-0500
TZOFFSETTO:-0400
TZNAME:EDT
DTSTART:20250309T070000
END:DAYLIGHT
BEGIN:STANDARD
TZOFFSETFROM:-0400
TZOFFSETTO:-0500
TZNAME:EST
DTSTART:20251102T060000
END:STANDARD
END:VTIMEZONE
BEGIN:VEVENT
DTSTART;TZID=America/New_York:20250915T090000
DTEND;TZID=America/New_York:20250915T100000
DTSTAMP:20260421T135914
CREATED:20240917T234220Z
LAST-MODIFIED:20240917T234220Z
UID:10002517-1757926800-1757930400@jenniferkurdyla.com
SUMMARY:Strength: Flow Yoga
DESCRIPTION:
URL:https://jenniferkurdyla.com/event/strength-flow-yoga/2025-09-15/
LOCATION:YogaSole\, 254 Windsor Place\, Brooklyn\, NY\, 11215\, United States
CATEGORIES:in-person yoga
END:VEVENT
BEGIN:VEVENT
DTSTART;TZID=America/New_York:20250915T073000
DTEND;TZID=America/New_York:20250915T082000
DTSTAMP:20260421T135914
CREATED:20240917T234134Z
LAST-MODIFIED:20240917T234134Z
UID:10002256-1757921400-1757924400@jenniferkurdyla.com
SUMMARY:Mat Pilates
DESCRIPTION:
URL:https://jenniferkurdyla.com/event/mat-pilates/2025-09-15/
LOCATION:YogaSole\, 254 Windsor Place\, Brooklyn\, NY\, 11215\, United States
CATEGORIES:in-person yoga
END:VEVENT
BEGIN:VEVENT
DTSTART;TZID=America/New_York:20250914T171500
DTEND;TZID=America/New_York:20250914T181500
DTSTAMP:20260421T135914
CREATED:20240205T204129Z
LAST-MODIFIED:20240205T204130Z
UID:10001664-1757870100-1757873700@jenniferkurdyla.com
SUMMARY:Foundations of Yoga
DESCRIPTION:Register at Arise Yoga Brooklyn: https://www.arise.yoga/brooklyn-schedule
URL:https://jenniferkurdyla.com/event/foundations-of-yoga-2/2025-09-14/
LOCATION:Arise Yoga Brooklyn\, 730 Franklin Ave.\, Brooklyn\, NY
CATEGORIES:in-person yoga
GEO:40.6737017;-73.9571291
X-APPLE-STRUCTURED-LOCATION;VALUE=URI;X-ADDRESS=Arise Yoga Brooklyn 730 Franklin Ave. Brooklyn NY;X-APPLE-RADIUS=500;X-TITLE=730 Franklin Ave.:geo:-73.9571291,40.6737017
END:VEVENT
BEGIN:VEVENT
DTSTART;TZID=America/New_York:20250913T110000
DTEND;TZID=America/New_York:20250913T120000
DTSTAMP:20260421T135914
CREATED:20250624T133254Z
LAST-MODIFIED:20250624T133254Z
UID:10004092-1757761200-1757764800@jenniferkurdyla.com
SUMMARY:Mindful Strength
DESCRIPTION:
URL:https://jenniferkurdyla.com/event/mindful-strength/2025-09-13/
LOCATION:Brooklyn Flow\, 198 5th Ave.\, Brooklyn\, NY
CATEGORIES:in-person Pilates
GEO:40.6767893;-73.9805007
X-APPLE-STRUCTURED-LOCATION;VALUE=URI;X-ADDRESS=Brooklyn Flow 198 5th Ave. Brooklyn NY;X-APPLE-RADIUS=500;X-TITLE=198 5th Ave.:geo:-73.9805007,40.6767893
END:VEVENT
BEGIN:VEVENT
DTSTART;TZID=America/New_York:20250913T090000
DTEND;TZID=America/New_York:20250913T100000
DTSTAMP:20260421T135914
CREATED:20240917T234353Z
LAST-MODIFIED:20240917T234353Z
UID:10002774-1757754000-1757757600@jenniferkurdyla.com
SUMMARY:Mat Pilates
DESCRIPTION:
URL:https://jenniferkurdyla.com/event/mat-pilates-2/2025-09-13/
LOCATION:The Floor\, Atlantic Avenue\, Brooklyn\, NY\, 11201\, United States
CATEGORIES:in-person yoga
GEO:40.68808;-73.9886765
X-APPLE-STRUCTURED-LOCATION;VALUE=URI;X-ADDRESS=The Floor Atlantic Avenue Brooklyn NY 11201 United States;X-APPLE-RADIUS=500;X-TITLE=Atlantic Avenue:geo:-73.9886765,40.68808
END:VEVENT
BEGIN:VEVENT
DTSTART;TZID=America/New_York:20250911T120000
DTEND;TZID=America/New_York:20250911T125000
DTSTAMP:20260421T135914
CREATED:20250624T133454Z
LAST-MODIFIED:20250624T133455Z
UID:10004353-1757592000-1757595000@jenniferkurdyla.com
SUMMARY:Mat Pilates
DESCRIPTION:
URL:https://jenniferkurdyla.com/event/mat-pilates-5/2025-09-11/
LOCATION:YogaSole\, 254 Windsor Place\, Brooklyn\, NY\, 11215\, United States
CATEGORIES:in-person Pilates
END:VEVENT
BEGIN:VEVENT
DTSTART;TZID=America/New_York:20250910T073000
DTEND;TZID=America/New_York:20250910T082000
DTSTAMP:20260421T135914
CREATED:20241210T191521Z
LAST-MODIFIED:20241210T191521Z
UID:10003536-1757489400-1757492400@jenniferkurdyla.com
SUMMARY:Mat Pilates
DESCRIPTION:
URL:https://jenniferkurdyla.com/event/mat-pilates-4/2025-09-10/
LOCATION:YogaSole\, 254 Windsor Place\, Brooklyn\, NY\, 11215\, United States
CATEGORIES:in-person Pilates
END:VEVENT
BEGIN:VEVENT
DTSTART;TZID=America/New_York:20250908T090000
DTEND;TZID=America/New_York:20250908T100000
DTSTAMP:20260421T135914
CREATED:20240917T234220Z
LAST-MODIFIED:20240917T234220Z
UID:10002516-1757322000-1757325600@jenniferkurdyla.com
SUMMARY:Strength: Flow Yoga
DESCRIPTION:
URL:https://jenniferkurdyla.com/event/strength-flow-yoga/2025-09-08/
LOCATION:YogaSole\, 254 Windsor Place\, Brooklyn\, NY\, 11215\, United States
CATEGORIES:in-person yoga
END:VEVENT
BEGIN:VEVENT
DTSTART;TZID=America/New_York:20250908T073000
DTEND;TZID=America/New_York:20250908T082000
DTSTAMP:20260421T135914
CREATED:20240917T234134Z
LAST-MODIFIED:20240917T234134Z
UID:10002255-1757316600-1757319600@jenniferkurdyla.com
SUMMARY:Mat Pilates
DESCRIPTION:
URL:https://jenniferkurdyla.com/event/mat-pilates/2025-09-08/
LOCATION:YogaSole\, 254 Windsor Place\, Brooklyn\, NY\, 11215\, United States
CATEGORIES:in-person yoga
END:VEVENT
BEGIN:VEVENT
DTSTART;TZID=America/New_York:20250907T171500
DTEND;TZID=America/New_York:20250907T181500
DTSTAMP:20260421T135914
CREATED:20240205T204129Z
LAST-MODIFIED:20240205T204130Z
UID:10001663-1757265300-1757268900@jenniferkurdyla.com
SUMMARY:Foundations of Yoga
DESCRIPTION:Register at Arise Yoga Brooklyn: https://www.arise.yoga/brooklyn-schedule
URL:https://jenniferkurdyla.com/event/foundations-of-yoga-2/2025-09-07/
LOCATION:Arise Yoga Brooklyn\, 730 Franklin Ave.\, Brooklyn\, NY
CATEGORIES:in-person yoga
GEO:40.6737017;-73.9571291
X-APPLE-STRUCTURED-LOCATION;VALUE=URI;X-ADDRESS=Arise Yoga Brooklyn 730 Franklin Ave. Brooklyn NY;X-APPLE-RADIUS=500;X-TITLE=730 Franklin Ave.:geo:-73.9571291,40.6737017
END:VEVENT
BEGIN:VEVENT
DTSTART;TZID=America/New_York:20250906T110000
DTEND;TZID=America/New_York:20250906T120000
DTSTAMP:20260421T135914
CREATED:20250624T133254Z
LAST-MODIFIED:20250624T133254Z
UID:10004091-1757156400-1757160000@jenniferkurdyla.com
SUMMARY:Mindful Strength
DESCRIPTION:
URL:https://jenniferkurdyla.com/event/mindful-strength/2025-09-06/
LOCATION:Brooklyn Flow\, 198 5th Ave.\, Brooklyn\, NY
CATEGORIES:in-person Pilates
GEO:40.6767893;-73.9805007
X-APPLE-STRUCTURED-LOCATION;VALUE=URI;X-ADDRESS=Brooklyn Flow 198 5th Ave. Brooklyn NY;X-APPLE-RADIUS=500;X-TITLE=198 5th Ave.:geo:-73.9805007,40.6767893
END:VEVENT
BEGIN:VEVENT
DTSTART;TZID=America/New_York:20250906T090000
DTEND;TZID=America/New_York:20250906T100000
DTSTAMP:20260421T135914
CREATED:20240917T234353Z
LAST-MODIFIED:20240917T234353Z
UID:10002773-1757149200-1757152800@jenniferkurdyla.com
SUMMARY:Mat Pilates
DESCRIPTION:
URL:https://jenniferkurdyla.com/event/mat-pilates-2/2025-09-06/
LOCATION:The Floor\, Atlantic Avenue\, Brooklyn\, NY\, 11201\, United States
CATEGORIES:in-person yoga
GEO:40.68808;-73.9886765
X-APPLE-STRUCTURED-LOCATION;VALUE=URI;X-ADDRESS=The Floor Atlantic Avenue Brooklyn NY 11201 United States;X-APPLE-RADIUS=500;X-TITLE=Atlantic Avenue:geo:-73.9886765,40.68808
END:VEVENT
BEGIN:VEVENT
DTSTART;TZID=America/New_York:20250904T120000
DTEND;TZID=America/New_York:20250904T125000
DTSTAMP:20260421T135914
CREATED:20250624T133454Z
LAST-MODIFIED:20250624T133455Z
UID:10004352-1756987200-1756990200@jenniferkurdyla.com
SUMMARY:Mat Pilates
DESCRIPTION:
URL:https://jenniferkurdyla.com/event/mat-pilates-5/2025-09-04/
LOCATION:YogaSole\, 254 Windsor Place\, Brooklyn\, NY\, 11215\, United States
CATEGORIES:in-person Pilates
END:VEVENT
BEGIN:VEVENT
DTSTART;TZID=America/New_York:20250903T073000
DTEND;TZID=America/New_York:20250903T082000
DTSTAMP:20260421T135914
CREATED:20241210T191521Z
LAST-MODIFIED:20241210T191521Z
UID:10003535-1756884600-1756887600@jenniferkurdyla.com
SUMMARY:Mat Pilates
DESCRIPTION:
URL:https://jenniferkurdyla.com/event/mat-pilates-4/2025-09-03/
LOCATION:YogaSole\, 254 Windsor Place\, Brooklyn\, NY\, 11215\, United States
CATEGORIES:in-person Pilates
END:VEVENT
BEGIN:VEVENT
DTSTART;TZID=America/New_York:20250901T090000
DTEND;TZID=America/New_York:20250901T100000
DTSTAMP:20260421T135914
CREATED:20240917T234220Z
LAST-MODIFIED:20240917T234220Z
UID:10002515-1756717200-1756720800@jenniferkurdyla.com
SUMMARY:Strength: Flow Yoga
DESCRIPTION:
URL:https://jenniferkurdyla.com/event/strength-flow-yoga/2025-09-01/
LOCATION:YogaSole\, 254 Windsor Place\, Brooklyn\, NY\, 11215\, United States
CATEGORIES:in-person yoga
END:VEVENT
BEGIN:VEVENT
DTSTART;TZID=America/New_York:20250901T073000
DTEND;TZID=America/New_York:20250901T082000
DTSTAMP:20260421T135914
CREATED:20240917T234134Z
LAST-MODIFIED:20240917T234134Z
UID:10002254-1756711800-1756714800@jenniferkurdyla.com
SUMMARY:Mat Pilates
DESCRIPTION:
URL:https://jenniferkurdyla.com/event/mat-pilates/2025-09-01/
LOCATION:YogaSole\, 254 Windsor Place\, Brooklyn\, NY\, 11215\, United States
CATEGORIES:in-person yoga
END:VEVENT
BEGIN:VEVENT
DTSTART;TZID=America/New_York:20250831T171500
DTEND;TZID=America/New_York:20250831T181500
DTSTAMP:20260421T135914
CREATED:20240205T204129Z
LAST-MODIFIED:20240205T204130Z
UID:10001662-1756660500-1756664100@jenniferkurdyla.com
SUMMARY:Foundations of Yoga
DESCRIPTION:Register at Arise Yoga Brooklyn: https://www.arise.yoga/brooklyn-schedule
URL:https://jenniferkurdyla.com/event/foundations-of-yoga-2/2025-08-31/
LOCATION:Arise Yoga Brooklyn\, 730 Franklin Ave.\, Brooklyn\, NY
CATEGORIES:in-person yoga
GEO:40.6737017;-73.9571291
X-APPLE-STRUCTURED-LOCATION;VALUE=URI;X-ADDRESS=Arise Yoga Brooklyn 730 Franklin Ave. Brooklyn NY;X-APPLE-RADIUS=500;X-TITLE=730 Franklin Ave.:geo:-73.9571291,40.6737017
END:VEVENT
BEGIN:VEVENT
DTSTART;TZID=America/New_York:20250830T110000
DTEND;TZID=America/New_York:20250830T120000
DTSTAMP:20260421T135914
CREATED:20250624T133254Z
LAST-MODIFIED:20250624T133254Z
UID:10004090-1756551600-1756555200@jenniferkurdyla.com
SUMMARY:Mindful Strength
DESCRIPTION:
URL:https://jenniferkurdyla.com/event/mindful-strength/2025-08-30/
LOCATION:Brooklyn Flow\, 198 5th Ave.\, Brooklyn\, NY
CATEGORIES:in-person Pilates
GEO:40.6767893;-73.9805007
X-APPLE-STRUCTURED-LOCATION;VALUE=URI;X-ADDRESS=Brooklyn Flow 198 5th Ave. Brooklyn NY;X-APPLE-RADIUS=500;X-TITLE=198 5th Ave.:geo:-73.9805007,40.6767893
END:VEVENT
BEGIN:VEVENT
DTSTART;TZID=America/New_York:20250830T090000
DTEND;TZID=America/New_York:20250830T100000
DTSTAMP:20260421T135914
CREATED:20240917T234353Z
LAST-MODIFIED:20240917T234353Z
UID:10002772-1756544400-1756548000@jenniferkurdyla.com
SUMMARY:Mat Pilates
DESCRIPTION:
URL:https://jenniferkurdyla.com/event/mat-pilates-2/2025-08-30/
LOCATION:The Floor\, Atlantic Avenue\, Brooklyn\, NY\, 11201\, United States
CATEGORIES:in-person yoga
GEO:40.68808;-73.9886765
X-APPLE-STRUCTURED-LOCATION;VALUE=URI;X-ADDRESS=The Floor Atlantic Avenue Brooklyn NY 11201 United States;X-APPLE-RADIUS=500;X-TITLE=Atlantic Avenue:geo:-73.9886765,40.68808
END:VEVENT
BEGIN:VEVENT
DTSTART;TZID=America/New_York:20250828T120000
DTEND;TZID=America/New_York:20250828T125000
DTSTAMP:20260421T135914
CREATED:20250624T133454Z
LAST-MODIFIED:20250624T133455Z
UID:10004351-1756382400-1756385400@jenniferkurdyla.com
SUMMARY:Mat Pilates
DESCRIPTION:
URL:https://jenniferkurdyla.com/event/mat-pilates-5/2025-08-28/
LOCATION:YogaSole\, 254 Windsor Place\, Brooklyn\, NY\, 11215\, United States
CATEGORIES:in-person Pilates
END:VEVENT
BEGIN:VEVENT
DTSTART;TZID=America/New_York:20250827T073000
DTEND;TZID=America/New_York:20250827T082000
DTSTAMP:20260421T135914
CREATED:20241210T191521Z
LAST-MODIFIED:20241210T191521Z
UID:10003534-1756279800-1756282800@jenniferkurdyla.com
SUMMARY:Mat Pilates
DESCRIPTION:
URL:https://jenniferkurdyla.com/event/mat-pilates-4/2025-08-27/
LOCATION:YogaSole\, 254 Windsor Place\, Brooklyn\, NY\, 11215\, United States
CATEGORIES:in-person Pilates
END:VEVENT
BEGIN:VEVENT
DTSTART;TZID=America/New_York:20250825T090000
DTEND;TZID=America/New_York:20250825T100000
DTSTAMP:20260421T135914
CREATED:20240917T234220Z
LAST-MODIFIED:20240917T234220Z
UID:10002514-1756112400-1756116000@jenniferkurdyla.com
SUMMARY:Strength: Flow Yoga
DESCRIPTION:
URL:https://jenniferkurdyla.com/event/strength-flow-yoga/2025-08-25/
LOCATION:YogaSole\, 254 Windsor Place\, Brooklyn\, NY\, 11215\, United States
CATEGORIES:in-person yoga
END:VEVENT
BEGIN:VEVENT
DTSTART;TZID=America/New_York:20250825T073000
DTEND;TZID=America/New_York:20250825T082000
DTSTAMP:20260421T135914
CREATED:20240917T234134Z
LAST-MODIFIED:20240917T234134Z
UID:10002253-1756107000-1756110000@jenniferkurdyla.com
SUMMARY:Mat Pilates
DESCRIPTION:
URL:https://jenniferkurdyla.com/event/mat-pilates/2025-08-25/
LOCATION:YogaSole\, 254 Windsor Place\, Brooklyn\, NY\, 11215\, United States
CATEGORIES:in-person yoga
END:VEVENT
BEGIN:VEVENT
DTSTART;TZID=America/New_York:20250824T171500
DTEND;TZID=America/New_York:20250824T181500
DTSTAMP:20260421T135914
CREATED:20240205T204129Z
LAST-MODIFIED:20240205T204130Z
UID:10001661-1756055700-1756059300@jenniferkurdyla.com
SUMMARY:Foundations of Yoga
DESCRIPTION:Register at Arise Yoga Brooklyn: https://www.arise.yoga/brooklyn-schedule
URL:https://jenniferkurdyla.com/event/foundations-of-yoga-2/2025-08-24/
LOCATION:Arise Yoga Brooklyn\, 730 Franklin Ave.\, Brooklyn\, NY
CATEGORIES:in-person yoga
GEO:40.6737017;-73.9571291
X-APPLE-STRUCTURED-LOCATION;VALUE=URI;X-ADDRESS=Arise Yoga Brooklyn 730 Franklin Ave. Brooklyn NY;X-APPLE-RADIUS=500;X-TITLE=730 Franklin Ave.:geo:-73.9571291,40.6737017
END:VEVENT
BEGIN:VEVENT
DTSTART;TZID=America/New_York:20250823T110000
DTEND;TZID=America/New_York:20250823T120000
DTSTAMP:20260421T135914
CREATED:20250624T133254Z
LAST-MODIFIED:20250624T133254Z
UID:10004089-1755946800-1755950400@jenniferkurdyla.com
SUMMARY:Mindful Strength
DESCRIPTION:
URL:https://jenniferkurdyla.com/event/mindful-strength/2025-08-23/
LOCATION:Brooklyn Flow\, 198 5th Ave.\, Brooklyn\, NY
CATEGORIES:in-person Pilates
GEO:40.6767893;-73.9805007
X-APPLE-STRUCTURED-LOCATION;VALUE=URI;X-ADDRESS=Brooklyn Flow 198 5th Ave. Brooklyn NY;X-APPLE-RADIUS=500;X-TITLE=198 5th Ave.:geo:-73.9805007,40.6767893
END:VEVENT
BEGIN:VEVENT
DTSTART;TZID=America/New_York:20250823T090000
DTEND;TZID=America/New_York:20250823T100000
DTSTAMP:20260421T135914
CREATED:20240917T234353Z
LAST-MODIFIED:20240917T234353Z
UID:10002771-1755939600-1755943200@jenniferkurdyla.com
SUMMARY:Mat Pilates
DESCRIPTION:
URL:https://jenniferkurdyla.com/event/mat-pilates-2/2025-08-23/
LOCATION:The Floor\, Atlantic Avenue\, Brooklyn\, NY\, 11201\, United States
CATEGORIES:in-person yoga
GEO:40.68808;-73.9886765
X-APPLE-STRUCTURED-LOCATION;VALUE=URI;X-ADDRESS=The Floor Atlantic Avenue Brooklyn NY 11201 United States;X-APPLE-RADIUS=500;X-TITLE=Atlantic Avenue:geo:-73.9886765,40.68808
END:VEVENT
BEGIN:VEVENT
DTSTART;TZID=America/New_York:20250821T120000
DTEND;TZID=America/New_York:20250821T125000
DTSTAMP:20260421T135914
CREATED:20250624T133454Z
LAST-MODIFIED:20250624T133455Z
UID:10004350-1755777600-1755780600@jenniferkurdyla.com
SUMMARY:Mat Pilates
DESCRIPTION:
URL:https://jenniferkurdyla.com/event/mat-pilates-5/2025-08-21/
LOCATION:YogaSole\, 254 Windsor Place\, Brooklyn\, NY\, 11215\, United States
CATEGORIES:in-person Pilates
END:VEVENT
BEGIN:VEVENT
DTSTART;TZID=America/New_York:20250820T073000
DTEND;TZID=America/New_York:20250820T082000
DTSTAMP:20260421T135914
CREATED:20241210T191521Z
LAST-MODIFIED:20241210T191521Z
UID:10003533-1755675000-1755678000@jenniferkurdyla.com
SUMMARY:Mat Pilates
DESCRIPTION:
URL:https://jenniferkurdyla.com/event/mat-pilates-4/2025-08-20/
LOCATION:YogaSole\, 254 Windsor Place\, Brooklyn\, NY\, 11215\, United States
CATEGORIES:in-person Pilates
END:VEVENT
BEGIN:VEVENT
DTSTART;TZID=America/New_York:20250818T090000
DTEND;TZID=America/New_York:20250818T100000
DTSTAMP:20260421T135914
CREATED:20240917T234220Z
LAST-MODIFIED:20240917T234220Z
UID:10002513-1755507600-1755511200@jenniferkurdyla.com
SUMMARY:Strength: Flow Yoga
DESCRIPTION:
URL:https://jenniferkurdyla.com/event/strength-flow-yoga/2025-08-18/
LOCATION:YogaSole\, 254 Windsor Place\, Brooklyn\, NY\, 11215\, United States
CATEGORIES:in-person yoga
END:VEVENT
BEGIN:VEVENT
DTSTART;TZID=America/New_York:20250818T073000
DTEND;TZID=America/New_York:20250818T082000
DTSTAMP:20260421T135914
CREATED:20240917T234134Z
LAST-MODIFIED:20240917T234134Z
UID:10002252-1755502200-1755505200@jenniferkurdyla.com
SUMMARY:Mat Pilates
DESCRIPTION:
URL:https://jenniferkurdyla.com/event/mat-pilates/2025-08-18/
LOCATION:YogaSole\, 254 Windsor Place\, Brooklyn\, NY\, 11215\, United States
CATEGORIES:in-person yoga
END:VEVENT
END:VCALENDAR